BEGIN:VCALENDAR
VERSION:2.0
PRODID:-//RPOA Events Calendar - ECPv6.1.3//NONSGML v1.0//EN
CALSCALE:GREGORIAN
METHOD:PUBLISH
X-WR-CALNAME:RPOA Events Calendar
X-ORIGINAL-URL:https://rpoacal.external.pixelpopmarketing.com
X-WR-CALDESC:Events for RPOA Events Calendar
REFRESH-INTERVAL;VALUE=DURATION:PT1H
X-Robots-Tag:noindex
X-PUBLISHED-TTL:PT1H
BEGIN:VTIMEZONE
TZID:America/New_York
BEGIN:DAYLIGHT
TZOFFSETFROM:-0500
TZOFFSETTO:-0400
TZNAME:EDT
DTSTART:20210314T070000
END:DAYLIGHT
BEGIN:STANDARD
TZOFFSETFROM:-0400
TZOFFSETTO:-0500
TZNAME:EST
DTSTART:20211107T060000
END:STANDARD
END:VTIMEZONE
BEGIN:VEVENT
DTSTART;TZID=America/New_York:20210615T150000
DTEND;TZID=America/New_York:20210615T153000
DTSTAMP:20260422T185454
CREATED:20210527T235509Z
LAST-MODIFIED:20210610T205705Z
UID:336-1623769200-1623771000@rpoacal.external.pixelpopmarketing.com
SUMMARY:Live Role Play Webinar-"My friend pays a lot less than I do..."
DESCRIPTION:
URL:https://rpoacal.external.pixelpopmarketing.com/event/live-role-play-webinar-tbd-12/
ORGANIZER;CN="RPOA":MAILTO:amanda@insuranceroleplay.com
END:VEVENT
BEGIN:VEVENT
DTSTART;TZID=America/New_York:20210615T163000
DTEND;TZID=America/New_York:20210615T173000
DTSTAMP:20260422T185454
CREATED:20210528T000257Z
LAST-MODIFIED:20210528T000257Z
UID:356-1623774600-1623778200@rpoacal.external.pixelpopmarketing.com
SUMMARY:Live Q & A Zoom Session for Agency Owners
DESCRIPTION:RPOA gets emails and calls every day asking about the setup of our team\, which leads we work\, incentives\, promos\, hiring\, onboarding\, training\, coaching\, vendors\, the list goes on.  We absolutely love fielding these\, and are now going to be doing so in a live setting for agency owners where you can come on every week and ask whatever is on your mind! \nThese sessions will be every Tuesday after our regular show from 4:30-5:30 EST\, and will be open to all owners and managers. There will be no structured format to these virtual get togethers. Jeremy and Kristin will simply be on and ready to field any questions you may have.  This is YOUR time\, so whether you decide to come every week\, a couple of times a month\, or just when you have something you want to ask\, it’s all up to you! \n***Please email amanda@insuranceroleplay.com if you still need this private link
URL:https://rpoacal.external.pixelpopmarketing.com/event/live-q-a-zoom-session-for-agency-owners-16/
ORGANIZER;CN="RPOA":MAILTO:amanda@insuranceroleplay.com
END:VEVENT
BEGIN:VEVENT
DTSTART;TZID=America/New_York:20210618T150000
DTEND;TZID=America/New_York:20210618T153000
DTSTAMP:20260422T185454
CREATED:20210527T233433Z
LAST-MODIFIED:20210618T232110Z
UID:324-1624028400-1624030200@rpoacal.external.pixelpopmarketing.com
SUMMARY:RPOA Onboarding Session
DESCRIPTION:Welcome to the RPOA Family! \nHere’s what you can expect:\n– A brief intro to the company and how the program works\n– A virtual walk through of the platform and our online library\n– Best practices for faster results \n 
URL:https://rpoacal.external.pixelpopmarketing.com/event/rpoa-onboarding-session-29/
ORGANIZER;CN="RPOA":MAILTO:amanda@insuranceroleplay.com
END:VEVENT
BEGIN:VEVENT
DTSTART;TZID=America/New_York:20210621T120000
DTEND;TZID=America/New_York:20210621T123000
DTSTAMP:20260422T185454
CREATED:20210618T231250Z
LAST-MODIFIED:20210618T231333Z
UID:374-1624276800-1624278600@rpoacal.external.pixelpopmarketing.com
SUMMARY:RPOA Onboarding Session
DESCRIPTION:Welcome to the RPOA Family! \nHere’s what you can expect:\n– A brief intro to the company and how the program works\n– A virtual walk through of the platform and our online library\n– Best practices for faster results
URL:https://rpoacal.external.pixelpopmarketing.com/event/rpoa-onboarding-session-33/
ORGANIZER;CN="RPOA":MAILTO:amanda@insuranceroleplay.com
END:VEVENT
BEGIN:VEVENT
DTSTART;TZID=America/New_York:20210621T130000
DTEND;TZID=America/New_York:20210621T133000
DTSTAMP:20260422T185454
CREATED:20210619T000442Z
LAST-MODIFIED:20210619T000442Z
UID:413-1624280400-1624282200@rpoacal.external.pixelpopmarketing.com
SUMMARY:RPOA 101 Demo
DESCRIPTION:We’ll quickly walk through everything that RPOA includes and show you how it has been able to have such an impact in not only our own agencies\, but in hundreds of agencies across the country. This is a great place to ask any questions you may have and get details on how to sign up. \nCopy and paste this link into your browser to sign up for a Zoom demo today! \nhttps://insuranceroleplay.zoom.us/meeting/register/tJEtde2hrzwuGNwHxvy6qcCkJIOqX7AJCG49
URL:https://rpoacal.external.pixelpopmarketing.com/event/rpoa-101-demo-12/
ORGANIZER;CN="RPOA":MAILTO:amanda@insuranceroleplay.com
END:VEVENT
BEGIN:VEVENT
DTSTART;TZID=America/New_York:20210621T150000
DTEND;TZID=America/New_York:20210621T153000
DTSTAMP:20260422T185454
CREATED:20210527T233515Z
LAST-MODIFIED:20210618T231459Z
UID:326-1624287600-1624289400@rpoacal.external.pixelpopmarketing.com
SUMMARY:RPOA Onboarding Session
DESCRIPTION:Welcome to the RPOA Family! \nHere’s what you can expect:\n– A brief intro to the company and how the program works\n– A virtual walk through of the platform and our online library\n– Best practices for faster results
URL:https://rpoacal.external.pixelpopmarketing.com/event/rpoa-onboarding-session-30/
ORGANIZER;CN="RPOA":MAILTO:amanda@insuranceroleplay.com
END:VEVENT
BEGIN:VEVENT
DTSTART;TZID=America/New_York:20210622T120000
DTEND;TZID=America/New_York:20210622T123000
DTSTAMP:20260422T185454
CREATED:20210618T232258Z
LAST-MODIFIED:20210618T233019Z
UID:383-1624363200-1624365000@rpoacal.external.pixelpopmarketing.com
SUMMARY:RPOA Onboarding Session
DESCRIPTION:Welcome to the RPOA Family! \nHere’s what you can expect:\n– A brief intro to the company and how the program works\n– A virtual walk through of the platform and our online library\n– Best practices for faster results
URL:https://rpoacal.external.pixelpopmarketing.com/event/rpoa-onboarding-session-34/
ORGANIZER;CN="RPOA":MAILTO:amanda@insuranceroleplay.com
END:VEVENT
BEGIN:VEVENT
DTSTART;TZID=America/New_York:20210622T150000
DTEND;TZID=America/New_York:20210622T153000
DTSTAMP:20260422T185454
CREATED:20210527T235538Z
LAST-MODIFIED:20210618T003327Z
UID:338-1624374000-1624375800@rpoacal.external.pixelpopmarketing.com
SUMMARY:Live Role Play Webinar-"I Already Went with Someone Else..."
DESCRIPTION:Oh man\, this might be the call that makes us the most disappointed. We spent the time talking to a prospective customer and even set the appointment to close the sale.  When we make the call we are met with “I already went with someone else…” This week we will help you understand how to take this objection and shift it from being disappointed into an opportunity!
URL:https://rpoacal.external.pixelpopmarketing.com/event/live-role-play-webinar-tbd-13/
ORGANIZER;CN="RPOA":MAILTO:amanda@insuranceroleplay.com
END:VEVENT
BEGIN:VEVENT
DTSTART;TZID=America/New_York:20210622T163000
DTEND;TZID=America/New_York:20210622T173000
DTSTAMP:20260422T185454
CREATED:20210528T000326Z
LAST-MODIFIED:20210528T000326Z
UID:358-1624379400-1624383000@rpoacal.external.pixelpopmarketing.com
SUMMARY:Live Q & A Zoom Session for Agency Owners
DESCRIPTION:RPOA gets emails and calls every day asking about the setup of our team\, which leads we work\, incentives\, promos\, hiring\, onboarding\, training\, coaching\, vendors\, the list goes on.  We absolutely love fielding these\, and are now going to be doing so in a live setting for agency owners where you can come on every week and ask whatever is on your mind! \nThese sessions will be every Tuesday after our regular show from 4:30-5:30 EST\, and will be open to all owners and managers. There will be no structured format to these virtual get togethers. Jeremy and Kristin will simply be on and ready to field any questions you may have.  This is YOUR time\, so whether you decide to come every week\, a couple of times a month\, or just when you have something you want to ask\, it’s all up to you! \n***Please email amanda@insuranceroleplay.com if you still need this private link
URL:https://rpoacal.external.pixelpopmarketing.com/event/live-q-a-zoom-session-for-agency-owners-17/
ORGANIZER;CN="RPOA":MAILTO:amanda@insuranceroleplay.com
END:VEVENT
BEGIN:VEVENT
DTSTART;TZID=America/New_York:20210623T120000
DTEND;TZID=America/New_York:20210623T123000
DTSTAMP:20260422T185454
CREATED:20210618T232336Z
LAST-MODIFIED:20210618T233108Z
UID:385-1624449600-1624451400@rpoacal.external.pixelpopmarketing.com
SUMMARY:RPOA Onboarding Session
DESCRIPTION:Welcome to the RPOA Family! \nHere’s what you can expect:\n– A brief intro to the company and how the program works\n– A virtual walk through of the platform and our online library\n– Best practices for faster results
URL:https://rpoacal.external.pixelpopmarketing.com/event/rpoa-onboarding-session-35/
ORGANIZER;CN="RPOA":MAILTO:amanda@insuranceroleplay.com
END:VEVENT
BEGIN:VEVENT
DTSTART;TZID=America/New_York:20210623T130000
DTEND;TZID=America/New_York:20210623T133000
DTSTAMP:20260422T185454
CREATED:20210619T000541Z
LAST-MODIFIED:20210619T000541Z
UID:415-1624453200-1624455000@rpoacal.external.pixelpopmarketing.com
SUMMARY:RPOA 101 Demo
DESCRIPTION:We’ll quickly walk through everything that RPOA includes and show you how it has been able to have such an impact in not only our own agencies\, but in hundreds of agencies across the country. This is a great place to ask any questions you may have and get details on how to sign up. \nCopy and paste this link into your browser to sign up for a Zoom demo today! \nhttps://insuranceroleplay.zoom.us/meeting/register/tJEtde2hrzwuGNwHxvy6qcCkJIOqX7AJCG49
URL:https://rpoacal.external.pixelpopmarketing.com/event/rpoa-101-demo-13/
ORGANIZER;CN="RPOA":MAILTO:amanda@insuranceroleplay.com
END:VEVENT
BEGIN:VEVENT
DTSTART;TZID=America/New_York:20210623T150000
DTEND;TZID=America/New_York:20210623T153000
DTSTAMP:20260422T185454
CREATED:20210618T232426Z
LAST-MODIFIED:20210618T233201Z
UID:387-1624460400-1624462200@rpoacal.external.pixelpopmarketing.com
SUMMARY:RPOA Onboarding Session
DESCRIPTION:Welcome to the RPOA Family! \nHere’s what you can expect:\n– A brief intro to the company and how the program works\n– A virtual walk through of the platform and our online library\n– Best practices for faster results
URL:https://rpoacal.external.pixelpopmarketing.com/event/rpoa-onboarding-session-36/
ORGANIZER;CN="RPOA":MAILTO:amanda@insuranceroleplay.com
END:VEVENT
BEGIN:VEVENT
DTSTART;TZID=America/New_York:20210624T120000
DTEND;TZID=America/New_York:20210624T123000
DTSTAMP:20260422T185454
CREATED:20210618T232802Z
LAST-MODIFIED:20210618T233425Z
UID:390-1624536000-1624537800@rpoacal.external.pixelpopmarketing.com
SUMMARY:RPOA Onboarding Session
DESCRIPTION:Welcome to the RPOA Family! \nHere’s what you can expect:\n– A brief intro to the company and how the program works\n– A virtual walk through of the platform and our online library\n– Best practices for faster results
URL:https://rpoacal.external.pixelpopmarketing.com/event/rpoa-onboarding-session-37/
ORGANIZER;CN="RPOA":MAILTO:amanda@insuranceroleplay.com
END:VEVENT
BEGIN:VEVENT
DTSTART;TZID=America/New_York:20210624T130000
DTEND;TZID=America/New_York:20210624T133000
DTSTAMP:20260422T185454
CREATED:20210619T000931Z
LAST-MODIFIED:20210619T000931Z
UID:419-1624539600-1624541400@rpoacal.external.pixelpopmarketing.com
SUMMARY:RPOA 101 Demo
DESCRIPTION:We’ll quickly walk through everything that RPOA includes and show you how it has been able to have such an impact in not only our own agencies\, but in hundreds of agencies across the country. This is a great place to ask any questions you may have and get details on how to sign up. \nCopy and paste this link into your browser to sign up for a Zoom demo today! \nhttps://insuranceroleplay.zoom.us/meeting/register/tJEtde2hrzwuGNwHxvy6qcCkJIOqX7AJCG49
URL:https://rpoacal.external.pixelpopmarketing.com/event/rpoa-101-demo-15/
ORGANIZER;CN="RPOA":MAILTO:amanda@insuranceroleplay.com
END:VEVENT
BEGIN:VEVENT
DTSTART;TZID=America/New_York:20210625T120000
DTEND;TZID=America/New_York:20210625T123000
DTSTAMP:20260422T185454
CREATED:20210618T232908Z
LAST-MODIFIED:20210618T233449Z
UID:392-1624622400-1624624200@rpoacal.external.pixelpopmarketing.com
SUMMARY:RPOA Onboarding Session
DESCRIPTION:Welcome to the RPOA Family! \nHere’s what you can expect:\n– A brief intro to the company and how the program works\n– A virtual walk through of the platform and our online library\n– Best practices for faster results
URL:https://rpoacal.external.pixelpopmarketing.com/event/rpoa-onboarding-session-38/
ORGANIZER;CN="RPOA":MAILTO:amanda@insuranceroleplay.com
END:VEVENT
BEGIN:VEVENT
DTSTART;TZID=America/New_York:20210625T130000
DTEND;TZID=America/New_York:20210625T133000
DTSTAMP:20260422T185454
CREATED:20210619T000823Z
LAST-MODIFIED:20210619T000823Z
UID:417-1624626000-1624627800@rpoacal.external.pixelpopmarketing.com
SUMMARY:RPOA 101 Demo
DESCRIPTION:We’ll quickly walk through everything that RPOA includes and show you how it has been able to have such an impact in not only our own agencies\, but in hundreds of agencies across the country. This is a great place to ask any questions you may have and get details on how to sign up. \nCopy and paste this link into your browser to sign up for a Zoom demo today! \nhttps://insuranceroleplay.zoom.us/meeting/register/tJEtde2hrzwuGNwHxvy6qcCkJIOqX7AJCG49
URL:https://rpoacal.external.pixelpopmarketing.com/event/rpoa-101-demo-14/
ORGANIZER;CN="RPOA":MAILTO:amanda@insuranceroleplay.com
END:VEVENT
BEGIN:VEVENT
DTSTART;TZID=America/New_York:20210625T150000
DTEND;TZID=America/New_York:20210625T153000
DTSTAMP:20260422T185454
CREATED:20210527T233554Z
LAST-MODIFIED:20210618T231443Z
UID:328-1624633200-1624635000@rpoacal.external.pixelpopmarketing.com
SUMMARY:RPOA Onboarding Session
DESCRIPTION:Welcome to the RPOA Family! \nHere’s what you can expect:\n– A brief intro to the company and how the program works\n– A virtual walk through of the platform and our online library\n– Best practices for faster results
URL:https://rpoacal.external.pixelpopmarketing.com/event/rpoa-onboarding-session-31/
ORGANIZER;CN="RPOA":MAILTO:amanda@insuranceroleplay.com
END:VEVENT
BEGIN:VEVENT
DTSTART;TZID=America/New_York:20210628T120000
DTEND;TZID=America/New_York:20210628T123000
DTSTAMP:20260422T185454
CREATED:20210618T233346Z
LAST-MODIFIED:20210618T233346Z
UID:394-1624881600-1624883400@rpoacal.external.pixelpopmarketing.com
SUMMARY:RPOA Onboarding Session
DESCRIPTION:Welcome to the RPOA Family! \nHere’s what you can expect:\n– A brief intro to the company and how the program works\n– A virtual walk through of the platform and our online library\n– Best practices for faster results
URL:https://rpoacal.external.pixelpopmarketing.com/event/rpoa-onboarding-session-39/
ORGANIZER;CN="RPOA":MAILTO:amanda@insuranceroleplay.com
END:VEVENT
BEGIN:VEVENT
DTSTART;TZID=America/New_York:20210628T130000
DTEND;TZID=America/New_York:20210628T133000
DTSTAMP:20260422T185454
CREATED:20210619T001003Z
LAST-MODIFIED:20210619T001003Z
UID:421-1624885200-1624887000@rpoacal.external.pixelpopmarketing.com
SUMMARY:RPOA 101 Demo
DESCRIPTION:We’ll quickly walk through everything that RPOA includes and show you how it has been able to have such an impact in not only our own agencies\, but in hundreds of agencies across the country. This is a great place to ask any questions you may have and get details on how to sign up. \nCopy and paste this link into your browser to sign up for a Zoom demo today! \nhttps://insuranceroleplay.zoom.us/meeting/register/tJEtde2hrzwuGNwHxvy6qcCkJIOqX7AJCG49
URL:https://rpoacal.external.pixelpopmarketing.com/event/rpoa-101-demo-16/
ORGANIZER;CN="RPOA":MAILTO:amanda@insuranceroleplay.com
END:VEVENT
BEGIN:VEVENT
DTSTART;TZID=America/New_York:20210628T150000
DTEND;TZID=America/New_York:20210628T153000
DTSTAMP:20260422T185454
CREATED:20210527T233814Z
LAST-MODIFIED:20210618T231421Z
UID:330-1624892400-1624894200@rpoacal.external.pixelpopmarketing.com
SUMMARY:RPOA Onboarding Session
DESCRIPTION:Welcome to the RPOA Family! \nHere’s what you can expect:\n– A brief intro to the company and how the program works\n– A virtual walk through of the platform and our online library\n– Best practices for faster results
URL:https://rpoacal.external.pixelpopmarketing.com/event/rpoa-onboarding-session-32/
ORGANIZER;CN="RPOA":MAILTO:amanda@insuranceroleplay.com
END:VEVENT
BEGIN:VEVENT
DTSTART;TZID=America/New_York:20210629T120000
DTEND;TZID=America/New_York:20210629T123000
DTSTAMP:20260422T185454
CREATED:20210618T233649Z
LAST-MODIFIED:20210618T233649Z
UID:397-1624968000-1624969800@rpoacal.external.pixelpopmarketing.com
SUMMARY:RPOA Onboarding Session
DESCRIPTION:Welcome to the RPOA Family! \nHere’s what you can expect:\n– A brief intro to the company and how the program works\n– A virtual walk through of the platform and our online library\n– Best practices for faster results
URL:https://rpoacal.external.pixelpopmarketing.com/event/rpoa-onboarding-session-40/
ORGANIZER;CN="RPOA":MAILTO:amanda@insuranceroleplay.com
END:VEVENT
BEGIN:VEVENT
DTSTART;TZID=America/New_York:20210629T150000
DTEND;TZID=America/New_York:20210629T153000
DTSTAMP:20260422T185454
CREATED:20210527T235615Z
LAST-MODIFIED:20210622T233519Z
UID:340-1624978800-1624980600@rpoacal.external.pixelpopmarketing.com
SUMMARY:Live Role Play Webinar-New Producer Success Panel - "It's OK to write a lot of business in your first 6 months..."
DESCRIPTION:
URL:https://rpoacal.external.pixelpopmarketing.com/event/live-role-play-webinar-tbd-14/
ORGANIZER;CN="RPOA":MAILTO:amanda@insuranceroleplay.com
END:VEVENT
BEGIN:VEVENT
DTSTART;TZID=America/New_York:20210629T163000
DTEND;TZID=America/New_York:20210629T173000
DTSTAMP:20260422T185454
CREATED:20210528T000355Z
LAST-MODIFIED:20210528T000355Z
UID:360-1624984200-1624987800@rpoacal.external.pixelpopmarketing.com
SUMMARY:Live Q & A Zoom Session for Agency Owners
DESCRIPTION:RPOA gets emails and calls every day asking about the setup of our team\, which leads we work\, incentives\, promos\, hiring\, onboarding\, training\, coaching\, vendors\, the list goes on.  We absolutely love fielding these\, and are now going to be doing so in a live setting for agency owners where you can come on every week and ask whatever is on your mind! \nThese sessions will be every Tuesday after our regular show from 4:30-5:30 EST\, and will be open to all owners and managers. There will be no structured format to these virtual get togethers. Jeremy and Kristin will simply be on and ready to field any questions you may have.  This is YOUR time\, so whether you decide to come every week\, a couple of times a month\, or just when you have something you want to ask\, it’s all up to you! \n***Please email amanda@insuranceroleplay.com if you still need this private link
URL:https://rpoacal.external.pixelpopmarketing.com/event/live-q-a-zoom-session-for-agency-owners-18/
ORGANIZER;CN="RPOA":MAILTO:amanda@insuranceroleplay.com
END:VEVENT
BEGIN:VEVENT
DTSTART;TZID=America/New_York:20210630T120000
DTEND;TZID=America/New_York:20210630T123000
DTSTAMP:20260422T185454
CREATED:20210618T233802Z
LAST-MODIFIED:20210618T233802Z
UID:399-1625054400-1625056200@rpoacal.external.pixelpopmarketing.com
SUMMARY:RPOA Onboarding Session
DESCRIPTION:Welcome to the RPOA Family! \nHere’s what you can expect:\n– A brief intro to the company and how the program works\n– A virtual walk through of the platform and our online library\n– Best practices for faster results
URL:https://rpoacal.external.pixelpopmarketing.com/event/rpoa-onboarding-session-41/
ORGANIZER;CN="RPOA":MAILTO:amanda@insuranceroleplay.com
END:VEVENT
BEGIN:VEVENT
DTSTART;TZID=America/New_York:20210630T130000
DTEND;TZID=America/New_York:20210630T133000
DTSTAMP:20260422T185454
CREATED:20210619T001036Z
LAST-MODIFIED:20210619T001059Z
UID:423-1625058000-1625059800@rpoacal.external.pixelpopmarketing.com
SUMMARY:RPOA 101 Demo
DESCRIPTION:We’ll quickly walk through everything that RPOA includes and show you how it has been able to have such an impact in not only our own agencies\, but in hundreds of agencies across the country. This is a great place to ask any questions you may have and get details on how to sign up. \nCopy and paste this link into your browser to sign up for a Zoom demo today! \nhttps://insuranceroleplay.zoom.us/meeting/register/tJEtde2hrzwuGNwHxvy6qcCkJIOqX7AJCG49
URL:https://rpoacal.external.pixelpopmarketing.com/event/rpoa-101-demo-17/
ORGANIZER;CN="RPOA":MAILTO:amanda@insuranceroleplay.com
END:VEVENT
BEGIN:VEVENT
DTSTART;TZID=America/New_York:20210630T150000
DTEND;TZID=America/New_York:20210630T153000
DTSTAMP:20260422T185454
CREATED:20210618T233900Z
LAST-MODIFIED:20210618T233900Z
UID:401-1625065200-1625067000@rpoacal.external.pixelpopmarketing.com
SUMMARY:RPOA Onboarding Session
DESCRIPTION:Welcome to the RPOA Family! \nHere’s what you can expect:\n– A brief intro to the company and how the program works\n– A virtual walk through of the platform and our online library\n– Best practices for faster results
URL:https://rpoacal.external.pixelpopmarketing.com/event/rpoa-onboarding-session-42/
ORGANIZER;CN="RPOA":MAILTO:amanda@insuranceroleplay.com
END:VEVENT
BEGIN:VEVENT
DTSTART;TZID=America/New_York:20210701T120000
DTEND;TZID=America/New_York:20210701T123000
DTSTAMP:20260422T185454
CREATED:20210618T234608Z
LAST-MODIFIED:20210618T234608Z
UID:403-1625140800-1625142600@rpoacal.external.pixelpopmarketing.com
SUMMARY:RPOA Onboarding Session
DESCRIPTION:Welcome to the RPOA Family! \nHere’s what you can expect:\n– A brief intro to the company and how the program works\n– A virtual walk through of the platform and our online library\n– Best practices for faster results
URL:https://rpoacal.external.pixelpopmarketing.com/event/rpoa-onboarding-session-43/
ORGANIZER;CN="RPOA":MAILTO:amanda@insuranceroleplay.com
END:VEVENT
BEGIN:VEVENT
DTSTART;TZID=America/New_York:20210701T130000
DTEND;TZID=America/New_York:20210701T133000
DTSTAMP:20260422T185454
CREATED:20210619T001207Z
LAST-MODIFIED:20210619T001207Z
UID:425-1625144400-1625146200@rpoacal.external.pixelpopmarketing.com
SUMMARY:RPOA 101 Demo
DESCRIPTION:We’ll quickly walk through everything that RPOA includes and show you how it has been able to have such an impact in not only our own agencies\, but in hundreds of agencies across the country. This is a great place to ask any questions you may have and get details on how to sign up. \nCopy and paste this link into your browser to sign up for a Zoom demo today! \nhttps://insuranceroleplay.zoom.us/meeting/register/tJEtde2hrzwuGNwHxvy6qcCkJIOqX7AJCG49
URL:https://rpoacal.external.pixelpopmarketing.com/event/rpoa-101-demo-18/
ORGANIZER;CN="RPOA":MAILTO:amanda@insuranceroleplay.com
END:VEVENT
BEGIN:VEVENT
DTSTART;TZID=America/New_York:20210701T150000
DTEND;TZID=America/New_York:20210701T153000
DTSTAMP:20260422T185454
CREATED:20210618T234702Z
LAST-MODIFIED:20210618T234702Z
UID:405-1625151600-1625153400@rpoacal.external.pixelpopmarketing.com
SUMMARY:RPOA Onboarding Session
DESCRIPTION:Welcome to the RPOA Family! \nHere’s what you can expect:\n– A brief intro to the company and how the program works\n– A virtual walk through of the platform and our online library\n– Best practices for faster results
URL:https://rpoacal.external.pixelpopmarketing.com/event/rpoa-onboarding-session-44/
ORGANIZER;CN="RPOA":MAILTO:amanda@insuranceroleplay.com
END:VEVENT
BEGIN:VEVENT
DTSTART;TZID=America/New_York:20210702T120000
DTEND;TZID=America/New_York:20210702T123000
DTSTAMP:20260422T185454
CREATED:20210618T234804Z
LAST-MODIFIED:20210618T234804Z
UID:407-1625227200-1625229000@rpoacal.external.pixelpopmarketing.com
SUMMARY:RPOA Onboarding Session
DESCRIPTION:Welcome to the RPOA Family! \nHere’s what you can expect:\n– A brief intro to the company and how the program works\n– A virtual walk through of the platform and our online library\n– Best practices for faster results
URL:https://rpoacal.external.pixelpopmarketing.com/event/rpoa-onboarding-session-45/
ORGANIZER;CN="RPOA":MAILTO:amanda@insuranceroleplay.com
END:VEVENT
END:VCALENDAR