BEGIN:VCALENDAR
VERSION:2.0
PRODID:-//RPOA Events Calendar - ECPv6.1.3//NONSGML v1.0//EN
CALSCALE:GREGORIAN
METHOD:PUBLISH
X-WR-CALNAME:RPOA Events Calendar
X-ORIGINAL-URL:https://rpoacal.external.pixelpopmarketing.com
X-WR-CALDESC:Events for RPOA Events Calendar
REFRESH-INTERVAL;VALUE=DURATION:PT1H
X-Robots-Tag:noindex
X-PUBLISHED-TTL:PT1H
BEGIN:VTIMEZONE
TZID:America/New_York
BEGIN:DAYLIGHT
TZOFFSETFROM:-0500
TZOFFSETTO:-0400
TZNAME:EDT
DTSTART:20210314T070000
END:DAYLIGHT
BEGIN:STANDARD
TZOFFSETFROM:-0400
TZOFFSETTO:-0500
TZNAME:EST
DTSTART:20211107T060000
END:STANDARD
END:VTIMEZONE
BEGIN:VEVENT
DTSTART;TZID=America/New_York:20210804T130000
DTEND;TZID=America/New_York:20210804T133000
DTSTAMP:20260421T221248
CREATED:20210729T192516Z
LAST-MODIFIED:20210729T192516Z
UID:572-1628082000-1628083800@rpoacal.external.pixelpopmarketing.com
SUMMARY:RPOA 101 Demo
DESCRIPTION:We’ll quickly walk through everything that RPOA includes and show you how it has been able to have such an impact in not only our own agencies\, but in hundreds of agencies across the country. This is a great place to ask any questions you may have and get details on how to sign up. \nCopy and paste this link into your browser to sign up for a Zoom demo today! \nhttps://insuranceroleplay.zoom.us/meeting/register/tJEtde2hrzwuGNwHxvy6qcCkJIOqX7AJCG49
URL:https://rpoacal.external.pixelpopmarketing.com/event/rpoa-101-demo-36/
ORGANIZER;CN="RPOA":MAILTO:amanda@insuranceroleplay.com
END:VEVENT
BEGIN:VEVENT
DTSTART;TZID=America/New_York:20210805T120000
DTEND;TZID=America/New_York:20210805T123000
DTSTAMP:20260421T221248
CREATED:20210729T191114Z
LAST-MODIFIED:20210801T033154Z
UID:552-1628164800-1628166600@rpoacal.external.pixelpopmarketing.com
SUMMARY:RPOA Onboarding Session
DESCRIPTION:Welcome to the RPOA Family! \nHere’s what you can expect:\n– A brief intro to the company and how the program works\n– A virtual walk through of the platform and our online library\n– Best practices for faster results
URL:https://rpoacal.external.pixelpopmarketing.com/event/rpoa-onboarding-session-68/
ORGANIZER;CN="RPOA":MAILTO:amanda@insuranceroleplay.com
END:VEVENT
BEGIN:VEVENT
DTSTART;TZID=America/New_York:20210805T130000
DTEND;TZID=America/New_York:20210805T133000
DTSTAMP:20260421T221248
CREATED:20210729T192600Z
LAST-MODIFIED:20210729T192600Z
UID:574-1628168400-1628170200@rpoacal.external.pixelpopmarketing.com
SUMMARY:RPOA 101 Demo
DESCRIPTION:We’ll quickly walk through everything that RPOA includes and show you how it has been able to have such an impact in not only our own agencies\, but in hundreds of agencies across the country. This is a great place to ask any questions you may have and get details on how to sign up. \nCopy and paste this link into your browser to sign up for a Zoom demo today! \nhttps://insuranceroleplay.zoom.us/meeting/register/tJEtde2hrzwuGNwHxvy6qcCkJIOqX7AJCG49
URL:https://rpoacal.external.pixelpopmarketing.com/event/rpoa-101-demo-37/
ORGANIZER;CN="RPOA":MAILTO:amanda@insuranceroleplay.com
END:VEVENT
BEGIN:VEVENT
DTSTART;TZID=America/New_York:20210806T130000
DTEND;TZID=America/New_York:20210806T133000
DTSTAMP:20260421T221248
CREATED:20210729T192632Z
LAST-MODIFIED:20210729T192632Z
UID:576-1628254800-1628256600@rpoacal.external.pixelpopmarketing.com
SUMMARY:RPOA 101 Demo
DESCRIPTION:We’ll quickly walk through everything that RPOA includes and show you how it has been able to have such an impact in not only our own agencies\, but in hundreds of agencies across the country. This is a great place to ask any questions you may have and get details on how to sign up. \nCopy and paste this link into your browser to sign up for a Zoom demo today! \nhttps://insuranceroleplay.zoom.us/meeting/register/tJEtde2hrzwuGNwHxvy6qcCkJIOqX7AJCG49
URL:https://rpoacal.external.pixelpopmarketing.com/event/rpoa-101-demo-38/
ORGANIZER;CN="RPOA":MAILTO:amanda@insuranceroleplay.com
END:VEVENT
BEGIN:VEVENT
DTSTART;TZID=America/New_York:20210806T150000
DTEND;TZID=America/New_York:20210806T153000
DTSTAMP:20260421T221248
CREATED:20210729T191159Z
LAST-MODIFIED:20210801T033037Z
UID:554-1628262000-1628263800@rpoacal.external.pixelpopmarketing.com
SUMMARY:RPOA Onboarding Session
DESCRIPTION:Welcome to the RPOA Family! \nHere’s what you can expect:\n– A brief intro to the company and how the program works\n– A virtual walk through of the platform and our online library\n– Best practices for faster results
URL:https://rpoacal.external.pixelpopmarketing.com/event/rpoa-onboarding-session-69/
ORGANIZER;CN="RPOA":MAILTO:amanda@insuranceroleplay.com
END:VEVENT
BEGIN:VEVENT
DTSTART;TZID=America/New_York:20210809T130000
DTEND;TZID=America/New_York:20210809T133000
DTSTAMP:20260421T221248
CREATED:20210729T192824Z
LAST-MODIFIED:20210729T192824Z
UID:578-1628514000-1628515800@rpoacal.external.pixelpopmarketing.com
SUMMARY:RPOA 101 Demo
DESCRIPTION:We’ll quickly walk through everything that RPOA includes and show you how it has been able to have such an impact in not only our own agencies\, but in hundreds of agencies across the country. This is a great place to ask any questions you may have and get details on how to sign up. \nCopy and paste this link into your browser to sign up for a Zoom demo today! \nhttps://insuranceroleplay.zoom.us/meeting/register/tJEtde2hrzwuGNwHxvy6qcCkJIOqX7AJCG49
URL:https://rpoacal.external.pixelpopmarketing.com/event/rpoa-101-demo-39/
ORGANIZER;CN="RPOA":MAILTO:amanda@insuranceroleplay.com
END:VEVENT
BEGIN:VEVENT
DTSTART;TZID=America/New_York:20210809T150000
DTEND;TZID=America/New_York:20210809T153000
DTSTAMP:20260421T221248
CREATED:20210801T032913Z
LAST-MODIFIED:20210801T032913Z
UID:599-1628521200-1628523000@rpoacal.external.pixelpopmarketing.com
SUMMARY:RPOA Onboarding Session
DESCRIPTION:Welcome to the RPOA Family! \nHere’s what you can expect:\n– A brief intro to the company and how the program works\n– A virtual walk through of the platform and our online library\n– Best practices for faster results
URL:https://rpoacal.external.pixelpopmarketing.com/event/rpoa-onboarding-session-70/
ORGANIZER;CN="RPOA":MAILTO:amanda@insuranceroleplay.com
END:VEVENT
BEGIN:VEVENT
DTSTART;TZID=America/New_York:20210810T120000
DTEND;TZID=America/New_York:20210810T123000
DTSTAMP:20260421T221248
CREATED:20210812T164758Z
LAST-MODIFIED:20210812T164758Z
UID:640-1628596800-1628598600@rpoacal.external.pixelpopmarketing.com
SUMMARY:RPOA Onboarding Session
DESCRIPTION:Welcome to the RPOA Family! \nHere’s what you can expect:\n– A brief intro to the company and how the program works\n– A virtual walk through of the platform and our online library\n– Best practices for faster results
URL:https://rpoacal.external.pixelpopmarketing.com/event/rpoa-onboarding-session-duplicate-1-4/
ORGANIZER;CN="RPOA":MAILTO:amanda@insuranceroleplay.com
END:VEVENT
BEGIN:VEVENT
DTSTART;TZID=America/New_York:20210810T150000
DTEND;TZID=America/New_York:20210810T153000
DTSTAMP:20260421T221248
CREATED:20210728T000648Z
LAST-MODIFIED:20210809T195257Z
UID:532-1628607600-1628609400@rpoacal.external.pixelpopmarketing.com
SUMMARY:Live Role Play Webinar-The Flow of a Home Quote
DESCRIPTION:There is nothing more important than the way we present a quote\,  or “the flow” of the conversation.  Because there are so many pieces to home insurance policies\, a lot of times we have heard prospects being confused during this presentation and not fully understanding what they are buying.  In this episode we will share a very simple process that has worked great in our agency – a process that focuses on narrowing it down to 3 key areas of the home policy\, but also providing that thorough education that prospects expect. 
URL:https://rpoacal.external.pixelpopmarketing.com/event/live-role-play-webinar-tbd-19/
ORGANIZER;CN="RPOA":MAILTO:amanda@insuranceroleplay.com
END:VEVENT
BEGIN:VEVENT
DTSTART;TZID=America/New_York:20210810T163000
DTEND;TZID=America/New_York:20210810T173000
DTSTAMP:20260421T221248
CREATED:20210729T191612Z
LAST-MODIFIED:20210729T191958Z
UID:558-1628613000-1628616600@rpoacal.external.pixelpopmarketing.com
SUMMARY:Live Q & A Zoom Session for Agency Owners
DESCRIPTION:RPOA gets emails and calls every day asking about the setup of our team\, which leads we work\, incentives\, promos\, hiring\, onboarding\, training\, coaching\, vendors\, the list goes on.  We absolutely love fielding these\, and are now going to be doing so in a live setting for agency owners where you can come on every week and ask whatever is on your mind! \nThese sessions will be every Tuesday after our regular show from 4:30-5:30 EST\, and will be open to all owners and managers. There will be no structured format to these virtual get togethers. Jeremy and Kristin will simply be on and ready to field any questions you may have.  This is YOUR time\, so whether you decide to come every week\, a couple of times a month\, or just when you have something you want to ask\, it’s all up to you! \n***Please email amanda@insuranceroleplay.com if you still need this private link
URL:https://rpoacal.external.pixelpopmarketing.com/event/live-q-a-zoom-session-for-agency-owners-24/
ORGANIZER;CN="RPOA":MAILTO:amanda@insuranceroleplay.com
END:VEVENT
BEGIN:VEVENT
DTSTART;TZID=America/New_York:20210811T120000
DTEND;TZID=America/New_York:20210811T123000
DTSTAMP:20260421T221248
CREATED:20210812T164918Z
LAST-MODIFIED:20210812T164918Z
UID:642-1628683200-1628685000@rpoacal.external.pixelpopmarketing.com
SUMMARY:RPOA Onboarding Session
DESCRIPTION:Welcome to the RPOA Family! \nHere’s what you can expect:\n– A brief intro to the company and how the program works\n– A virtual walk through of the platform and our online library\n– Best practices for faster results
URL:https://rpoacal.external.pixelpopmarketing.com/event/rpoa-onboarding-session-duplicate-1-7/
ORGANIZER;CN="RPOA":MAILTO:amanda@insuranceroleplay.com
END:VEVENT
BEGIN:VEVENT
DTSTART;TZID=America/New_York:20210811T130000
DTEND;TZID=America/New_York:20210811T133000
DTSTAMP:20260421T221248
CREATED:20210729T192909Z
LAST-MODIFIED:20210729T192909Z
UID:580-1628686800-1628688600@rpoacal.external.pixelpopmarketing.com
SUMMARY:RPOA 101 Demo
DESCRIPTION:We’ll quickly walk through everything that RPOA includes and show you how it has been able to have such an impact in not only our own agencies\, but in hundreds of agencies across the country. This is a great place to ask any questions you may have and get details on how to sign up. \nCopy and paste this link into your browser to sign up for a Zoom demo today! \nhttps://insuranceroleplay.zoom.us/meeting/register/tJEtde2hrzwuGNwHxvy6qcCkJIOqX7AJCG49
URL:https://rpoacal.external.pixelpopmarketing.com/event/rpoa-101-demo-40/
ORGANIZER;CN="RPOA":MAILTO:amanda@insuranceroleplay.com
END:VEVENT
BEGIN:VEVENT
DTSTART;TZID=America/New_York:20210812T120000
DTEND;TZID=America/New_York:20210812T123000
DTSTAMP:20260421T221248
CREATED:20210812T165037Z
LAST-MODIFIED:20210812T165037Z
UID:644-1628769600-1628771400@rpoacal.external.pixelpopmarketing.com
SUMMARY:RPOA Onboarding Session
DESCRIPTION:Welcome to the RPOA Family! \nHere’s what you can expect:\n– A brief intro to the company and how the program works\n– A virtual walk through of the platform and our online library\n– Best practices for faster results
URL:https://rpoacal.external.pixelpopmarketing.com/event/rpoa-onboarding-session-duplicate-1-8/
ORGANIZER;CN="RPOA":MAILTO:amanda@insuranceroleplay.com
END:VEVENT
BEGIN:VEVENT
DTSTART;TZID=America/New_York:20210812T130000
DTEND;TZID=America/New_York:20210812T133000
DTSTAMP:20260421T221248
CREATED:20210729T193031Z
LAST-MODIFIED:20210729T193031Z
UID:582-1628773200-1628775000@rpoacal.external.pixelpopmarketing.com
SUMMARY:RPOA 101 Demo
DESCRIPTION:We’ll quickly walk through everything that RPOA includes and show you how it has been able to have such an impact in not only our own agencies\, but in hundreds of agencies across the country. This is a great place to ask any questions you may have and get details on how to sign up. \nCopy and paste this link into your browser to sign up for a Zoom demo today! \nhttps://insuranceroleplay.zoom.us/meeting/register/tJEtde2hrzwuGNwHxvy6qcCkJIOqX7AJCG49
URL:https://rpoacal.external.pixelpopmarketing.com/event/rpoa-101-demo-41/
ORGANIZER;CN="RPOA":MAILTO:amanda@insuranceroleplay.com
END:VEVENT
BEGIN:VEVENT
DTSTART;TZID=America/New_York:20210813T130000
DTEND;TZID=America/New_York:20210813T133000
DTSTAMP:20260421T221248
CREATED:20210729T193146Z
LAST-MODIFIED:20210729T193146Z
UID:584-1628859600-1628861400@rpoacal.external.pixelpopmarketing.com
SUMMARY:RPOA 101 Demo
DESCRIPTION:We’ll quickly walk through everything that RPOA includes and show you how it has been able to have such an impact in not only our own agencies\, but in hundreds of agencies across the country. This is a great place to ask any questions you may have and get details on how to sign up. \nCopy and paste this link into your browser to sign up for a Zoom demo today! \nhttps://insuranceroleplay.zoom.us/meeting/register/tJEtde2hrzwuGNwHxvy6qcCkJIOqX7AJCG49
URL:https://rpoacal.external.pixelpopmarketing.com/event/rpoa-101-demo-42/
ORGANIZER;CN="RPOA":MAILTO:amanda@insuranceroleplay.com
END:VEVENT
BEGIN:VEVENT
DTSTART;TZID=America/New_York:20210813T150000
DTEND;TZID=America/New_York:20210813T153000
DTSTAMP:20260421T221248
CREATED:20210801T033511Z
LAST-MODIFIED:20210801T033511Z
UID:606-1628866800-1628868600@rpoacal.external.pixelpopmarketing.com
SUMMARY:RPOA Onboarding Session
DESCRIPTION:Welcome to the RPOA Family! \nHere’s what you can expect:\n– A brief intro to the company and how the program works\n– A virtual walk through of the platform and our online library\n– Best practices for faster results
URL:https://rpoacal.external.pixelpopmarketing.com/event/rpoa-onboarding-session-71/
ORGANIZER;CN="RPOA":MAILTO:amanda@insuranceroleplay.com
END:VEVENT
BEGIN:VEVENT
DTSTART;TZID=America/New_York:20210816T130000
DTEND;TZID=America/New_York:20210816T133000
DTSTAMP:20260421T221248
CREATED:20210729T193225Z
LAST-MODIFIED:20210729T193225Z
UID:586-1629118800-1629120600@rpoacal.external.pixelpopmarketing.com
SUMMARY:RPOA 101 Demo
DESCRIPTION:We’ll quickly walk through everything that RPOA includes and show you how it has been able to have such an impact in not only our own agencies\, but in hundreds of agencies across the country. This is a great place to ask any questions you may have and get details on how to sign up. \nCopy and paste this link into your browser to sign up for a Zoom demo today! \nhttps://insuranceroleplay.zoom.us/meeting/register/tJEtde2hrzwuGNwHxvy6qcCkJIOqX7AJCG49
URL:https://rpoacal.external.pixelpopmarketing.com/event/rpoa-101-demo-43/
ORGANIZER;CN="RPOA":MAILTO:amanda@insuranceroleplay.com
END:VEVENT
BEGIN:VEVENT
DTSTART;TZID=America/New_York:20210816T150000
DTEND;TZID=America/New_York:20210816T153000
DTSTAMP:20260421T221248
CREATED:20210801T033632Z
LAST-MODIFIED:20210801T033632Z
UID:608-1629126000-1629127800@rpoacal.external.pixelpopmarketing.com
SUMMARY:RPOA Onboarding Session
DESCRIPTION:Welcome to the RPOA Family! \nHere’s what you can expect:\n– A brief intro to the company and how the program works\n– A virtual walk through of the platform and our online library\n– Best practices for faster results
URL:https://rpoacal.external.pixelpopmarketing.com/event/rpoa-onboarding-session-72/
ORGANIZER;CN="RPOA":MAILTO:amanda@insuranceroleplay.com
END:VEVENT
BEGIN:VEVENT
DTSTART;TZID=America/New_York:20210817T120000
DTEND;TZID=America/New_York:20210817T123000
DTSTAMP:20260421T221248
CREATED:20210812T165253Z
LAST-MODIFIED:20210812T165253Z
UID:646-1629201600-1629203400@rpoacal.external.pixelpopmarketing.com
SUMMARY:RPOA Onboarding Session
DESCRIPTION:Welcome to the RPOA Family! \nHere’s what you can expect:\n– A brief intro to the company and how the program works\n– A virtual walk through of the platform and our online library\n– Best practices for faster results
URL:https://rpoacal.external.pixelpopmarketing.com/event/rpoa-onboarding-session-duplicate-1-9/
ORGANIZER;CN="RPOA":MAILTO:amanda@insuranceroleplay.com
END:VEVENT
BEGIN:VEVENT
DTSTART;TZID=America/New_York:20210817T150000
DTEND;TZID=America/New_York:20210817T153000
DTSTAMP:20260421T221248
CREATED:20210728T000724Z
LAST-MODIFIED:20210817T175637Z
UID:534-1629212400-1629214200@rpoacal.external.pixelpopmarketing.com
SUMMARY:Live Role Play Webinar- “No thanks\, you’re the 5th agent to call me…”
DESCRIPTION:When working leads it can be frustrating to hear that we are not the first agent that our prospect has talked to. Calling on internet leads in general is hard work\, so to have to convince a lead that you paid for to “allow” you to give them a quote can be defeating.  In this episode we will focus on a way to really show your prospect that you are “different\,” and worth talking to!
URL:https://rpoacal.external.pixelpopmarketing.com/event/live-role-play-webinar-tbd-20/
ORGANIZER;CN="RPOA":MAILTO:amanda@insuranceroleplay.com
END:VEVENT
BEGIN:VEVENT
DTSTART;TZID=America/New_York:20210817T163000
DTEND;TZID=America/New_York:20210817T173000
DTSTAMP:20260421T221248
CREATED:20210729T191639Z
LAST-MODIFIED:20210729T191942Z
UID:560-1629217800-1629221400@rpoacal.external.pixelpopmarketing.com
SUMMARY:Live Q & A Zoom Session for Agency Owners
DESCRIPTION:RPOA gets emails and calls every day asking about the setup of our team\, which leads we work\, incentives\, promos\, hiring\, onboarding\, training\, coaching\, vendors\, the list goes on.  We absolutely love fielding these\, and are now going to be doing so in a live setting for agency owners where you can come on every week and ask whatever is on your mind! \nThese sessions will be every Tuesday after our regular show from 4:30-5:30 EST\, and will be open to all owners and managers. There will be no structured format to these virtual get togethers. Jeremy and Kristin will simply be on and ready to field any questions you may have.  This is YOUR time\, so whether you decide to come every week\, a couple of times a month\, or just when you have something you want to ask\, it’s all up to you! \n***Please email amanda@insuranceroleplay.com if you still need this private link
URL:https://rpoacal.external.pixelpopmarketing.com/event/live-q-a-zoom-session-for-agency-owners-25/
ORGANIZER;CN="RPOA":MAILTO:amanda@insuranceroleplay.com
END:VEVENT
BEGIN:VEVENT
DTSTART;TZID=America/New_York:20210818T120000
DTEND;TZID=America/New_York:20210818T123000
DTSTAMP:20260421T221248
CREATED:20210812T165346Z
LAST-MODIFIED:20210812T165346Z
UID:648-1629288000-1629289800@rpoacal.external.pixelpopmarketing.com
SUMMARY:RPOA Onboarding Session
DESCRIPTION:Welcome to the RPOA Family! \nHere’s what you can expect:\n– A brief intro to the company and how the program works\n– A virtual walk through of the platform and our online library\n– Best practices for faster results
URL:https://rpoacal.external.pixelpopmarketing.com/event/rpoa-onboarding-session-duplicate-1-10/
ORGANIZER;CN="RPOA":MAILTO:amanda@insuranceroleplay.com
END:VEVENT
BEGIN:VEVENT
DTSTART;TZID=America/New_York:20210818T130000
DTEND;TZID=America/New_York:20210818T133000
DTSTAMP:20260421T221248
CREATED:20210729T193341Z
LAST-MODIFIED:20210729T193341Z
UID:588-1629291600-1629293400@rpoacal.external.pixelpopmarketing.com
SUMMARY:RPOA 101 Demo
DESCRIPTION:We’ll quickly walk through everything that RPOA includes and show you how it has been able to have such an impact in not only our own agencies\, but in hundreds of agencies across the country. This is a great place to ask any questions you may have and get details on how to sign up. \nCopy and paste this link into your browser to sign up for a Zoom demo today! \nhttps://insuranceroleplay.zoom.us/meeting/register/tJEtde2hrzwuGNwHxvy6qcCkJIOqX7AJCG49
URL:https://rpoacal.external.pixelpopmarketing.com/event/rpoa-101-demo-44/
ORGANIZER;CN="RPOA":MAILTO:amanda@insuranceroleplay.com
END:VEVENT
BEGIN:VEVENT
DTSTART;TZID=America/New_York:20210819T120000
DTEND;TZID=America/New_York:20210819T123000
DTSTAMP:20260421T221248
CREATED:20210812T165453Z
LAST-MODIFIED:20210812T165453Z
UID:650-1629374400-1629376200@rpoacal.external.pixelpopmarketing.com
SUMMARY:RPOA Onboarding Session
DESCRIPTION:Welcome to the RPOA Family! \nHere’s what you can expect:\n– A brief intro to the company and how the program works\n– A virtual walk through of the platform and our online library\n– Best practices for faster results
URL:https://rpoacal.external.pixelpopmarketing.com/event/rpoa-onboarding-session-duplicate-1-11/
ORGANIZER;CN="RPOA":MAILTO:amanda@insuranceroleplay.com
END:VEVENT
BEGIN:VEVENT
DTSTART;TZID=America/New_York:20210819T130000
DTEND;TZID=America/New_York:20210819T133000
DTSTAMP:20260421T221248
CREATED:20210729T193849Z
LAST-MODIFIED:20210729T193849Z
UID:590-1629378000-1629379800@rpoacal.external.pixelpopmarketing.com
SUMMARY:RPOA 101 Demo
DESCRIPTION:We’ll quickly walk through everything that RPOA includes and show you how it has been able to have such an impact in not only our own agencies\, but in hundreds of agencies across the country. This is a great place to ask any questions you may have and get details on how to sign up. \nCopy and paste this link into your browser to sign up for a Zoom demo today! \nhttps://insuranceroleplay.zoom.us/meeting/register/tJEtde2hrzwuGNwHxvy6qcCkJIOqX7AJCG49
URL:https://rpoacal.external.pixelpopmarketing.com/event/rpoa-101-demo-45/
ORGANIZER;CN="RPOA":MAILTO:amanda@insuranceroleplay.com
END:VEVENT
BEGIN:VEVENT
DTSTART;TZID=America/New_York:20210820T130000
DTEND;TZID=America/New_York:20210820T133000
DTSTAMP:20260421T221248
CREATED:20210729T193921Z
LAST-MODIFIED:20210729T193921Z
UID:592-1629464400-1629466200@rpoacal.external.pixelpopmarketing.com
SUMMARY:RPOA 101 Demo
DESCRIPTION:We’ll quickly walk through everything that RPOA includes and show you how it has been able to have such an impact in not only our own agencies\, but in hundreds of agencies across the country. This is a great place to ask any questions you may have and get details on how to sign up. \nCopy and paste this link into your browser to sign up for a Zoom demo today! \nhttps://insuranceroleplay.zoom.us/meeting/register/tJEtde2hrzwuGNwHxvy6qcCkJIOqX7AJCG49
URL:https://rpoacal.external.pixelpopmarketing.com/event/rpoa-101-demo-46/
ORGANIZER;CN="RPOA":MAILTO:amanda@insuranceroleplay.com
END:VEVENT
BEGIN:VEVENT
DTSTART;TZID=America/New_York:20210820T150000
DTEND;TZID=America/New_York:20210820T153000
DTSTAMP:20260421T221248
CREATED:20210801T033821Z
LAST-MODIFIED:20210801T033821Z
UID:610-1629471600-1629473400@rpoacal.external.pixelpopmarketing.com
SUMMARY:RPOA Onboarding Session
DESCRIPTION:Welcome to the RPOA Family! \nHere’s what you can expect:\n– A brief intro to the company and how the program works\n– A virtual walk through of the platform and our online library\n– Best practices for faster results
URL:https://rpoacal.external.pixelpopmarketing.com/event/rpoa-onboarding-session-73/
ORGANIZER;CN="RPOA":MAILTO:amanda@insuranceroleplay.com
END:VEVENT
BEGIN:VEVENT
DTSTART;TZID=America/New_York:20210823T130000
DTEND;TZID=America/New_York:20210823T133000
DTSTAMP:20260421T221248
CREATED:20210729T194026Z
LAST-MODIFIED:20210729T194026Z
UID:594-1629723600-1629725400@rpoacal.external.pixelpopmarketing.com
SUMMARY:RPOA 101 Demo
DESCRIPTION:We’ll quickly walk through everything that RPOA includes and show you how it has been able to have such an impact in not only our own agencies\, but in hundreds of agencies across the country. This is a great place to ask any questions you may have and get details on how to sign up. \nCopy and paste this link into your browser to sign up for a Zoom demo today! \nhttps://insuranceroleplay.zoom.us/meeting/register/tJEtde2hrzwuGNwHxvy6qcCkJIOqX7AJCG49
URL:https://rpoacal.external.pixelpopmarketing.com/event/rpoa-101-demo-47/
ORGANIZER;CN="RPOA":MAILTO:amanda@insuranceroleplay.com
END:VEVENT
BEGIN:VEVENT
DTSTART;TZID=America/New_York:20210823T150000
DTEND;TZID=America/New_York:20210823T153000
DTSTAMP:20260421T221248
CREATED:20210801T035901Z
LAST-MODIFIED:20210801T035924Z
UID:612-1629730800-1629732600@rpoacal.external.pixelpopmarketing.com
SUMMARY:RPOA Onboarding Session
DESCRIPTION:Welcome to the RPOA Family! \nHere’s what you can expect:\n– A brief intro to the company and how the program works\n– A virtual walk through of the platform and our online library\n– Best practices for faster results
URL:https://rpoacal.external.pixelpopmarketing.com/event/rpoa-onboarding-session-74/
ORGANIZER;CN="RPOA":MAILTO:amanda@insuranceroleplay.com
END:VEVENT
BEGIN:VEVENT
DTSTART;TZID=America/New_York:20210824T120000
DTEND;TZID=America/New_York:20210824T123000
DTSTAMP:20260421T221248
CREATED:20210812T165600Z
LAST-MODIFIED:20210812T165600Z
UID:652-1629806400-1629808200@rpoacal.external.pixelpopmarketing.com
SUMMARY:RPOA Onboarding Session
DESCRIPTION:Welcome to the RPOA Family! \nHere’s what you can expect:\n– A brief intro to the company and how the program works\n– A virtual walk through of the platform and our online library\n– Best practices for faster results
URL:https://rpoacal.external.pixelpopmarketing.com/event/rpoa-onboarding-session-duplicate-1-12/
ORGANIZER;CN="RPOA":MAILTO:amanda@insuranceroleplay.com
END:VEVENT
END:VCALENDAR