BEGIN:VCALENDAR
VERSION:2.0
PRODID:-//RPOA Events Calendar - ECPv6.1.3//NONSGML v1.0//EN
CALSCALE:GREGORIAN
METHOD:PUBLISH
X-WR-CALNAME:RPOA Events Calendar
X-ORIGINAL-URL:https://rpoacal.external.pixelpopmarketing.com
X-WR-CALDESC:Events for RPOA Events Calendar
REFRESH-INTERVAL;VALUE=DURATION:PT1H
X-Robots-Tag:noindex
X-PUBLISHED-TTL:PT1H
BEGIN:VTIMEZONE
TZID:America/New_York
BEGIN:DAYLIGHT
TZOFFSETFROM:-0500
TZOFFSETTO:-0400
TZNAME:EDT
DTSTART:20210314T070000
END:DAYLIGHT
BEGIN:STANDARD
TZOFFSETFROM:-0400
TZOFFSETTO:-0500
TZNAME:EST
DTSTART:20211107T060000
END:STANDARD
END:VTIMEZONE
BEGIN:VEVENT
DTSTART;TZID=America/New_York:20211110T120000
DTEND;TZID=America/New_York:20211110T170000
DTSTAMP:20260420T230517
CREATED:20211031T004820Z
LAST-MODIFIED:20211031T005246Z
UID:895-1636545600-1636563600@rpoacal.external.pixelpopmarketing.com
SUMMARY:Outside Sales Mastery with RDCR-2 Day LIVE Workshop
DESCRIPTION:***SOLD OUT*** \nIn this LIVE VIRTUAL WORKSHOP\, you will learn how to use our proven RDCR sales process while working internet leads or taking live transfers. In using this process\, our own team has been able to enjoy a 16% close rate on internet leads\, and maintain 87% first year retention on this business. Building a relationship with a prospect is an art and we will teach you proven techniques that will give you the lift you are looking for in working leads! \n\n\n\n*Better understand how using a proven process every single time will increase effectiveness\n*Memorize a proven process for explaining discounts and coverage clearly and concisely\n*Master a process that you can use every time to gain buy in from the prospect and close more sales\n*Be excited to get on the phones and increase their sales and service\n\nAttendees: Please check your email for pre-work and private Zoom link for this workshop. Thanks!
URL:https://rpoacal.external.pixelpopmarketing.com/event/outside-sales-mastery-with-rdcr-2-day-live-workshop-duplicate-1-2/
ORGANIZER;CN="RPOA":MAILTO:amanda@insuranceroleplay.com
END:VEVENT
BEGIN:VEVENT
DTSTART;TZID=America/New_York:20211110T120000
DTEND;TZID=America/New_York:20211110T123000
DTSTAMP:20260420T230517
CREATED:20211031T042457Z
LAST-MODIFIED:20211031T042457Z
UID:991-1636545600-1636547400@rpoacal.external.pixelpopmarketing.com
SUMMARY:RPOA 101 Demo
DESCRIPTION:We’ll quickly walk through everything that RPOA includes and show you how it has been able to have such an impact in not only our own agencies\, but in hundreds of agencies across the country. This is a great place to ask any questions you may have and get details on how to sign up. \nCopy and paste this link into your browser to sign up for a Zoom demo today! \nhttps://insuranceroleplay.zoom.us/meeting/register/tJAod-Corz8sGdWaNrmWyt47tvMZ7teSNRIu
URL:https://rpoacal.external.pixelpopmarketing.com/event/rpoa-101-demo-duplicate-1-34/
ORGANIZER;CN="RPOA":MAILTO:amanda@insuranceroleplay.com
END:VEVENT
BEGIN:VEVENT
DTSTART;TZID=America/New_York:20211110T120000
DTEND;TZID=America/New_York:20211110T123000
DTSTAMP:20260420T230517
CREATED:20211031T012329Z
LAST-MODIFIED:20211031T012329Z
UID:927-1636545600-1636547400@rpoacal.external.pixelpopmarketing.com
SUMMARY:RPOA Onboarding Session
DESCRIPTION:Welcome to the RPOA Family! \nHere’s what you can expect:\n– A brief intro to the company and how the program works\n– A virtual walk through of the platform and our online library\n– Best practices for faster results
URL:https://rpoacal.external.pixelpopmarketing.com/event/rpoa-onboarding-session-duplicate-1-56/
ORGANIZER;CN="RPOA":MAILTO:amanda@insuranceroleplay.com
END:VEVENT
BEGIN:VEVENT
DTSTART;TZID=America/New_York:20211109T163000
DTEND;TZID=America/New_York:20211109T173000
DTSTAMP:20260420T230517
CREATED:20211031T012613Z
LAST-MODIFIED:20211031T012613Z
UID:931-1636475400-1636479000@rpoacal.external.pixelpopmarketing.com
SUMMARY:Live Q & A Zoom Session for Agency Owners
DESCRIPTION:RPOA gets emails and calls every day asking about the setup of our team\, which leads we work\, incentives\, promos\, hiring\, onboarding\, training\, coaching\, vendors\, the list goes on.  We absolutely love fielding these\, and are now going to be doing so in a live setting for agency owners where you can come on every week and ask whatever is on your mind! \nThese sessions will be every Tuesday after our regular show from 4:30-5:30 EST\, and will be open to all owners and managers. There will be no structured format to these virtual get togethers. Jeremy and Kristin will simply be on and ready to field any questions you may have.  This is YOUR time\, so whether you decide to come every week\, a couple of times a month\, or just when you have something you want to ask\, it’s all up to you! \n***Please email amanda@insuranceroleplay.com if you still need this private link
URL:https://rpoacal.external.pixelpopmarketing.com/event/live-q-a-zoom-session-for-agency-owners-duplicate-1-9/
ORGANIZER;CN="RPOA":MAILTO:amanda@insuranceroleplay.com
END:VEVENT
BEGIN:VEVENT
DTSTART;TZID=America/New_York:20211109T150000
DTEND;TZID=America/New_York:20211109T153000
DTSTAMP:20260420T230517
CREATED:20211031T004053Z
LAST-MODIFIED:20211108T225241Z
UID:879-1636470000-1636471800@rpoacal.external.pixelpopmarketing.com
SUMMARY:Live Role Play Webinar-Keeping your pipeline FULL!
DESCRIPTION:In our business\, success comes from two things – First\, having the right conversations every day\, and second\, having enough of them! This week we are going to focus on the second piece\, putting yourself in a position where you know every day that you are going to be able to have enough conversations about insurance to be able to sell the number of policies you want in order to be successful.  We will give you specific tactics proven to keep your pipeline full\, so this one is a must watch!
URL:https://rpoacal.external.pixelpopmarketing.com/event/live-role-play-webinar-how-to-recommend-and-negotiate-coverage-and-limits-duplicate-1/
ORGANIZER;CN="RPOA":MAILTO:amanda@insuranceroleplay.com
END:VEVENT
BEGIN:VEVENT
DTSTART;TZID=America/New_York:20211109T120000
DTEND;TZID=America/New_York:20211109T123000
DTSTAMP:20260420T230517
CREATED:20211031T042303Z
LAST-MODIFIED:20211031T042303Z
UID:989-1636459200-1636461000@rpoacal.external.pixelpopmarketing.com
SUMMARY:RPOA 101 Demo
DESCRIPTION:We’ll quickly walk through everything that RPOA includes and show you how it has been able to have such an impact in not only our own agencies\, but in hundreds of agencies across the country. This is a great place to ask any questions you may have and get details on how to sign up. \nCopy and paste this link into your browser to sign up for a Zoom demo today! \nhttps://insuranceroleplay.zoom.us/meeting/register/tJAod-Corz8sGdWaNrmWyt47tvMZ7teSNRIu
URL:https://rpoacal.external.pixelpopmarketing.com/event/rpoa-101-demo-duplicate-1-33/
ORGANIZER;CN="RPOA":MAILTO:amanda@insuranceroleplay.com
END:VEVENT
BEGIN:VEVENT
DTSTART;TZID=America/New_York:20211109T120000
DTEND;TZID=America/New_York:20211109T123000
DTSTAMP:20260420T230517
CREATED:20211031T012255Z
LAST-MODIFIED:20211031T012255Z
UID:925-1636459200-1636461000@rpoacal.external.pixelpopmarketing.com
SUMMARY:RPOA Onboarding Session
DESCRIPTION:Welcome to the RPOA Family! \nHere’s what you can expect:\n– A brief intro to the company and how the program works\n– A virtual walk through of the platform and our online library\n– Best practices for faster results
URL:https://rpoacal.external.pixelpopmarketing.com/event/rpoa-onboarding-session-duplicate-1-55/
ORGANIZER;CN="RPOA":MAILTO:amanda@insuranceroleplay.com
END:VEVENT
BEGIN:VEVENT
DTSTART;TZID=America/New_York:20211108T150000
DTEND;TZID=America/New_York:20211108T153000
DTSTAMP:20260420T230517
CREATED:20211031T011935Z
LAST-MODIFIED:20211031T012417Z
UID:921-1636383600-1636385400@rpoacal.external.pixelpopmarketing.com
SUMMARY:RPOA Onboarding Session
DESCRIPTION:Welcome to the RPOA Family! \nHere’s what you can expect:\n– A brief intro to the company and how the program works\n– A virtual walk through of the platform and our online library\n– Best practices for faster results
URL:https://rpoacal.external.pixelpopmarketing.com/event/rpoa-onboarding-session-duplicate-1-53/
ORGANIZER;CN="RPOA":MAILTO:amanda@insuranceroleplay.com
END:VEVENT
BEGIN:VEVENT
DTSTART;TZID=America/New_York:20211108T120000
DTEND;TZID=America/New_York:20211108T123000
DTSTAMP:20260420T230517
CREATED:20211031T042224Z
LAST-MODIFIED:20211031T042224Z
UID:987-1636372800-1636374600@rpoacal.external.pixelpopmarketing.com
SUMMARY:RPOA 101 Demo
DESCRIPTION:We’ll quickly walk through everything that RPOA includes and show you how it has been able to have such an impact in not only our own agencies\, but in hundreds of agencies across the country. This is a great place to ask any questions you may have and get details on how to sign up. \nCopy and paste this link into your browser to sign up for a Zoom demo today! \nhttps://insuranceroleplay.zoom.us/meeting/register/tJAod-Corz8sGdWaNrmWyt47tvMZ7teSNRIu
URL:https://rpoacal.external.pixelpopmarketing.com/event/rpoa-101-demo-duplicate-1-32/
ORGANIZER;CN="RPOA":MAILTO:amanda@insuranceroleplay.com
END:VEVENT
BEGIN:VEVENT
DTSTART;TZID=America/New_York:20211105T150000
DTEND;TZID=America/New_York:20211105T153000
DTSTAMP:20260420T230517
CREATED:20211031T005650Z
LAST-MODIFIED:20211031T005650Z
UID:917-1636124400-1636126200@rpoacal.external.pixelpopmarketing.com
SUMMARY:RPOA Onboarding Session
DESCRIPTION:Welcome to the RPOA Family! \nHere’s what you can expect:\n– A brief intro to the company and how the program works\n– A virtual walk through of the platform and our online library\n– Best practices for faster results
URL:https://rpoacal.external.pixelpopmarketing.com/event/rpoa-onboarding-session-duplicate-1-51/
ORGANIZER;CN="RPOA":MAILTO:amanda@insuranceroleplay.com
END:VEVENT
BEGIN:VEVENT
DTSTART;TZID=America/New_York:20211105T120000
DTEND;TZID=America/New_York:20211105T170000
DTSTAMP:20260420T230517
CREATED:20211031T005048Z
LAST-MODIFIED:20211031T005211Z
UID:902-1636113600-1636131600@rpoacal.external.pixelpopmarketing.com
SUMMARY:Inside Sales Mastery with RDCR-2 Day LIVE Workshop
DESCRIPTION:***SOLD OUT*** \nIn this LIVE VIRTUAL WORKSHOP\, your will learn how to use our proven RDCR sales process while working with current customers. Your will learn the art of being able to transition everyday service calls into sales. Looking at every customer call as an opportunity to leave them better protected can be a game changer when it comes to your sales results! \n\n\n\n*Learn how to transition an everyday service call into a sales call\n*Memorize a proven process for explaining discounts and coverage clearly and concisely\n*Understand how to increase retention by giving the customer a world-class experience\n*Master a process that you can use every time to gain buy in and make cross-selling fun and effortless\n*Be excited to get on the phones and increase their sales and service\n\nAttendees: Please check your email for pre-work and private Zoom link for this workshop. Thanks!
URL:https://rpoacal.external.pixelpopmarketing.com/event/inside-sales-mastery-with-rdcr-2-day-live-workshop-duplicate-1-3/
ORGANIZER;CN="RPOA":MAILTO:amanda@insuranceroleplay.com
END:VEVENT
BEGIN:VEVENT
DTSTART;TZID=America/New_York:20211105T120000
DTEND;TZID=America/New_York:20211105T123000
DTSTAMP:20260420T230517
CREATED:20211031T042156Z
LAST-MODIFIED:20211031T042156Z
UID:985-1636113600-1636115400@rpoacal.external.pixelpopmarketing.com
SUMMARY:RPOA 101 Demo
DESCRIPTION:We’ll quickly walk through everything that RPOA includes and show you how it has been able to have such an impact in not only our own agencies\, but in hundreds of agencies across the country. This is a great place to ask any questions you may have and get details on how to sign up. \nCopy and paste this link into your browser to sign up for a Zoom demo today! \nhttps://insuranceroleplay.zoom.us/meeting/register/tJAod-Corz8sGdWaNrmWyt47tvMZ7teSNRIu
URL:https://rpoacal.external.pixelpopmarketing.com/event/rpoa-101-demo-duplicate-1-31/
ORGANIZER;CN="RPOA":MAILTO:amanda@insuranceroleplay.com
END:VEVENT
BEGIN:VEVENT
DTSTART;TZID=America/New_York:20211104T120000
DTEND;TZID=America/New_York:20211104T170000
DTSTAMP:20260420T230517
CREATED:20211031T005012Z
LAST-MODIFIED:20211031T005316Z
UID:900-1636027200-1636045200@rpoacal.external.pixelpopmarketing.com
SUMMARY:Inside Sales Mastery with RDCR-2 Day LIVE Workshop
DESCRIPTION:***SOLD OUT*** \nIn this LIVE VIRTUAL WORKSHOP\, your will learn how to use our proven RDCR sales process while working with current customers. Your will learn the art of being able to transition everyday service calls into sales. Looking at every customer call as an opportunity to leave them better protected can be a game changer when it comes to your sales results! \n\n\n\n*Learn how to transition an everyday service call into a sales call\n*Memorize a proven process for explaining discounts and coverage clearly and concisely\n*Understand how to increase retention by giving the customer a world-class experience\n*Master a process that you can use every time to gain buy in and make cross-selling fun and effortless\n*Be excited to get on the phones and increase their sales and service\n\nAttendees: Please check your email for pre-work and private Zoom link for this workshop. Thanks!
URL:https://rpoacal.external.pixelpopmarketing.com/event/inside-sales-mastery-with-rdcr-2-day-live-workshop-duplicate-1-2/
ORGANIZER;CN="RPOA":MAILTO:amanda@insuranceroleplay.com
END:VEVENT
BEGIN:VEVENT
DTSTART;TZID=America/New_York:20211104T120000
DTEND;TZID=America/New_York:20211104T123000
DTSTAMP:20260420T230517
CREATED:20211031T034122Z
LAST-MODIFIED:20211031T034122Z
UID:983-1636027200-1636029000@rpoacal.external.pixelpopmarketing.com
SUMMARY:RPOA 101 Demo
DESCRIPTION:We’ll quickly walk through everything that RPOA includes and show you how it has been able to have such an impact in not only our own agencies\, but in hundreds of agencies across the country. This is a great place to ask any questions you may have and get details on how to sign up. \nCopy and paste this link into your browser to sign up for a Zoom demo today! \nhttps://insuranceroleplay.zoom.us/meeting/register/tJAod-Corz8sGdWaNrmWyt47tvMZ7teSNRIu
URL:https://rpoacal.external.pixelpopmarketing.com/event/rpoa-101-demo-duplicate-1-30/
ORGANIZER;CN="RPOA":MAILTO:amanda@insuranceroleplay.com
END:VEVENT
BEGIN:VEVENT
DTSTART;TZID=America/New_York:20211104T120000
DTEND;TZID=America/New_York:20211104T123000
DTSTAMP:20260420T230517
CREATED:20211031T005619Z
LAST-MODIFIED:20211031T005619Z
UID:915-1636027200-1636029000@rpoacal.external.pixelpopmarketing.com
SUMMARY:RPOA Onboarding Session
DESCRIPTION:Welcome to the RPOA Family! \nHere’s what you can expect:\n– A brief intro to the company and how the program works\n– A virtual walk through of the platform and our online library\n– Best practices for faster results
URL:https://rpoacal.external.pixelpopmarketing.com/event/rpoa-onboarding-session-duplicate-1-50/
ORGANIZER;CN="RPOA":MAILTO:amanda@insuranceroleplay.com
END:VEVENT
BEGIN:VEVENT
DTSTART;TZID=America/New_York:20211103T150000
DTEND;TZID=America/New_York:20211103T160000
DTSTAMP:20260420T230517
CREATED:20211011T155631Z
LAST-MODIFIED:20211011T155631Z
UID:869-1635951600-1635955200@rpoacal.external.pixelpopmarketing.com
SUMMARY:Guest Speaker Joe Hart-President & CEO of Dale Carnegie talks leadership
DESCRIPTION:We’re so excited to announce that we have the President and CEO of Dale Carnegie Training presenting to our group this month. Joe Hart will talk about Leadership Strategies to Keep Your Culture Strong and Team Engaged. This webinar will be open to Agency Owners and Managers. Joe will help us uncover our potential leadership blind spots\, build a culture of trust and transparency and develop resilience through tough times. Don’t miss this opportunity to hear from a leader in a company that has stayed relevant for over 100 years! Click the meeting link below to register!
URL:https://rpoacal.external.pixelpopmarketing.com/event/guest-speaker-joe-hart-president-ceo-of-dale-carnegie-talks-leadership/
ORGANIZER;CN="RPOA":MAILTO:amanda@insuranceroleplay.com
END:VEVENT
BEGIN:VEVENT
DTSTART;TZID=America/New_York:20211103T120000
DTEND;TZID=America/New_York:20211103T123000
DTSTAMP:20260420T230517
CREATED:20211031T034050Z
LAST-MODIFIED:20211031T034050Z
UID:981-1635940800-1635942600@rpoacal.external.pixelpopmarketing.com
SUMMARY:RPOA 101 Demo
DESCRIPTION:We’ll quickly walk through everything that RPOA includes and show you how it has been able to have such an impact in not only our own agencies\, but in hundreds of agencies across the country. This is a great place to ask any questions you may have and get details on how to sign up. \nCopy and paste this link into your browser to sign up for a Zoom demo today! \nhttps://insuranceroleplay.zoom.us/meeting/register/tJAod-Corz8sGdWaNrmWyt47tvMZ7teSNRIu
URL:https://rpoacal.external.pixelpopmarketing.com/event/rpoa-101-demo-duplicate-1-29/
ORGANIZER;CN="RPOA":MAILTO:amanda@insuranceroleplay.com
END:VEVENT
BEGIN:VEVENT
DTSTART;TZID=America/New_York:20211103T120000
DTEND;TZID=America/New_York:20211103T123000
DTSTAMP:20260420T230517
CREATED:20211031T005536Z
LAST-MODIFIED:20211031T005536Z
UID:913-1635940800-1635942600@rpoacal.external.pixelpopmarketing.com
SUMMARY:RPOA Onboarding Session
DESCRIPTION:Welcome to the RPOA Family! \nHere’s what you can expect:\n– A brief intro to the company and how the program works\n– A virtual walk through of the platform and our online library\n– Best practices for faster results
URL:https://rpoacal.external.pixelpopmarketing.com/event/rpoa-onboarding-session-duplicate-1-49/
ORGANIZER;CN="RPOA":MAILTO:amanda@insuranceroleplay.com
END:VEVENT
BEGIN:VEVENT
DTSTART;TZID=America/New_York:20211102T163000
DTEND;TZID=America/New_York:20211102T173000
DTSTAMP:20260420T230517
CREATED:20211031T012541Z
LAST-MODIFIED:20211031T012541Z
UID:929-1635870600-1635874200@rpoacal.external.pixelpopmarketing.com
SUMMARY:Live Q & A Zoom Session for Agency Owners
DESCRIPTION:RPOA gets emails and calls every day asking about the setup of our team\, which leads we work\, incentives\, promos\, hiring\, onboarding\, training\, coaching\, vendors\, the list goes on.  We absolutely love fielding these\, and are now going to be doing so in a live setting for agency owners where you can come on every week and ask whatever is on your mind! \nThese sessions will be every Tuesday after our regular show from 4:30-5:30 EST\, and will be open to all owners and managers. There will be no structured format to these virtual get togethers. Jeremy and Kristin will simply be on and ready to field any questions you may have.  This is YOUR time\, so whether you decide to come every week\, a couple of times a month\, or just when you have something you want to ask\, it’s all up to you! \n***Please email amanda@insuranceroleplay.com if you still need this private link
URL:https://rpoacal.external.pixelpopmarketing.com/event/live-q-a-zoom-session-for-agency-owners-duplicate-1-8/
ORGANIZER;CN="RPOA":MAILTO:amanda@insuranceroleplay.com
END:VEVENT
BEGIN:VEVENT
DTSTART;TZID=America/New_York:20211102T150000
DTEND;TZID=America/New_York:20211102T153000
DTSTAMP:20260420T230517
CREATED:20211031T003953Z
LAST-MODIFIED:20211031T003953Z
UID:877-1635865200-1635867000@rpoacal.external.pixelpopmarketing.com
SUMMARY:Live Role Play Webinar-How to recommend and negotiate coverage and limits
DESCRIPTION:We always talk about not selling on price and leading with the customer. There is no better way to do that than to truly understand how to negotiate limits in order to make sure the prospect/customer has the right protection for their needs. This week we will role play some specific strategies on gaining buy-in so the prospect/customer has that “YES” mindset at the end of the call.
URL:https://rpoacal.external.pixelpopmarketing.com/event/live-role-play-webinar-requote-practice-live-from-the-oa-duplicate-1/
ORGANIZER;CN="RPOA":MAILTO:amanda@insuranceroleplay.com
END:VEVENT
BEGIN:VEVENT
DTSTART;TZID=America/New_York:20211102T120000
DTEND;TZID=America/New_York:20211102T123000
DTSTAMP:20260420T230517
CREATED:20211031T033603Z
LAST-MODIFIED:20211031T033859Z
UID:977-1635854400-1635856200@rpoacal.external.pixelpopmarketing.com
SUMMARY:RPOA 101 Demo
DESCRIPTION:We’ll quickly walk through everything that RPOA includes and show you how it has been able to have such an impact in not only our own agencies\, but in hundreds of agencies across the country. This is a great place to ask any questions you may have and get details on how to sign up. \nCopy and paste this link into your browser to sign up for a Zoom demo today! \nhttps://insuranceroleplay.zoom.us/meeting/register/tJAod-Corz8sGdWaNrmWyt47tvMZ7teSNRIu
URL:https://rpoacal.external.pixelpopmarketing.com/event/rpoa-101-demo-duplicate-1-27/
ORGANIZER;CN="RPOA":MAILTO:amanda@insuranceroleplay.com
END:VEVENT
BEGIN:VEVENT
DTSTART;TZID=America/New_York:20211102T120000
DTEND;TZID=America/New_York:20211102T123000
DTSTAMP:20260420T230517
CREATED:20211031T005452Z
LAST-MODIFIED:20211031T005452Z
UID:911-1635854400-1635856200@rpoacal.external.pixelpopmarketing.com
SUMMARY:RPOA Onboarding Session
DESCRIPTION:Welcome to the RPOA Family! \nHere’s what you can expect:\n– A brief intro to the company and how the program works\n– A virtual walk through of the platform and our online library\n– Best practices for faster results
URL:https://rpoacal.external.pixelpopmarketing.com/event/rpoa-onboarding-session-duplicate-1-48/
ORGANIZER;CN="RPOA":MAILTO:amanda@insuranceroleplay.com
END:VEVENT
BEGIN:VEVENT
DTSTART;TZID=America/New_York:20211101T150000
DTEND;TZID=America/New_York:20211101T153000
DTSTAMP:20260420T230517
CREATED:20211031T005411Z
LAST-MODIFIED:20211031T005411Z
UID:909-1635778800-1635780600@rpoacal.external.pixelpopmarketing.com
SUMMARY:RPOA Onboarding Session
DESCRIPTION:Welcome to the RPOA Family! \nHere’s what you can expect:\n– A brief intro to the company and how the program works\n– A virtual walk through of the platform and our online library\n– Best practices for faster results
URL:https://rpoacal.external.pixelpopmarketing.com/event/rpoa-onboarding-session-duplicate-1-31/
ORGANIZER;CN="RPOA":MAILTO:amanda@insuranceroleplay.com
END:VEVENT
BEGIN:VEVENT
DTSTART;TZID=America/New_York:20211101T120000
DTEND;TZID=America/New_York:20211101T123000
DTSTAMP:20260420T230517
CREATED:20211031T033951Z
LAST-MODIFIED:20211031T033951Z
UID:979-1635768000-1635769800@rpoacal.external.pixelpopmarketing.com
SUMMARY:RPOA 101 Demo
DESCRIPTION:We’ll quickly walk through everything that RPOA includes and show you how it has been able to have such an impact in not only our own agencies\, but in hundreds of agencies across the country. This is a great place to ask any questions you may have and get details on how to sign up. \nCopy and paste this link into your browser to sign up for a Zoom demo today! \nhttps://insuranceroleplay.zoom.us/meeting/register/tJAod-Corz8sGdWaNrmWyt47tvMZ7teSNRIu
URL:https://rpoacal.external.pixelpopmarketing.com/event/rpoa-101-demo-duplicate-1-28/
ORGANIZER;CN="RPOA":MAILTO:amanda@insuranceroleplay.com
END:VEVENT
BEGIN:VEVENT
DTSTART;TZID=America/New_York:20211029T150000
DTEND;TZID=America/New_York:20211029T153000
DTSTAMP:20260420T230517
CREATED:20211001T162710Z
LAST-MODIFIED:20211001T162710Z
UID:786-1635519600-1635521400@rpoacal.external.pixelpopmarketing.com
SUMMARY:RPOA Onboarding Session
DESCRIPTION:Welcome to the RPOA Family! \nHere’s what you can expect:\n– A brief intro to the company and how the program works\n– A virtual walk through of the platform and our online library\n– Best practices for faster results
URL:https://rpoacal.external.pixelpopmarketing.com/event/rpoa-onboarding-session-duplicate-1-34/
ORGANIZER;CN="RPOA":MAILTO:amanda@insuranceroleplay.com
END:VEVENT
BEGIN:VEVENT
DTSTART;TZID=America/New_York:20211029T120000
DTEND;TZID=America/New_York:20211029T123000
DTSTAMP:20260420T230517
CREATED:20211001T214255Z
LAST-MODIFIED:20211001T214255Z
UID:835-1635508800-1635510600@rpoacal.external.pixelpopmarketing.com
SUMMARY:RPOA 101 Demo
DESCRIPTION:We’ll quickly walk through everything that RPOA includes and show you how it has been able to have such an impact in not only our own agencies\, but in hundreds of agencies across the country. This is a great place to ask any questions you may have and get details on how to sign up. \nCopy and paste this link into your browser to sign up for a Zoom demo today! \nhttps://insuranceroleplay.zoom.us/meeting/register/tJAod-Corz8sGdWaNrmWyt47tvMZ7teSNRIu
URL:https://rpoacal.external.pixelpopmarketing.com/event/rpoa-101-demo-duplicate-1-11/
ORGANIZER;CN="RPOA":MAILTO:amanda@insuranceroleplay.com
END:VEVENT
BEGIN:VEVENT
DTSTART;TZID=America/New_York:20211028T150000
DTEND;TZID=America/New_York:20211028T163000
DTSTAMP:20260420T230517
CREATED:20211001T162311Z
LAST-MODIFIED:20211001T203949Z
UID:778-1635433200-1635438600@rpoacal.external.pixelpopmarketing.com
SUMMARY:How to Run Your Agency-Session #4
DESCRIPTION:The class will meet every Thursday in October beginning Thursday the 7th. They will be 90 minutes long\, from 3:00 to 4:30 EST. These will NOT be recorded and are interactive.  \nDuring these 4 weeks we will share with you and/or your sales manager some very specific strategies that we have learned over Jeremy’s 25 years in this industry and that Kristin has learned in her experience with sales and coaching. Content will be collaborative with the focus on sharing what works and maybe helping you avoid some of the ups and downs that can happen as you continue to facilitate changes in your agency. Our goal is to help you and your team be as successful as you can and should be. \nBelow is a list of some of the topics we will cover: \n\nOur Journey\nCoaching vs Managing\nBuilding a growth-minded culture\nHow to run an effective team meeting\nHow to facilitate role play\nDifferent types of coaching strategies for one on one vs. group coaching\nHiring & Firing\nOnboarding new team members\nCreating promos\nCommunicating with team members\nSetting expectations\nBuilding a leadership team\n\n***Email invites with the private Zoom link to attend will go out to all Agency Owners on Friday\, Oct 1st and again on Wednesday\, October 6th-please check your inbox for the official invite-this link is the same for all 4 sessions.  \nIf you cannot locate your invite-please email amanda@insuranceroleplay.com-Thank you!!
URL:https://rpoacal.external.pixelpopmarketing.com/event/how-to-run-your-agency-session-4/
ORGANIZER;CN="RPOA":MAILTO:amanda@insuranceroleplay.com
END:VEVENT
BEGIN:VEVENT
DTSTART;TZID=America/New_York:20211028T120000
DTEND;TZID=America/New_York:20211028T123000
DTSTAMP:20260420T230517
CREATED:20211001T214323Z
LAST-MODIFIED:20211001T214323Z
UID:837-1635422400-1635424200@rpoacal.external.pixelpopmarketing.com
SUMMARY:RPOA 101 Demo
DESCRIPTION:We’ll quickly walk through everything that RPOA includes and show you how it has been able to have such an impact in not only our own agencies\, but in hundreds of agencies across the country. This is a great place to ask any questions you may have and get details on how to sign up. \nCopy and paste this link into your browser to sign up for a Zoom demo today! \nhttps://insuranceroleplay.zoom.us/meeting/register/tJAod-Corz8sGdWaNrmWyt47tvMZ7teSNRIu
URL:https://rpoacal.external.pixelpopmarketing.com/event/rpoa-101-demo-duplicate-1-12/
ORGANIZER;CN="RPOA":MAILTO:amanda@insuranceroleplay.com
END:VEVENT
BEGIN:VEVENT
DTSTART;TZID=America/New_York:20211028T120000
DTEND;TZID=America/New_York:20211028T123000
DTSTAMP:20260420T230517
CREATED:20211001T180956Z
LAST-MODIFIED:20211001T180956Z
UID:792-1635422400-1635424200@rpoacal.external.pixelpopmarketing.com
SUMMARY:RPOA Onboarding Session
DESCRIPTION:Welcome to the RPOA Family! \nHere’s what you can expect:\n– A brief intro to the company and how the program works\n– A virtual walk through of the platform and our online library\n– Best practices for faster results
URL:https://rpoacal.external.pixelpopmarketing.com/event/rpoa-onboarding-session-duplicate-1-36/
ORGANIZER;CN="RPOA":MAILTO:amanda@insuranceroleplay.com
END:VEVENT
BEGIN:VEVENT
DTSTART;TZID=America/New_York:20211027T120000
DTEND;TZID=America/New_York:20211027T123000
DTSTAMP:20260420T230517
CREATED:20211001T214348Z
LAST-MODIFIED:20211001T214348Z
UID:839-1635336000-1635337800@rpoacal.external.pixelpopmarketing.com
SUMMARY:RPOA 101 Demo
DESCRIPTION:We’ll quickly walk through everything that RPOA includes and show you how it has been able to have such an impact in not only our own agencies\, but in hundreds of agencies across the country. This is a great place to ask any questions you may have and get details on how to sign up. \nCopy and paste this link into your browser to sign up for a Zoom demo today! \nhttps://insuranceroleplay.zoom.us/meeting/register/tJAod-Corz8sGdWaNrmWyt47tvMZ7teSNRIu
URL:https://rpoacal.external.pixelpopmarketing.com/event/rpoa-101-demo-duplicate-1-13/
ORGANIZER;CN="RPOA":MAILTO:amanda@insuranceroleplay.com
END:VEVENT
END:VCALENDAR