BEGIN:VCALENDAR
VERSION:2.0
PRODID:-//RPOA Events Calendar - ECPv6.1.3//NONSGML v1.0//EN
CALSCALE:GREGORIAN
METHOD:PUBLISH
X-WR-CALNAME:RPOA Events Calendar
X-ORIGINAL-URL:https://rpoacal.external.pixelpopmarketing.com
X-WR-CALDESC:Events for RPOA Events Calendar
REFRESH-INTERVAL;VALUE=DURATION:PT1H
X-Robots-Tag:noindex
X-PUBLISHED-TTL:PT1H
BEGIN:VTIMEZONE
TZID:America/New_York
BEGIN:DAYLIGHT
TZOFFSETFROM:-0500
TZOFFSETTO:-0400
TZNAME:EDT
DTSTART:20210314T070000
END:DAYLIGHT
BEGIN:STANDARD
TZOFFSETFROM:-0400
TZOFFSETTO:-0500
TZNAME:EST
DTSTART:20211107T060000
END:STANDARD
END:VTIMEZONE
BEGIN:VEVENT
DTSTART;TZID=America/New_York:20211130T120000
DTEND;TZID=America/New_York:20211130T123000
DTSTAMP:20260420T212635
CREATED:20211101T234624Z
LAST-MODIFIED:20211101T234624Z
UID:1015-1638273600-1638275400@rpoacal.external.pixelpopmarketing.com
SUMMARY:RPOA 101 Demo
DESCRIPTION:We’ll quickly walk through everything that RPOA includes and show you how it has been able to have such an impact in not only our own agencies\, but in hundreds of agencies across the country. This is a great place to ask any questions you may have and get details on how to sign up. \nCopy and paste this link into your browser to sign up for a Zoom demo today! \nhttps://insuranceroleplay.zoom.us/meeting/register/tJAod-Corz8sGdWaNrmWyt47tvMZ7teSNRIu
URL:https://rpoacal.external.pixelpopmarketing.com/event/rpoa-101-demo-duplicate-1-46/
ORGANIZER;CN="RPOA":MAILTO:amanda@insuranceroleplay.com
END:VEVENT
BEGIN:VEVENT
DTSTART;TZID=America/New_York:20211130T120000
DTEND;TZID=America/New_York:20211130T123000
DTSTAMP:20260420T212635
CREATED:20211031T023713Z
LAST-MODIFIED:20211031T023713Z
UID:969-1638273600-1638275400@rpoacal.external.pixelpopmarketing.com
SUMMARY:RPOA Onboarding Session
DESCRIPTION:Welcome to the RPOA Family! \nHere’s what you can expect:\n– A brief intro to the company and how the program works\n– A virtual walk through of the platform and our online library\n– Best practices for faster results
URL:https://rpoacal.external.pixelpopmarketing.com/event/rpoa-onboarding-session-duplicate-1-66/
ORGANIZER;CN="RPOA":MAILTO:amanda@insuranceroleplay.com
END:VEVENT
BEGIN:VEVENT
DTSTART;TZID=America/New_York:20211129T150000
DTEND;TZID=America/New_York:20211129T153000
DTSTAMP:20260420T212635
CREATED:20211031T023634Z
LAST-MODIFIED:20211031T023634Z
UID:967-1638198000-1638199800@rpoacal.external.pixelpopmarketing.com
SUMMARY:RPOA Onboarding Session
DESCRIPTION:Welcome to the RPOA Family! \nHere’s what you can expect:\n– A brief intro to the company and how the program works\n– A virtual walk through of the platform and our online library\n– Best practices for faster results
URL:https://rpoacal.external.pixelpopmarketing.com/event/rpoa-onboarding-session-duplicate-1-65/
ORGANIZER;CN="RPOA":MAILTO:amanda@insuranceroleplay.com
END:VEVENT
BEGIN:VEVENT
DTSTART;TZID=America/New_York:20211129T120000
DTEND;TZID=America/New_York:20211129T123000
DTSTAMP:20260420T212635
CREATED:20211101T234556Z
LAST-MODIFIED:20211101T234556Z
UID:1013-1638187200-1638189000@rpoacal.external.pixelpopmarketing.com
SUMMARY:RPOA 101 Demo
DESCRIPTION:We’ll quickly walk through everything that RPOA includes and show you how it has been able to have such an impact in not only our own agencies\, but in hundreds of agencies across the country. This is a great place to ask any questions you may have and get details on how to sign up. \nCopy and paste this link into your browser to sign up for a Zoom demo today! \nhttps://insuranceroleplay.zoom.us/meeting/register/tJAod-Corz8sGdWaNrmWyt47tvMZ7teSNRIu
URL:https://rpoacal.external.pixelpopmarketing.com/event/rpoa-101-demo-duplicate-1-45/
ORGANIZER;CN="RPOA":MAILTO:amanda@insuranceroleplay.com
END:VEVENT
BEGIN:VEVENT
DTSTART;VALUE=DATE:20211126
DTEND;VALUE=DATE:20211127
DTSTAMP:20260420T212635
CREATED:20211031T023541Z
LAST-MODIFIED:20211031T023541Z
UID:965-1637884800-1637971199@rpoacal.external.pixelpopmarketing.com
SUMMARY:Happy Thanksgiving!
DESCRIPTION:Happy Thanksgiving to all of our amazing RPOA members! \nThe RPOA offices will be closed November 25th & 26th in observance of the holiday. Thank you!
URL:https://rpoacal.external.pixelpopmarketing.com/event/happy-thanksgiving-duplicate-1/
END:VEVENT
BEGIN:VEVENT
DTSTART;VALUE=DATE:20211125
DTEND;VALUE=DATE:20211126
DTSTAMP:20260420T212635
CREATED:20211031T023421Z
LAST-MODIFIED:20211031T023421Z
UID:963-1637798400-1637884799@rpoacal.external.pixelpopmarketing.com
SUMMARY:Happy Thanksgiving!
DESCRIPTION:Happy Thanksgiving to all of our amazing RPOA members! \nThe RPOA offices will be closed November 25th & 26th in observance of the holiday. Thank you!
URL:https://rpoacal.external.pixelpopmarketing.com/event/happy-thanksgiving/
END:VEVENT
BEGIN:VEVENT
DTSTART;TZID=America/New_York:20211124T120000
DTEND;TZID=America/New_York:20211124T123000
DTSTAMP:20260420T212635
CREATED:20211101T234503Z
LAST-MODIFIED:20211101T234503Z
UID:1011-1637755200-1637757000@rpoacal.external.pixelpopmarketing.com
SUMMARY:RPOA 101 Demo
DESCRIPTION:We’ll quickly walk through everything that RPOA includes and show you how it has been able to have such an impact in not only our own agencies\, but in hundreds of agencies across the country. This is a great place to ask any questions you may have and get details on how to sign up. \nCopy and paste this link into your browser to sign up for a Zoom demo today! \nhttps://insuranceroleplay.zoom.us/meeting/register/tJAod-Corz8sGdWaNrmWyt47tvMZ7teSNRIu
URL:https://rpoacal.external.pixelpopmarketing.com/event/rpoa-101-demo-duplicate-1-44/
ORGANIZER;CN="RPOA":MAILTO:amanda@insuranceroleplay.com
END:VEVENT
BEGIN:VEVENT
DTSTART;TZID=America/New_York:20211124T120000
DTEND;TZID=America/New_York:20211124T123000
DTSTAMP:20260420T212635
CREATED:20211031T023134Z
LAST-MODIFIED:20211031T023134Z
UID:961-1637755200-1637757000@rpoacal.external.pixelpopmarketing.com
SUMMARY:RPOA Onboarding Session
DESCRIPTION:Welcome to the RPOA Family! \nHere’s what you can expect:\n– A brief intro to the company and how the program works\n– A virtual walk through of the platform and our online library\n– Best practices for faster results
URL:https://rpoacal.external.pixelpopmarketing.com/event/rpoa-onboarding-session-duplicate-1-64/
ORGANIZER;CN="RPOA":MAILTO:amanda@insuranceroleplay.com
END:VEVENT
BEGIN:VEVENT
DTSTART;TZID=America/New_York:20211123T163000
DTEND;TZID=America/New_York:20211123T173000
DTSTAMP:20260420T212635
CREATED:20211031T012746Z
LAST-MODIFIED:20211031T012746Z
UID:935-1637685000-1637688600@rpoacal.external.pixelpopmarketing.com
SUMMARY:Live Q & A Zoom Session for Agency Owners
DESCRIPTION:RPOA gets emails and calls every day asking about the setup of our team\, which leads we work\, incentives\, promos\, hiring\, onboarding\, training\, coaching\, vendors\, the list goes on.  We absolutely love fielding these\, and are now going to be doing so in a live setting for agency owners where you can come on every week and ask whatever is on your mind! \nThese sessions will be every Tuesday after our regular show from 4:30-5:30 EST\, and will be open to all owners and managers. There will be no structured format to these virtual get togethers. Jeremy and Kristin will simply be on and ready to field any questions you may have.  This is YOUR time\, so whether you decide to come every week\, a couple of times a month\, or just when you have something you want to ask\, it’s all up to you! \n***Please email amanda@insuranceroleplay.com if you still need this private link
URL:https://rpoacal.external.pixelpopmarketing.com/event/live-q-a-zoom-session-for-agency-owners-duplicate-1-11/
ORGANIZER;CN="RPOA":MAILTO:amanda@insuranceroleplay.com
END:VEVENT
BEGIN:VEVENT
DTSTART;TZID=America/New_York:20211123T150000
DTEND;TZID=America/New_York:20211123T153000
DTSTAMP:20260420T212635
CREATED:20211031T004157Z
LAST-MODIFIED:20211123T003356Z
UID:883-1637679600-1637681400@rpoacal.external.pixelpopmarketing.com
SUMMARY:Live Role Play Webinar-No thanks\, you’re just too expensive
DESCRIPTION:As much as we try to get away from price by using a stellar process where we don’t sell apples to apples\, people sometimes still make it about price! This week we are going to focus on how to respond to a prospect when they simply tell you that you are too expensive after you present the price. We will talk through the psychology of this subject as well as present a couple strategies that will help us be more effective at talking through these hesitations with the prospect in order to make sense of what we are proposing to them.  You won’t want to miss this Tuesday’s episode! \n 
URL:https://rpoacal.external.pixelpopmarketing.com/event/live-role-play-webinar-tbd-duplicate-1-5/
ORGANIZER;CN="RPOA":MAILTO:amanda@insuranceroleplay.com
END:VEVENT
BEGIN:VEVENT
DTSTART;TZID=America/New_York:20211123T120000
DTEND;TZID=America/New_York:20211123T123000
DTSTAMP:20260420T212635
CREATED:20211101T234427Z
LAST-MODIFIED:20211101T234427Z
UID:1009-1637668800-1637670600@rpoacal.external.pixelpopmarketing.com
SUMMARY:RPOA 101 Demo
DESCRIPTION:We’ll quickly walk through everything that RPOA includes and show you how it has been able to have such an impact in not only our own agencies\, but in hundreds of agencies across the country. This is a great place to ask any questions you may have and get details on how to sign up. \nCopy and paste this link into your browser to sign up for a Zoom demo today! \nhttps://insuranceroleplay.zoom.us/meeting/register/tJAod-Corz8sGdWaNrmWyt47tvMZ7teSNRIu
URL:https://rpoacal.external.pixelpopmarketing.com/event/rpoa-101-demo-duplicate-1-43/
ORGANIZER;CN="RPOA":MAILTO:amanda@insuranceroleplay.com
END:VEVENT
BEGIN:VEVENT
DTSTART;TZID=America/New_York:20211123T120000
DTEND;TZID=America/New_York:20211123T123000
DTSTAMP:20260420T212635
CREATED:20211031T023106Z
LAST-MODIFIED:20211031T023106Z
UID:959-1637668800-1637670600@rpoacal.external.pixelpopmarketing.com
SUMMARY:RPOA Onboarding Session
DESCRIPTION:Welcome to the RPOA Family! \nHere’s what you can expect:\n– A brief intro to the company and how the program works\n– A virtual walk through of the platform and our online library\n– Best practices for faster results
URL:https://rpoacal.external.pixelpopmarketing.com/event/rpoa-onboarding-session-duplicate-1-63/
ORGANIZER;CN="RPOA":MAILTO:amanda@insuranceroleplay.com
END:VEVENT
BEGIN:VEVENT
DTSTART;TZID=America/New_York:20211122T150000
DTEND;TZID=America/New_York:20211122T153000
DTSTAMP:20260420T212635
CREATED:20211031T023019Z
LAST-MODIFIED:20211031T023019Z
UID:957-1637593200-1637595000@rpoacal.external.pixelpopmarketing.com
SUMMARY:RPOA Onboarding Session
DESCRIPTION:Welcome to the RPOA Family! \nHere’s what you can expect:\n– A brief intro to the company and how the program works\n– A virtual walk through of the platform and our online library\n– Best practices for faster results
URL:https://rpoacal.external.pixelpopmarketing.com/event/rpoa-onboarding-session-duplicate-1-62/
ORGANIZER;CN="RPOA":MAILTO:amanda@insuranceroleplay.com
END:VEVENT
BEGIN:VEVENT
DTSTART;TZID=America/New_York:20211122T120000
DTEND;TZID=America/New_York:20211122T123000
DTSTAMP:20260420T212635
CREATED:20211101T234344Z
LAST-MODIFIED:20211101T234344Z
UID:1007-1637582400-1637584200@rpoacal.external.pixelpopmarketing.com
SUMMARY:RPOA 101 Demo
DESCRIPTION:We’ll quickly walk through everything that RPOA includes and show you how it has been able to have such an impact in not only our own agencies\, but in hundreds of agencies across the country. This is a great place to ask any questions you may have and get details on how to sign up. \nCopy and paste this link into your browser to sign up for a Zoom demo today! \nhttps://insuranceroleplay.zoom.us/meeting/register/tJAod-Corz8sGdWaNrmWyt47tvMZ7teSNRIu
URL:https://rpoacal.external.pixelpopmarketing.com/event/rpoa-101-demo-duplicate-1-42/
ORGANIZER;CN="RPOA":MAILTO:amanda@insuranceroleplay.com
END:VEVENT
BEGIN:VEVENT
DTSTART;TZID=America/New_York:20211119T150000
DTEND;TZID=America/New_York:20211119T153000
DTSTAMP:20260420T212635
CREATED:20211031T022949Z
LAST-MODIFIED:20211031T022949Z
UID:955-1637334000-1637335800@rpoacal.external.pixelpopmarketing.com
SUMMARY:RPOA Onboarding Session
DESCRIPTION:Welcome to the RPOA Family! \nHere’s what you can expect:\n– A brief intro to the company and how the program works\n– A virtual walk through of the platform and our online library\n– Best practices for faster results
URL:https://rpoacal.external.pixelpopmarketing.com/event/rpoa-onboarding-session-duplicate-1-61/
ORGANIZER;CN="RPOA":MAILTO:amanda@insuranceroleplay.com
END:VEVENT
BEGIN:VEVENT
DTSTART;TZID=America/New_York:20211119T120000
DTEND;TZID=America/New_York:20211119T123000
DTSTAMP:20260420T212635
CREATED:20211031T042947Z
LAST-MODIFIED:20211031T042947Z
UID:1005-1637323200-1637325000@rpoacal.external.pixelpopmarketing.com
SUMMARY:RPOA 101 Demo
DESCRIPTION:We’ll quickly walk through everything that RPOA includes and show you how it has been able to have such an impact in not only our own agencies\, but in hundreds of agencies across the country. This is a great place to ask any questions you may have and get details on how to sign up. \nCopy and paste this link into your browser to sign up for a Zoom demo today! \nhttps://insuranceroleplay.zoom.us/meeting/register/tJAod-Corz8sGdWaNrmWyt47tvMZ7teSNRIu
URL:https://rpoacal.external.pixelpopmarketing.com/event/rpoa-101-demo-duplicate-1-41/
ORGANIZER;CN="RPOA":MAILTO:amanda@insuranceroleplay.com
END:VEVENT
BEGIN:VEVENT
DTSTART;TZID=America/New_York:20211118T120000
DTEND;TZID=America/New_York:20211118T123000
DTSTAMP:20260420T212635
CREATED:20211031T042913Z
LAST-MODIFIED:20211031T042913Z
UID:1003-1637236800-1637238600@rpoacal.external.pixelpopmarketing.com
SUMMARY:RPOA 101 Demo
DESCRIPTION:We’ll quickly walk through everything that RPOA includes and show you how it has been able to have such an impact in not only our own agencies\, but in hundreds of agencies across the country. This is a great place to ask any questions you may have and get details on how to sign up. \nCopy and paste this link into your browser to sign up for a Zoom demo today! \nhttps://insuranceroleplay.zoom.us/meeting/register/tJAod-Corz8sGdWaNrmWyt47tvMZ7teSNRIu
URL:https://rpoacal.external.pixelpopmarketing.com/event/rpoa-101-demo-duplicate-1-40/
ORGANIZER;CN="RPOA":MAILTO:amanda@insuranceroleplay.com
END:VEVENT
BEGIN:VEVENT
DTSTART;TZID=America/New_York:20211118T120000
DTEND;TZID=America/New_York:20211118T123000
DTSTAMP:20260420T212635
CREATED:20211031T022918Z
LAST-MODIFIED:20211031T022918Z
UID:953-1637236800-1637238600@rpoacal.external.pixelpopmarketing.com
SUMMARY:RPOA Onboarding Session
DESCRIPTION:Welcome to the RPOA Family! \nHere’s what you can expect:\n– A brief intro to the company and how the program works\n– A virtual walk through of the platform and our online library\n– Best practices for faster results
URL:https://rpoacal.external.pixelpopmarketing.com/event/rpoa-onboarding-session-duplicate-1-60/
ORGANIZER;CN="RPOA":MAILTO:amanda@insuranceroleplay.com
END:VEVENT
BEGIN:VEVENT
DTSTART;TZID=America/New_York:20211117T120000
DTEND;TZID=America/New_York:20211117T123000
DTSTAMP:20260420T212635
CREATED:20211031T042842Z
LAST-MODIFIED:20211031T042842Z
UID:1001-1637150400-1637152200@rpoacal.external.pixelpopmarketing.com
SUMMARY:RPOA 101 Demo
DESCRIPTION:We’ll quickly walk through everything that RPOA includes and show you how it has been able to have such an impact in not only our own agencies\, but in hundreds of agencies across the country. This is a great place to ask any questions you may have and get details on how to sign up. \nCopy and paste this link into your browser to sign up for a Zoom demo today! \nhttps://insuranceroleplay.zoom.us/meeting/register/tJAod-Corz8sGdWaNrmWyt47tvMZ7teSNRIu
URL:https://rpoacal.external.pixelpopmarketing.com/event/rpoa-101-demo-duplicate-1-39/
ORGANIZER;CN="RPOA":MAILTO:amanda@insuranceroleplay.com
END:VEVENT
BEGIN:VEVENT
DTSTART;TZID=America/New_York:20211117T120000
DTEND;TZID=America/New_York:20211117T123000
DTSTAMP:20260420T212635
CREATED:20211031T022835Z
LAST-MODIFIED:20211031T022835Z
UID:951-1637150400-1637152200@rpoacal.external.pixelpopmarketing.com
SUMMARY:RPOA Onboarding Session
DESCRIPTION:Welcome to the RPOA Family! \nHere’s what you can expect:\n– A brief intro to the company and how the program works\n– A virtual walk through of the platform and our online library\n– Best practices for faster results
URL:https://rpoacal.external.pixelpopmarketing.com/event/rpoa-onboarding-session-duplicate-1-59/
ORGANIZER;CN="RPOA":MAILTO:amanda@insuranceroleplay.com
END:VEVENT
BEGIN:VEVENT
DTSTART;TZID=America/New_York:20211116T163000
DTEND;TZID=America/New_York:20211116T173000
DTSTAMP:20260420T212635
CREATED:20211031T012719Z
LAST-MODIFIED:20211031T012719Z
UID:933-1637080200-1637083800@rpoacal.external.pixelpopmarketing.com
SUMMARY:Live Q & A Zoom Session for Agency Owners
DESCRIPTION:RPOA gets emails and calls every day asking about the setup of our team\, which leads we work\, incentives\, promos\, hiring\, onboarding\, training\, coaching\, vendors\, the list goes on.  We absolutely love fielding these\, and are now going to be doing so in a live setting for agency owners where you can come on every week and ask whatever is on your mind! \nThese sessions will be every Tuesday after our regular show from 4:30-5:30 EST\, and will be open to all owners and managers. There will be no structured format to these virtual get togethers. Jeremy and Kristin will simply be on and ready to field any questions you may have.  This is YOUR time\, so whether you decide to come every week\, a couple of times a month\, or just when you have something you want to ask\, it’s all up to you! \n***Please email amanda@insuranceroleplay.com if you still need this private link
URL:https://rpoacal.external.pixelpopmarketing.com/event/live-q-a-zoom-session-for-agency-owners-duplicate-1-10/
ORGANIZER;CN="RPOA":MAILTO:amanda@insuranceroleplay.com
END:VEVENT
BEGIN:VEVENT
DTSTART;TZID=America/New_York:20211116T150000
DTEND;TZID=America/New_York:20211116T153000
DTSTAMP:20260420T212635
CREATED:20211031T004125Z
LAST-MODIFIED:20211116T001158Z
UID:881-1637074800-1637076600@rpoacal.external.pixelpopmarketing.com
SUMMARY:Live Role Play Webinar-Call me back after the holidays
DESCRIPTION:This is the time of year we start to hear this from prospects\, “I just don’t have time right now\, can you call me back after the holidays?”  Join us this week to learn how to open the door and continue the conversation when presented with this pushback so you don’t have your sales impacted by this!
URL:https://rpoacal.external.pixelpopmarketing.com/event/live-role-play-webinar-tbd-duplicate-1-4/
ORGANIZER;CN="RPOA":MAILTO:amanda@insuranceroleplay.com
END:VEVENT
BEGIN:VEVENT
DTSTART;TZID=America/New_York:20211116T120000
DTEND;TZID=America/New_York:20211116T123000
DTSTAMP:20260420T212635
CREATED:20211031T042806Z
LAST-MODIFIED:20211031T042806Z
UID:999-1637064000-1637065800@rpoacal.external.pixelpopmarketing.com
SUMMARY:RPOA 101 Demo
DESCRIPTION:We’ll quickly walk through everything that RPOA includes and show you how it has been able to have such an impact in not only our own agencies\, but in hundreds of agencies across the country. This is a great place to ask any questions you may have and get details on how to sign up. \nCopy and paste this link into your browser to sign up for a Zoom demo today! \nhttps://insuranceroleplay.zoom.us/meeting/register/tJAod-Corz8sGdWaNrmWyt47tvMZ7teSNRIu
URL:https://rpoacal.external.pixelpopmarketing.com/event/rpoa-101-demo-duplicate-1-38/
ORGANIZER;CN="RPOA":MAILTO:amanda@insuranceroleplay.com
END:VEVENT
BEGIN:VEVENT
DTSTART;TZID=America/New_York:20211116T120000
DTEND;TZID=America/New_York:20211116T123000
DTSTAMP:20260420T212635
CREATED:20211031T015418Z
LAST-MODIFIED:20211031T015418Z
UID:949-1637064000-1637065800@rpoacal.external.pixelpopmarketing.com
SUMMARY:RPOA Onboarding Session
DESCRIPTION:Welcome to the RPOA Family! \nHere’s what you can expect:\n– A brief intro to the company and how the program works\n– A virtual walk through of the platform and our online library\n– Best practices for faster results
URL:https://rpoacal.external.pixelpopmarketing.com/event/rpoa-onboarding-session-duplicate-1-58/
ORGANIZER;CN="RPOA":MAILTO:amanda@insuranceroleplay.com
END:VEVENT
BEGIN:VEVENT
DTSTART;TZID=America/New_York:20211115T150000
DTEND;TZID=America/New_York:20211115T153000
DTSTAMP:20260420T212635
CREATED:20211031T015340Z
LAST-MODIFIED:20211031T015340Z
UID:947-1636988400-1636990200@rpoacal.external.pixelpopmarketing.com
SUMMARY:RPOA Onboarding Session
DESCRIPTION:Welcome to the RPOA Family! \nHere’s what you can expect:\n– A brief intro to the company and how the program works\n– A virtual walk through of the platform and our online library\n– Best practices for faster results
URL:https://rpoacal.external.pixelpopmarketing.com/event/rpoa-onboarding-session-duplicate-1-57/
ORGANIZER;CN="RPOA":MAILTO:amanda@insuranceroleplay.com
END:VEVENT
BEGIN:VEVENT
DTSTART;TZID=America/New_York:20211115T120000
DTEND;TZID=America/New_York:20211115T123000
DTSTAMP:20260420T212635
CREATED:20211031T042720Z
LAST-MODIFIED:20211031T042720Z
UID:997-1636977600-1636979400@rpoacal.external.pixelpopmarketing.com
SUMMARY:RPOA 101 Demo
DESCRIPTION:We’ll quickly walk through everything that RPOA includes and show you how it has been able to have such an impact in not only our own agencies\, but in hundreds of agencies across the country. This is a great place to ask any questions you may have and get details on how to sign up. \nCopy and paste this link into your browser to sign up for a Zoom demo today! \nhttps://insuranceroleplay.zoom.us/meeting/register/tJAod-Corz8sGdWaNrmWyt47tvMZ7teSNRIu
URL:https://rpoacal.external.pixelpopmarketing.com/event/rpoa-101-demo-duplicate-1-37/
ORGANIZER;CN="RPOA":MAILTO:amanda@insuranceroleplay.com
END:VEVENT
BEGIN:VEVENT
DTSTART;TZID=America/New_York:20211112T150000
DTEND;TZID=America/New_York:20211112T153000
DTSTAMP:20260420T212635
CREATED:20211031T012026Z
LAST-MODIFIED:20211031T012026Z
UID:923-1636729200-1636731000@rpoacal.external.pixelpopmarketing.com
SUMMARY:RPOA Onboarding Session
DESCRIPTION:Welcome to the RPOA Family! \nHere’s what you can expect:\n– A brief intro to the company and how the program works\n– A virtual walk through of the platform and our online library\n– Best practices for faster results
URL:https://rpoacal.external.pixelpopmarketing.com/event/rpoa-onboarding-session-duplicate-1-54/
ORGANIZER;CN="RPOA":MAILTO:amanda@insuranceroleplay.com
END:VEVENT
BEGIN:VEVENT
DTSTART;TZID=America/New_York:20211112T120000
DTEND;TZID=America/New_York:20211112T123000
DTSTAMP:20260420T212635
CREATED:20211031T042639Z
LAST-MODIFIED:20211031T042639Z
UID:995-1636718400-1636720200@rpoacal.external.pixelpopmarketing.com
SUMMARY:RPOA 101 Demo
DESCRIPTION:We’ll quickly walk through everything that RPOA includes and show you how it has been able to have such an impact in not only our own agencies\, but in hundreds of agencies across the country. This is a great place to ask any questions you may have and get details on how to sign up. \nCopy and paste this link into your browser to sign up for a Zoom demo today! \nhttps://insuranceroleplay.zoom.us/meeting/register/tJAod-Corz8sGdWaNrmWyt47tvMZ7teSNRIu
URL:https://rpoacal.external.pixelpopmarketing.com/event/rpoa-101-demo-duplicate-1-36/
ORGANIZER;CN="RPOA":MAILTO:amanda@insuranceroleplay.com
END:VEVENT
BEGIN:VEVENT
DTSTART;TZID=America/New_York:20211111T120000
DTEND;TZID=America/New_York:20211111T170000
DTSTAMP:20260420T212635
CREATED:20211031T004857Z
LAST-MODIFIED:20211031T005230Z
UID:898-1636632000-1636650000@rpoacal.external.pixelpopmarketing.com
SUMMARY:Outside Sales Mastery with RDCR-2 Day LIVE Workshop
DESCRIPTION:***SOLD OUT*** \nIn this LIVE VIRTUAL WORKSHOP\, you will learn how to use our proven RDCR sales process while working internet leads or taking live transfers. In using this process\, our own team has been able to enjoy a 16% close rate on internet leads\, and maintain 87% first year retention on this business. Building a relationship with a prospect is an art and we will teach you proven techniques that will give you the lift you are looking for in working leads! \n\n\n\n*Better understand how using a proven process every single time will increase effectiveness\n*Memorize a proven process for explaining discounts and coverage clearly and concisely\n*Master a process that you can use every time to gain buy in from the prospect and close more sales\n*Be excited to get on the phones and increase their sales and service\n\nAttendees: Please check your email for pre-work and private Zoom link for this workshop. Thanks!
URL:https://rpoacal.external.pixelpopmarketing.com/event/outside-sales-mastery-with-rdcr-2-day-live-workshop-duplicate-1-3/
ORGANIZER;CN="RPOA":MAILTO:amanda@insuranceroleplay.com
END:VEVENT
BEGIN:VEVENT
DTSTART;TZID=America/New_York:20211111T120000
DTEND;TZID=America/New_York:20211111T123000
DTSTAMP:20260420T212635
CREATED:20211031T042610Z
LAST-MODIFIED:20211031T042610Z
UID:993-1636632000-1636633800@rpoacal.external.pixelpopmarketing.com
SUMMARY:RPOA 101 Demo
DESCRIPTION:We’ll quickly walk through everything that RPOA includes and show you how it has been able to have such an impact in not only our own agencies\, but in hundreds of agencies across the country. This is a great place to ask any questions you may have and get details on how to sign up. \nCopy and paste this link into your browser to sign up for a Zoom demo today! \nhttps://insuranceroleplay.zoom.us/meeting/register/tJAod-Corz8sGdWaNrmWyt47tvMZ7teSNRIu
URL:https://rpoacal.external.pixelpopmarketing.com/event/rpoa-101-demo-duplicate-1-35/
ORGANIZER;CN="RPOA":MAILTO:amanda@insuranceroleplay.com
END:VEVENT
END:VCALENDAR