BEGIN:VCALENDAR
VERSION:2.0
PRODID:-//RPOA Events Calendar - ECPv6.1.3//NONSGML v1.0//EN
CALSCALE:GREGORIAN
METHOD:PUBLISH
X-WR-CALNAME:RPOA Events Calendar
X-ORIGINAL-URL:https://rpoacal.external.pixelpopmarketing.com
X-WR-CALDESC:Events for RPOA Events Calendar
REFRESH-INTERVAL;VALUE=DURATION:PT1H
X-Robots-Tag:noindex
X-PUBLISHED-TTL:PT1H
BEGIN:VTIMEZONE
TZID:America/New_York
BEGIN:DAYLIGHT
TZOFFSETFROM:-0500
TZOFFSETTO:-0400
TZNAME:EDT
DTSTART:20210314T070000
END:DAYLIGHT
BEGIN:STANDARD
TZOFFSETFROM:-0400
TZOFFSETTO:-0500
TZNAME:EST
DTSTART:20211107T060000
END:STANDARD
END:VTIMEZONE
BEGIN:VEVENT
DTSTART;TZID=America/New_York:20211227T150000
DTEND;TZID=America/New_York:20211227T153000
DTSTAMP:20260420T145937
CREATED:20211203T005527Z
LAST-MODIFIED:20211203T005527Z
UID:1058-1640617200-1640619000@rpoacal.external.pixelpopmarketing.com
SUMMARY:RPOA Onboarding Session
DESCRIPTION:Welcome to the RPOA Family! \nHere’s what you can expect:\n– A brief intro to the company and how the program works\n– A virtual walk through of the platform and our online library\n– Best practices for faster results
URL:https://rpoacal.external.pixelpopmarketing.com/event/rpoa-onboarding-session-duplicate-1-78/
ORGANIZER;CN="RPOA":MAILTO:amanda@insuranceroleplay.com
END:VEVENT
BEGIN:VEVENT
DTSTART;VALUE=DATE:20211224
DTEND;VALUE=DATE:20211225
DTSTAMP:20260420T145937
CREATED:20211202T012344Z
LAST-MODIFIED:20211202T012344Z
UID:1036-1640304000-1640390399@rpoacal.external.pixelpopmarketing.com
SUMMARY:Happy Holidays!
DESCRIPTION:Happy Holidays to all of our amazing RPOA members! \nThe RPOA offices will be closed December 24th & 31st in observance of the holidays. \nThank you and HAPPY New Years!
URL:https://rpoacal.external.pixelpopmarketing.com/event/happy-thanksgiving-duplicate-1-2/
END:VEVENT
BEGIN:VEVENT
DTSTART;TZID=America/New_York:20211223T120000
DTEND;TZID=America/New_York:20211223T123000
DTSTAMP:20260420T145937
CREATED:20211203T010039Z
LAST-MODIFIED:20211203T010039Z
UID:1066-1640260800-1640262600@rpoacal.external.pixelpopmarketing.com
SUMMARY:RPOA Onboarding Session
DESCRIPTION:Welcome to the RPOA Family! \nHere’s what you can expect:\n– A brief intro to the company and how the program works\n– A virtual walk through of the platform and our online library\n– Best practices for faster results
URL:https://rpoacal.external.pixelpopmarketing.com/event/rpoa-onboarding-session-duplicate-1-82/
ORGANIZER;CN="RPOA":MAILTO:amanda@insuranceroleplay.com
END:VEVENT
BEGIN:VEVENT
DTSTART;TZID=America/New_York:20211222T120000
DTEND;TZID=America/New_York:20211222T123000
DTSTAMP:20260420T145937
CREATED:20211203T010001Z
LAST-MODIFIED:20211203T010001Z
UID:1064-1640174400-1640176200@rpoacal.external.pixelpopmarketing.com
SUMMARY:RPOA Onboarding Session
DESCRIPTION:Welcome to the RPOA Family! \nHere’s what you can expect:\n– A brief intro to the company and how the program works\n– A virtual walk through of the platform and our online library\n– Best practices for faster results
URL:https://rpoacal.external.pixelpopmarketing.com/event/rpoa-onboarding-session-duplicate-1-81/
ORGANIZER;CN="RPOA":MAILTO:amanda@insuranceroleplay.com
END:VEVENT
BEGIN:VEVENT
DTSTART;TZID=America/New_York:20211221T163000
DTEND;TZID=America/New_York:20211221T173000
DTSTAMP:20260420T145937
CREATED:20211031T012931Z
LAST-MODIFIED:20211031T012931Z
UID:943-1640104200-1640107800@rpoacal.external.pixelpopmarketing.com
SUMMARY:Live Q & A Zoom Session for Agency Owners
DESCRIPTION:RPOA gets emails and calls every day asking about the setup of our team\, which leads we work\, incentives\, promos\, hiring\, onboarding\, training\, coaching\, vendors\, the list goes on.  We absolutely love fielding these\, and are now going to be doing so in a live setting for agency owners where you can come on every week and ask whatever is on your mind! \nThese sessions will be every Tuesday after our regular show from 4:30-5:30 EST\, and will be open to all owners and managers. There will be no structured format to these virtual get togethers. Jeremy and Kristin will simply be on and ready to field any questions you may have.  This is YOUR time\, so whether you decide to come every week\, a couple of times a month\, or just when you have something you want to ask\, it’s all up to you! \n***Please email amanda@insuranceroleplay.com if you still need this private link
URL:https://rpoacal.external.pixelpopmarketing.com/event/live-q-a-zoom-session-for-agency-owners-duplicate-1-15/
ORGANIZER;CN="RPOA":MAILTO:amanda@insuranceroleplay.com
END:VEVENT
BEGIN:VEVENT
DTSTART;TZID=America/New_York:20211221T150000
DTEND;TZID=America/New_York:20211221T153000
DTSTAMP:20260420T145937
CREATED:20211031T004353Z
LAST-MODIFIED:20211220T200723Z
UID:891-1640098800-1640100600@rpoacal.external.pixelpopmarketing.com
SUMMARY:Live Role Play Webinar-"I’ll go with you guys if you can beat my current price…"
DESCRIPTION:This is a front end objection that we have been hearing from prospects a bit more lately\, so we thought we would focus on different ways to overcome what can potentially be a “jarring” way to start your calls.  Join us this week to learn some tactics to address this and how to get back on track to following “the process” that we all know is so important if we are going to get the best results!
URL:https://rpoacal.external.pixelpopmarketing.com/event/live-role-play-webinar-tbd-duplicate-1-9/
ORGANIZER;CN="RPOA":MAILTO:amanda@insuranceroleplay.com
END:VEVENT
BEGIN:VEVENT
DTSTART;TZID=America/New_York:20211221T120000
DTEND;TZID=America/New_York:20211221T123000
DTSTAMP:20260420T145937
CREATED:20211203T010129Z
LAST-MODIFIED:20211203T010129Z
UID:1068-1640088000-1640089800@rpoacal.external.pixelpopmarketing.com
SUMMARY:RPOA Onboarding Session
DESCRIPTION:Welcome to the RPOA Family! \nHere’s what you can expect:\n– A brief intro to the company and how the program works\n– A virtual walk through of the platform and our online library\n– Best practices for faster results
URL:https://rpoacal.external.pixelpopmarketing.com/event/rpoa-onboarding-session-duplicate-1-83/
ORGANIZER;CN="RPOA":MAILTO:amanda@insuranceroleplay.com
END:VEVENT
BEGIN:VEVENT
DTSTART;TZID=America/New_York:20211220T150000
DTEND;TZID=America/New_York:20211220T153000
DTSTAMP:20260420T145937
CREATED:20211203T002541Z
LAST-MODIFIED:20211203T002541Z
UID:1054-1640012400-1640014200@rpoacal.external.pixelpopmarketing.com
SUMMARY:RPOA Onboarding Session
DESCRIPTION:Welcome to the RPOA Family! \nHere’s what you can expect:\n– A brief intro to the company and how the program works\n– A virtual walk through of the platform and our online library\n– Best practices for faster results
URL:https://rpoacal.external.pixelpopmarketing.com/event/rpoa-onboarding-session-duplicate-1-76/
ORGANIZER;CN="RPOA":MAILTO:amanda@insuranceroleplay.com
END:VEVENT
BEGIN:VEVENT
DTSTART;TZID=America/New_York:20211217T150000
DTEND;TZID=America/New_York:20211217T153000
DTSTAMP:20260420T145937
CREATED:20211203T005816Z
LAST-MODIFIED:20211203T005816Z
UID:1062-1639753200-1639755000@rpoacal.external.pixelpopmarketing.com
SUMMARY:RPOA Onboarding Session
DESCRIPTION:Welcome to the RPOA Family! \nHere’s what you can expect:\n– A brief intro to the company and how the program works\n– A virtual walk through of the platform and our online library\n– Best practices for faster results
URL:https://rpoacal.external.pixelpopmarketing.com/event/rpoa-onboarding-session-duplicate-1-80/
ORGANIZER;CN="RPOA":MAILTO:amanda@insuranceroleplay.com
END:VEVENT
BEGIN:VEVENT
DTSTART;TZID=America/New_York:20211216T120000
DTEND;TZID=America/New_York:20211216T123000
DTSTAMP:20260420T145937
CREATED:20211203T005716Z
LAST-MODIFIED:20211203T005716Z
UID:1060-1639656000-1639657800@rpoacal.external.pixelpopmarketing.com
SUMMARY:RPOA Onboarding Session
DESCRIPTION:Welcome to the RPOA Family! \nHere’s what you can expect:\n– A brief intro to the company and how the program works\n– A virtual walk through of the platform and our online library\n– Best practices for faster results
URL:https://rpoacal.external.pixelpopmarketing.com/event/rpoa-onboarding-session-duplicate-1-79/
ORGANIZER;CN="RPOA":MAILTO:amanda@insuranceroleplay.com
END:VEVENT
BEGIN:VEVENT
DTSTART;TZID=America/New_York:20211215T120000
DTEND;TZID=America/New_York:20211215T123000
DTSTAMP:20260420T145937
CREATED:20211203T002228Z
LAST-MODIFIED:20211203T002228Z
UID:1052-1639569600-1639571400@rpoacal.external.pixelpopmarketing.com
SUMMARY:RPOA Onboarding Session
DESCRIPTION:Welcome to the RPOA Family! \nHere’s what you can expect:\n– A brief intro to the company and how the program works\n– A virtual walk through of the platform and our online library\n– Best practices for faster results
URL:https://rpoacal.external.pixelpopmarketing.com/event/rpoa-onboarding-session-duplicate-1-75/
ORGANIZER;CN="RPOA":MAILTO:amanda@insuranceroleplay.com
END:VEVENT
BEGIN:VEVENT
DTSTART;TZID=America/New_York:20211214T163000
DTEND;TZID=America/New_York:20211214T173000
DTSTAMP:20260420T145937
CREATED:20211031T012905Z
LAST-MODIFIED:20211031T012905Z
UID:941-1639499400-1639503000@rpoacal.external.pixelpopmarketing.com
SUMMARY:Live Q & A Zoom Session for Agency Owners
DESCRIPTION:RPOA gets emails and calls every day asking about the setup of our team\, which leads we work\, incentives\, promos\, hiring\, onboarding\, training\, coaching\, vendors\, the list goes on.  We absolutely love fielding these\, and are now going to be doing so in a live setting for agency owners where you can come on every week and ask whatever is on your mind! \nThese sessions will be every Tuesday after our regular show from 4:30-5:30 EST\, and will be open to all owners and managers. There will be no structured format to these virtual get togethers. Jeremy and Kristin will simply be on and ready to field any questions you may have.  This is YOUR time\, so whether you decide to come every week\, a couple of times a month\, or just when you have something you want to ask\, it’s all up to you! \n***Please email amanda@insuranceroleplay.com if you still need this private link
URL:https://rpoacal.external.pixelpopmarketing.com/event/live-q-a-zoom-session-for-agency-owners-duplicate-1-14/
ORGANIZER;CN="RPOA":MAILTO:amanda@insuranceroleplay.com
END:VEVENT
BEGIN:VEVENT
DTSTART;TZID=America/New_York:20211214T150000
DTEND;TZID=America/New_York:20211214T153000
DTSTAMP:20260420T145937
CREATED:20211031T004321Z
LAST-MODIFIED:20211213T220213Z
UID:889-1639494000-1639495800@rpoacal.external.pixelpopmarketing.com
SUMMARY:Live Role Play Webinar-Creating a Vision and a Plan for 2022!
DESCRIPTION:This week we are going to work on planning out our vision for the upcoming year. The more specific we are with where we want to go\, the more likely we are to get there!  By the end of this episode\, you will be fully prepared to work on your own vision and to create one that will have a lasting impact!
URL:https://rpoacal.external.pixelpopmarketing.com/event/live-role-play-webinar-tbd-duplicate-1-8/
ORGANIZER;CN="RPOA":MAILTO:amanda@insuranceroleplay.com
END:VEVENT
BEGIN:VEVENT
DTSTART;TZID=America/New_York:20211214T120000
DTEND;TZID=America/New_York:20211214T123000
DTSTAMP:20260420T145937
CREATED:20211203T001631Z
LAST-MODIFIED:20211203T001631Z
UID:1046-1639483200-1639485000@rpoacal.external.pixelpopmarketing.com
SUMMARY:RPOA Onboarding Session
DESCRIPTION:Welcome to the RPOA Family! \nHere’s what you can expect:\n– A brief intro to the company and how the program works\n– A virtual walk through of the platform and our online library\n– Best practices for faster results
URL:https://rpoacal.external.pixelpopmarketing.com/event/rpoa-onboarding-session-duplicate-1-72/
ORGANIZER;CN="RPOA":MAILTO:amanda@insuranceroleplay.com
END:VEVENT
BEGIN:VEVENT
DTSTART;TZID=America/New_York:20211213T150000
DTEND;TZID=America/New_York:20211213T153000
DTSTAMP:20260420T145937
CREATED:20211203T003853Z
LAST-MODIFIED:20211203T003853Z
UID:1056-1639407600-1639409400@rpoacal.external.pixelpopmarketing.com
SUMMARY:RPOA Onboarding Session
DESCRIPTION:Welcome to the RPOA Family! \nHere’s what you can expect:\n– A brief intro to the company and how the program works\n– A virtual walk through of the platform and our online library\n– Best practices for faster results
URL:https://rpoacal.external.pixelpopmarketing.com/event/rpoa-onboarding-session-duplicate-1-77/
ORGANIZER;CN="RPOA":MAILTO:amanda@insuranceroleplay.com
END:VEVENT
BEGIN:VEVENT
DTSTART;TZID=America/New_York:20211210T150000
DTEND;TZID=America/New_York:20211210T153000
DTSTAMP:20260420T145937
CREATED:20211203T001851Z
LAST-MODIFIED:20211203T001851Z
UID:1048-1639148400-1639150200@rpoacal.external.pixelpopmarketing.com
SUMMARY:RPOA Onboarding Session
DESCRIPTION:Welcome to the RPOA Family! \nHere’s what you can expect:\n– A brief intro to the company and how the program works\n– A virtual walk through of the platform and our online library\n– Best practices for faster results
URL:https://rpoacal.external.pixelpopmarketing.com/event/rpoa-onboarding-session-duplicate-1-73/
ORGANIZER;CN="RPOA":MAILTO:amanda@insuranceroleplay.com
END:VEVENT
BEGIN:VEVENT
DTSTART;TZID=America/New_York:20211209T120000
DTEND;TZID=America/New_York:20211209T123000
DTSTAMP:20260420T145937
CREATED:20211203T001419Z
LAST-MODIFIED:20211203T001419Z
UID:1044-1639051200-1639053000@rpoacal.external.pixelpopmarketing.com
SUMMARY:RPOA Onboarding Session
DESCRIPTION:Welcome to the RPOA Family! \nHere’s what you can expect:\n– A brief intro to the company and how the program works\n– A virtual walk through of the platform and our online library\n– Best practices for faster results
URL:https://rpoacal.external.pixelpopmarketing.com/event/rpoa-onboarding-session-duplicate-1-71/
ORGANIZER;CN="RPOA":MAILTO:amanda@insuranceroleplay.com
END:VEVENT
BEGIN:VEVENT
DTSTART;TZID=America/New_York:20211208T120000
DTEND;TZID=America/New_York:20211208T123000
DTSTAMP:20260420T145937
CREATED:20211203T001208Z
LAST-MODIFIED:20211203T001208Z
UID:1042-1638964800-1638966600@rpoacal.external.pixelpopmarketing.com
SUMMARY:RPOA Onboarding Session
DESCRIPTION:Welcome to the RPOA Family! \nHere’s what you can expect:\n– A brief intro to the company and how the program works\n– A virtual walk through of the platform and our online library\n– Best practices for faster results
URL:https://rpoacal.external.pixelpopmarketing.com/event/rpoa-onboarding-session-duplicate-1-70/
ORGANIZER;CN="RPOA":MAILTO:amanda@insuranceroleplay.com
END:VEVENT
BEGIN:VEVENT
DTSTART;TZID=America/New_York:20211207T163000
DTEND;TZID=America/New_York:20211207T173000
DTSTAMP:20260420T145937
CREATED:20211031T012838Z
LAST-MODIFIED:20211031T012838Z
UID:939-1638894600-1638898200@rpoacal.external.pixelpopmarketing.com
SUMMARY:Live Q & A Zoom Session for Agency Owners
DESCRIPTION:RPOA gets emails and calls every day asking about the setup of our team\, which leads we work\, incentives\, promos\, hiring\, onboarding\, training\, coaching\, vendors\, the list goes on.  We absolutely love fielding these\, and are now going to be doing so in a live setting for agency owners where you can come on every week and ask whatever is on your mind! \nThese sessions will be every Tuesday after our regular show from 4:30-5:30 EST\, and will be open to all owners and managers. There will be no structured format to these virtual get togethers. Jeremy and Kristin will simply be on and ready to field any questions you may have.  This is YOUR time\, so whether you decide to come every week\, a couple of times a month\, or just when you have something you want to ask\, it’s all up to you! \n***Please email amanda@insuranceroleplay.com if you still need this private link
URL:https://rpoacal.external.pixelpopmarketing.com/event/live-q-a-zoom-session-for-agency-owners-duplicate-1-13/
ORGANIZER;CN="RPOA":MAILTO:amanda@insuranceroleplay.com
END:VEVENT
BEGIN:VEVENT
DTSTART;TZID=America/New_York:20211207T150000
DTEND;TZID=America/New_York:20211207T153000
DTSTAMP:20260420T145937
CREATED:20211031T004257Z
LAST-MODIFIED:20211202T012031Z
UID:887-1638889200-1638891000@rpoacal.external.pixelpopmarketing.com
SUMMARY:Live Role Play Webinar-Taking a service call from “hello” to a cross sale!
DESCRIPTION:Taking service calls is such an opportunity to create long lasting relationships with our customers\, give a 5 star experience and make sure if it makes sense to cross sell into different lines. So\, this week we will show you how we take an everyday service call from that initial interaction to a full review and cross sale. We do this in a way that really helps the customer understand their coverage better and leaves them better protected. You won’t want to miss this week!
URL:https://rpoacal.external.pixelpopmarketing.com/event/live-role-play-webinar-tbd-duplicate-1-7/
ORGANIZER;CN="RPOA":MAILTO:amanda@insuranceroleplay.com
END:VEVENT
BEGIN:VEVENT
DTSTART;TZID=America/New_York:20211207T120000
DTEND;TZID=America/New_York:20211207T123000
DTSTAMP:20260420T145937
CREATED:20211203T001130Z
LAST-MODIFIED:20211203T001130Z
UID:1040-1638878400-1638880200@rpoacal.external.pixelpopmarketing.com
SUMMARY:RPOA Onboarding Session
DESCRIPTION:Welcome to the RPOA Family! \nHere’s what you can expect:\n– A brief intro to the company and how the program works\n– A virtual walk through of the platform and our online library\n– Best practices for faster results
URL:https://rpoacal.external.pixelpopmarketing.com/event/rpoa-onboarding-session-duplicate-1-69/
ORGANIZER;CN="RPOA":MAILTO:amanda@insuranceroleplay.com
END:VEVENT
BEGIN:VEVENT
DTSTART;TZID=America/New_York:20211206T150000
DTEND;TZID=America/New_York:20211206T153000
DTSTAMP:20260420T145937
CREATED:20211203T002120Z
LAST-MODIFIED:20211203T002120Z
UID:1050-1638802800-1638804600@rpoacal.external.pixelpopmarketing.com
SUMMARY:RPOA Onboarding Session
DESCRIPTION:Welcome to the RPOA Family! \nHere’s what you can expect:\n– A brief intro to the company and how the program works\n– A virtual walk through of the platform and our online library\n– Best practices for faster results
URL:https://rpoacal.external.pixelpopmarketing.com/event/rpoa-onboarding-session-duplicate-1-74/
ORGANIZER;CN="RPOA":MAILTO:amanda@insuranceroleplay.com
END:VEVENT
BEGIN:VEVENT
DTSTART;TZID=America/New_York:20211203T120000
DTEND;TZID=America/New_York:20211203T123000
DTSTAMP:20260420T145937
CREATED:20211101T234744Z
LAST-MODIFIED:20211101T234744Z
UID:1021-1638532800-1638534600@rpoacal.external.pixelpopmarketing.com
SUMMARY:RPOA 101 Demo
DESCRIPTION:We’ll quickly walk through everything that RPOA includes and show you how it has been able to have such an impact in not only our own agencies\, but in hundreds of agencies across the country. This is a great place to ask any questions you may have and get details on how to sign up. \nCopy and paste this link into your browser to sign up for a Zoom demo today! \nhttps://insuranceroleplay.zoom.us/meeting/register/tJAod-Corz8sGdWaNrmWyt47tvMZ7teSNRIu
URL:https://rpoacal.external.pixelpopmarketing.com/event/rpoa-101-demo-duplicate-1-49/
ORGANIZER;CN="RPOA":MAILTO:amanda@insuranceroleplay.com
END:VEVENT
BEGIN:VEVENT
DTSTART;TZID=America/New_York:20211202T120000
DTEND;TZID=America/New_York:20211202T123000
DTSTAMP:20260420T145937
CREATED:20211101T234718Z
LAST-MODIFIED:20211101T234718Z
UID:1019-1638446400-1638448200@rpoacal.external.pixelpopmarketing.com
SUMMARY:RPOA 101 Demo
DESCRIPTION:We’ll quickly walk through everything that RPOA includes and show you how it has been able to have such an impact in not only our own agencies\, but in hundreds of agencies across the country. This is a great place to ask any questions you may have and get details on how to sign up. \nCopy and paste this link into your browser to sign up for a Zoom demo today! \nhttps://insuranceroleplay.zoom.us/meeting/register/tJAod-Corz8sGdWaNrmWyt47tvMZ7teSNRIu
URL:https://rpoacal.external.pixelpopmarketing.com/event/rpoa-101-demo-duplicate-1-48/
ORGANIZER;CN="RPOA":MAILTO:amanda@insuranceroleplay.com
END:VEVENT
BEGIN:VEVENT
DTSTART;TZID=America/New_York:20211202T120000
DTEND;TZID=America/New_York:20211202T123000
DTSTAMP:20260420T145937
CREATED:20211031T023824Z
LAST-MODIFIED:20211031T023824Z
UID:973-1638446400-1638448200@rpoacal.external.pixelpopmarketing.com
SUMMARY:RPOA Onboarding Session
DESCRIPTION:Welcome to the RPOA Family! \nHere’s what you can expect:\n– A brief intro to the company and how the program works\n– A virtual walk through of the platform and our online library\n– Best practices for faster results
URL:https://rpoacal.external.pixelpopmarketing.com/event/rpoa-onboarding-session-duplicate-1-68/
ORGANIZER;CN="RPOA":MAILTO:amanda@insuranceroleplay.com
END:VEVENT
BEGIN:VEVENT
DTSTART;TZID=America/New_York:20211201T120000
DTEND;TZID=America/New_York:20211201T123000
DTSTAMP:20260420T145937
CREATED:20211101T234652Z
LAST-MODIFIED:20211101T234652Z
UID:1017-1638360000-1638361800@rpoacal.external.pixelpopmarketing.com
SUMMARY:RPOA 101 Demo
DESCRIPTION:We’ll quickly walk through everything that RPOA includes and show you how it has been able to have such an impact in not only our own agencies\, but in hundreds of agencies across the country. This is a great place to ask any questions you may have and get details on how to sign up. \nCopy and paste this link into your browser to sign up for a Zoom demo today! \nhttps://insuranceroleplay.zoom.us/meeting/register/tJAod-Corz8sGdWaNrmWyt47tvMZ7teSNRIu
URL:https://rpoacal.external.pixelpopmarketing.com/event/rpoa-101-demo-duplicate-1-47/
ORGANIZER;CN="RPOA":MAILTO:amanda@insuranceroleplay.com
END:VEVENT
BEGIN:VEVENT
DTSTART;TZID=America/New_York:20211201T120000
DTEND;TZID=America/New_York:20211201T123000
DTSTAMP:20260420T145937
CREATED:20211031T023755Z
LAST-MODIFIED:20211031T023755Z
UID:971-1638360000-1638361800@rpoacal.external.pixelpopmarketing.com
SUMMARY:RPOA Onboarding Session
DESCRIPTION:Welcome to the RPOA Family! \nHere’s what you can expect:\n– A brief intro to the company and how the program works\n– A virtual walk through of the platform and our online library\n– Best practices for faster results
URL:https://rpoacal.external.pixelpopmarketing.com/event/rpoa-onboarding-session-duplicate-1-67/
ORGANIZER;CN="RPOA":MAILTO:amanda@insuranceroleplay.com
END:VEVENT
BEGIN:VEVENT
DTSTART;TZID=America/New_York:20211130T163000
DTEND;TZID=America/New_York:20211130T173000
DTSTAMP:20260420T145937
CREATED:20211031T012810Z
LAST-MODIFIED:20211031T012810Z
UID:937-1638289800-1638293400@rpoacal.external.pixelpopmarketing.com
SUMMARY:Live Q & A Zoom Session for Agency Owners
DESCRIPTION:RPOA gets emails and calls every day asking about the setup of our team\, which leads we work\, incentives\, promos\, hiring\, onboarding\, training\, coaching\, vendors\, the list goes on.  We absolutely love fielding these\, and are now going to be doing so in a live setting for agency owners where you can come on every week and ask whatever is on your mind! \nThese sessions will be every Tuesday after our regular show from 4:30-5:30 EST\, and will be open to all owners and managers. There will be no structured format to these virtual get togethers. Jeremy and Kristin will simply be on and ready to field any questions you may have.  This is YOUR time\, so whether you decide to come every week\, a couple of times a month\, or just when you have something you want to ask\, it’s all up to you! \n***Please email amanda@insuranceroleplay.com if you still need this private link
URL:https://rpoacal.external.pixelpopmarketing.com/event/live-q-a-zoom-session-for-agency-owners-duplicate-1-12/
ORGANIZER;CN="RPOA":MAILTO:amanda@insuranceroleplay.com
END:VEVENT
BEGIN:VEVENT
DTSTART;TZID=America/New_York:20211130T150000
DTEND;TZID=America/New_York:20211130T153000
DTSTAMP:20260420T145937
CREATED:20211031T004223Z
LAST-MODIFIED:20211129T153255Z
UID:885-1638284400-1638286200@rpoacal.external.pixelpopmarketing.com
SUMMARY:Live Role Play Webinar-“I did _____________ and my production skyrocketed!”
DESCRIPTION:We all want to know what the magic cure is for increasing our production! This week we are going to bring a couple of agency owners and a staff member on to share very specific processes that they have implemented from being a part of RPOA that have made their production skyrocket!  They will walk us through exactly why they believe in these processes and share the specific results they have seen. We can’t wait to share these ideas with you all in hopes you will get lift too!
URL:https://rpoacal.external.pixelpopmarketing.com/event/live-role-play-webinar-tbd-duplicate-1-6/
ORGANIZER;CN="RPOA":MAILTO:amanda@insuranceroleplay.com
END:VEVENT
BEGIN:VEVENT
DTSTART;TZID=America/New_York:20211130T120000
DTEND;TZID=America/New_York:20211130T123000
DTSTAMP:20260420T145937
CREATED:20211101T234624Z
LAST-MODIFIED:20211101T234624Z
UID:1015-1638273600-1638275400@rpoacal.external.pixelpopmarketing.com
SUMMARY:RPOA 101 Demo
DESCRIPTION:We’ll quickly walk through everything that RPOA includes and show you how it has been able to have such an impact in not only our own agencies\, but in hundreds of agencies across the country. This is a great place to ask any questions you may have and get details on how to sign up. \nCopy and paste this link into your browser to sign up for a Zoom demo today! \nhttps://insuranceroleplay.zoom.us/meeting/register/tJAod-Corz8sGdWaNrmWyt47tvMZ7teSNRIu
URL:https://rpoacal.external.pixelpopmarketing.com/event/rpoa-101-demo-duplicate-1-46/
ORGANIZER;CN="RPOA":MAILTO:amanda@insuranceroleplay.com
END:VEVENT
END:VCALENDAR