BEGIN:VCALENDAR
VERSION:2.0
PRODID:-//RPOA Events Calendar - ECPv6.1.3//NONSGML v1.0//EN
CALSCALE:GREGORIAN
METHOD:PUBLISH
X-ORIGINAL-URL:https://rpoacal.external.pixelpopmarketing.com
X-WR-CALDESC:Events for RPOA Events Calendar
REFRESH-INTERVAL;VALUE=DURATION:PT1H
X-Robots-Tag:noindex
X-PUBLISHED-TTL:PT1H
BEGIN:VTIMEZONE
TZID:America/New_York
BEGIN:DAYLIGHT
TZOFFSETFROM:-0500
TZOFFSETTO:-0400
TZNAME:EDT
DTSTART:20210314T070000
END:DAYLIGHT
BEGIN:STANDARD
TZOFFSETFROM:-0400
TZOFFSETTO:-0500
TZNAME:EST
DTSTART:20211107T060000
END:STANDARD
END:VTIMEZONE
BEGIN:VEVENT
DTSTART;TZID=America/New_York:20210706T150000
DTEND;TZID=America/New_York:20210706T153000
DTSTAMP:20260421T222030
CREATED:20210622T233745Z
LAST-MODIFIED:20210705T070116Z
UID:430-1625583600-1625585400@rpoacal.external.pixelpopmarketing.com
SUMMARY:Live Role Play Webinar-The FLOW of an inbound call
DESCRIPTION:In our agency we mentor our team members to not be “order takers” and “answer givers” but instead look at every interaction as an opportunity to leave our customers better protected. In order to do that\, you have to know where you are going with the conversation. We have something we call “the flow of the inbound call” that we use to make sure we take care of our customers. This role play will come complete with an inbound call checklist that you will be able to use now and in the future in order to leave people better off!
URL:https://rpoacal.external.pixelpopmarketing.com/event/live-role-play-webinar-tbd-15/
ORGANIZER;CN="RPOA":MAILTO:amanda@insuranceroleplay.com
END:VEVENT
BEGIN:VEVENT
DTSTART;TZID=America/New_York:20210706T163000
DTEND;TZID=America/New_York:20210706T173000
DTSTAMP:20260421T222030
CREATED:20210622T235006Z
LAST-MODIFIED:20210622T235006Z
UID:439-1625589000-1625592600@rpoacal.external.pixelpopmarketing.com
SUMMARY:Live Q & A Zoom Session for Agency Owners
DESCRIPTION:RPOA gets emails and calls every day asking about the setup of our team\, which leads we work\, incentives\, promos\, hiring\, onboarding\, training\, coaching\, vendors\, the list goes on.  We absolutely love fielding these\, and are now going to be doing so in a live setting for agency owners where you can come on every week and ask whatever is on your mind! \nThese sessions will be every Tuesday after our regular show from 4:30-5:30 EST\, and will be open to all owners and managers. There will be no structured format to these virtual get togethers. Jeremy and Kristin will simply be on and ready to field any questions you may have.  This is YOUR time\, so whether you decide to come every week\, a couple of times a month\, or just when you have something you want to ask\, it’s all up to you! \n***Please email amanda@insuranceroleplay.com if you still need this private link
URL:https://rpoacal.external.pixelpopmarketing.com/event/live-q-a-zoom-session-for-agency-owners-19/
ORGANIZER;CN="RPOA":MAILTO:amanda@insuranceroleplay.com
END:VEVENT
BEGIN:VEVENT
DTSTART;TZID=America/New_York:20210707T120000
DTEND;TZID=America/New_York:20210707T123000
DTSTAMP:20260421T222030
CREATED:20210705T064729Z
LAST-MODIFIED:20210708T155424Z
UID:457-1625659200-1625661000@rpoacal.external.pixelpopmarketing.com
SUMMARY:RPOA Onboarding Session
DESCRIPTION:Welcome to the RPOA Family! \nHere’s what you can expect:\n– A brief intro to the company and how the program works\n– A virtual walk through of the platform and our online library\n– Best practices for faster results
URL:https://rpoacal.external.pixelpopmarketing.com/event/rpoa-onboarding-session-51/
ORGANIZER;CN="RPOA":MAILTO:amanda@insuranceroleplay.com
END:VEVENT
BEGIN:VEVENT
DTSTART;TZID=America/New_York:20210707T130000
DTEND;TZID=America/New_York:20210707T133000
DTSTAMP:20260421T222030
CREATED:20210705T065147Z
LAST-MODIFIED:20210705T065147Z
UID:461-1625662800-1625664600@rpoacal.external.pixelpopmarketing.com
SUMMARY:RPOA 101 Demo
DESCRIPTION:We’ll quickly walk through everything that RPOA includes and show you how it has been able to have such an impact in not only our own agencies\, but in hundreds of agencies across the country. This is a great place to ask any questions you may have and get details on how to sign up. \nCopy and paste this link into your browser to sign up for a Zoom demo today! \nhttps://insuranceroleplay.zoom.us/meeting/register/tJEtde2hrzwuGNwHxvy6qcCkJIOqX7AJCG49
URL:https://rpoacal.external.pixelpopmarketing.com/event/rpoa-101-demo-20/
ORGANIZER;CN="RPOA":MAILTO:amanda@insuranceroleplay.com
END:VEVENT
BEGIN:VEVENT
DTSTART;TZID=America/New_York:20210708T120000
DTEND;TZID=America/New_York:20210708T123000
DTSTAMP:20260421T222030
CREATED:20210705T064857Z
LAST-MODIFIED:20210705T064857Z
UID:459-1625745600-1625747400@rpoacal.external.pixelpopmarketing.com
SUMMARY:RPOA Onboarding Session
DESCRIPTION:Welcome to the RPOA Family! \nHere’s what you can expect:\n– A brief intro to the company and how the program works\n– A virtual walk through of the platform and our online library\n– Best practices for faster results
URL:https://rpoacal.external.pixelpopmarketing.com/event/rpoa-onboarding-session-52/
ORGANIZER;CN="RPOA":MAILTO:amanda@insuranceroleplay.com
END:VEVENT
BEGIN:VEVENT
DTSTART;TZID=America/New_York:20210708T130000
DTEND;TZID=America/New_York:20210708T133000
DTSTAMP:20260421T222030
CREATED:20210705T065346Z
LAST-MODIFIED:20210705T065346Z
UID:463-1625749200-1625751000@rpoacal.external.pixelpopmarketing.com
SUMMARY:RPOA 101 Demo
DESCRIPTION:We’ll quickly walk through everything that RPOA includes and show you how it has been able to have such an impact in not only our own agencies\, but in hundreds of agencies across the country. This is a great place to ask any questions you may have and get details on how to sign up. \nCopy and paste this link into your browser to sign up for a Zoom demo today! \nhttps://insuranceroleplay.zoom.us/meeting/register/tJEtde2hrzwuGNwHxvy6qcCkJIOqX7AJCG49
URL:https://rpoacal.external.pixelpopmarketing.com/event/rpoa-101-demo-21/
ORGANIZER;CN="RPOA":MAILTO:amanda@insuranceroleplay.com
END:VEVENT
BEGIN:VEVENT
DTSTART;TZID=America/New_York:20210709T130000
DTEND;TZID=America/New_York:20210709T133000
DTSTAMP:20260421T222030
CREATED:20210705T065433Z
LAST-MODIFIED:20210705T065433Z
UID:465-1625835600-1625837400@rpoacal.external.pixelpopmarketing.com
SUMMARY:RPOA 101 Demo
DESCRIPTION:We’ll quickly walk through everything that RPOA includes and show you how it has been able to have such an impact in not only our own agencies\, but in hundreds of agencies across the country. This is a great place to ask any questions you may have and get details on how to sign up. \nCopy and paste this link into your browser to sign up for a Zoom demo today! \nhttps://insuranceroleplay.zoom.us/meeting/register/tJEtde2hrzwuGNwHxvy6qcCkJIOqX7AJCG49
URL:https://rpoacal.external.pixelpopmarketing.com/event/rpoa-101-demo-22/
ORGANIZER;CN="RPOA":MAILTO:amanda@insuranceroleplay.com
END:VEVENT
BEGIN:VEVENT
DTSTART;TZID=America/New_York:20210709T150000
DTEND;TZID=America/New_York:20210709T153000
DTSTAMP:20260421T222030
CREATED:20210623T000638Z
LAST-MODIFIED:20210623T000638Z
UID:448-1625842800-1625844600@rpoacal.external.pixelpopmarketing.com
SUMMARY:RPOA Onboarding Session
DESCRIPTION:Welcome to the RPOA Family! \nHere’s what you can expect:\n– A brief intro to the company and how the program works\n– A virtual walk through of the platform and our online library\n– Best practices for faster results
URL:https://rpoacal.external.pixelpopmarketing.com/event/rpoa-onboarding-session-46/
ORGANIZER;CN="RPOA":MAILTO:amanda@insuranceroleplay.com
END:VEVENT
BEGIN:VEVENT
DTSTART;TZID=America/New_York:20210712T130000
DTEND;TZID=America/New_York:20210712T133000
DTSTAMP:20260421T222030
CREATED:20210705T065529Z
LAST-MODIFIED:20210705T065529Z
UID:467-1626094800-1626096600@rpoacal.external.pixelpopmarketing.com
SUMMARY:RPOA 101 Demo
DESCRIPTION:We’ll quickly walk through everything that RPOA includes and show you how it has been able to have such an impact in not only our own agencies\, but in hundreds of agencies across the country. This is a great place to ask any questions you may have and get details on how to sign up. \nCopy and paste this link into your browser to sign up for a Zoom demo today! \nhttps://insuranceroleplay.zoom.us/meeting/register/tJEtde2hrzwuGNwHxvy6qcCkJIOqX7AJCG49
URL:https://rpoacal.external.pixelpopmarketing.com/event/rpoa-101-demo-23/
ORGANIZER;CN="RPOA":MAILTO:amanda@insuranceroleplay.com
END:VEVENT
BEGIN:VEVENT
DTSTART;TZID=America/New_York:20210712T150000
DTEND;TZID=America/New_York:20210712T153000
DTSTAMP:20260421T222030
CREATED:20210623T000744Z
LAST-MODIFIED:20210623T000744Z
UID:450-1626102000-1626103800@rpoacal.external.pixelpopmarketing.com
SUMMARY:RPOA Onboarding Session
DESCRIPTION:Welcome to the RPOA Family! \nHere’s what you can expect:\n– A brief intro to the company and how the program works\n– A virtual walk through of the platform and our online library\n– Best practices for faster results
URL:https://rpoacal.external.pixelpopmarketing.com/event/rpoa-onboarding-session-48/
ORGANIZER;CN="RPOA":MAILTO:amanda@insuranceroleplay.com
END:VEVENT
BEGIN:VEVENT
DTSTART;TZID=America/New_York:20210713T120000
DTEND;TZID=America/New_York:20210713T123000
DTSTAMP:20260421T222030
CREATED:20210705T065843Z
LAST-MODIFIED:20210705T071103Z
UID:471-1626177600-1626179400@rpoacal.external.pixelpopmarketing.com
SUMMARY:RPOA Onboarding Session
DESCRIPTION:Welcome to the RPOA Family! \nHere’s what you can expect:\n– A brief intro to the company and how the program works\n– A virtual walk through of the platform and our online library\n– Best practices for faster results
URL:https://rpoacal.external.pixelpopmarketing.com/event/rpoa-onboarding-session-53/
ORGANIZER;CN="RPOA":MAILTO:amanda@insuranceroleplay.com
END:VEVENT
BEGIN:VEVENT
DTSTART;TZID=America/New_York:20210713T150000
DTEND;TZID=America/New_York:20210713T163000
DTSTAMP:20260421T222030
CREATED:20210622T233830Z
LAST-MODIFIED:20210705T070335Z
UID:432-1626188400-1626193800@rpoacal.external.pixelpopmarketing.com
SUMMARY:Special Guest Speaker Series-Ray Lewis and Christian Conte
DESCRIPTION:
URL:https://rpoacal.external.pixelpopmarketing.com/event/live-role-play-webinar-tbd-16/
ORGANIZER;CN="RPOA":MAILTO:amanda@insuranceroleplay.com
END:VEVENT
BEGIN:VEVENT
DTSTART;TZID=America/New_York:20210713T163000
DTEND;TZID=America/New_York:20210713T173000
DTSTAMP:20260421T222030
CREATED:20210623T000125Z
LAST-MODIFIED:20210623T000125Z
UID:441-1626193800-1626197400@rpoacal.external.pixelpopmarketing.com
SUMMARY:Live Q & A Zoom Session for Agency Owners
DESCRIPTION:RPOA gets emails and calls every day asking about the setup of our team\, which leads we work\, incentives\, promos\, hiring\, onboarding\, training\, coaching\, vendors\, the list goes on.  We absolutely love fielding these\, and are now going to be doing so in a live setting for agency owners where you can come on every week and ask whatever is on your mind! \nThese sessions will be every Tuesday after our regular show from 4:30-5:30 EST\, and will be open to all owners and managers. There will be no structured format to these virtual get togethers. Jeremy and Kristin will simply be on and ready to field any questions you may have.  This is YOUR time\, so whether you decide to come every week\, a couple of times a month\, or just when you have something you want to ask\, it’s all up to you! \n***Please email amanda@insuranceroleplay.com if you still need this private link
URL:https://rpoacal.external.pixelpopmarketing.com/event/live-q-a-zoom-session-for-agency-owners-20/
ORGANIZER;CN="RPOA":MAILTO:amanda@insuranceroleplay.com
END:VEVENT
BEGIN:VEVENT
DTSTART;TZID=America/New_York:20210714T120000
DTEND;TZID=America/New_York:20210714T123000
DTSTAMP:20260421T222030
CREATED:20210705T071305Z
LAST-MODIFIED:20210708T155357Z
UID:479-1626264000-1626265800@rpoacal.external.pixelpopmarketing.com
SUMMARY:RPOA Onboarding Session
DESCRIPTION:Welcome to the RPOA Family! \nHere’s what you can expect:\n– A brief intro to the company and how the program works\n– A virtual walk through of the platform and our online library\n– Best practices for faster results
URL:https://rpoacal.external.pixelpopmarketing.com/event/rpoa-onboarding-session-54/
ORGANIZER;CN="RPOA":MAILTO:amanda@insuranceroleplay.com
END:VEVENT
BEGIN:VEVENT
DTSTART;TZID=America/New_York:20210714T130000
DTEND;TZID=America/New_York:20210714T133000
DTSTAMP:20260421T222030
CREATED:20210705T065621Z
LAST-MODIFIED:20210705T065621Z
UID:469-1626267600-1626269400@rpoacal.external.pixelpopmarketing.com
SUMMARY:RPOA 101 Demo
DESCRIPTION:We’ll quickly walk through everything that RPOA includes and show you how it has been able to have such an impact in not only our own agencies\, but in hundreds of agencies across the country. This is a great place to ask any questions you may have and get details on how to sign up. \nCopy and paste this link into your browser to sign up for a Zoom demo today! \nhttps://insuranceroleplay.zoom.us/meeting/register/tJEtde2hrzwuGNwHxvy6qcCkJIOqX7AJCG49
URL:https://rpoacal.external.pixelpopmarketing.com/event/rpoa-101-demo-24/
ORGANIZER;CN="RPOA":MAILTO:amanda@insuranceroleplay.com
END:VEVENT
BEGIN:VEVENT
DTSTART;TZID=America/New_York:20210715T120000
DTEND;TZID=America/New_York:20210715T123000
DTSTAMP:20260421T222030
CREATED:20210705T071602Z
LAST-MODIFIED:20210705T071602Z
UID:481-1626350400-1626352200@rpoacal.external.pixelpopmarketing.com
SUMMARY:RPOA Onboarding Session
DESCRIPTION:Welcome to the RPOA Family! \nHere’s what you can expect:\n– A brief intro to the company and how the program works\n– A virtual walk through of the platform and our online library\n– Best practices for faster results
URL:https://rpoacal.external.pixelpopmarketing.com/event/rpoa-onboarding-session-55/
ORGANIZER;CN="RPOA":MAILTO:amanda@insuranceroleplay.com
END:VEVENT
BEGIN:VEVENT
DTSTART;TZID=America/New_York:20210715T130000
DTEND;TZID=America/New_York:20210715T133000
DTSTAMP:20260421T222030
CREATED:20210705T070727Z
LAST-MODIFIED:20210705T070727Z
UID:475-1626354000-1626355800@rpoacal.external.pixelpopmarketing.com
SUMMARY:RPOA 101 Demo
DESCRIPTION:We’ll quickly walk through everything that RPOA includes and show you how it has been able to have such an impact in not only our own agencies\, but in hundreds of agencies across the country. This is a great place to ask any questions you may have and get details on how to sign up. \nCopy and paste this link into your browser to sign up for a Zoom demo today! \nhttps://insuranceroleplay.zoom.us/meeting/register/tJEtde2hrzwuGNwHxvy6qcCkJIOqX7AJCG4
URL:https://rpoacal.external.pixelpopmarketing.com/event/rpoa-101-demo-25/
ORGANIZER;CN="RPOA":MAILTO:amanda@insuranceroleplay.com
END:VEVENT
BEGIN:VEVENT
DTSTART;TZID=America/New_York:20210716T130000
DTEND;TZID=America/New_York:20210716T133000
DTSTAMP:20260421T222030
CREATED:20210705T070901Z
LAST-MODIFIED:20210705T070901Z
UID:477-1626440400-1626442200@rpoacal.external.pixelpopmarketing.com
SUMMARY:RPOA 101 Demo
DESCRIPTION:We’ll quickly walk through everything that RPOA includes and show you how it has been able to have such an impact in not only our own agencies\, but in hundreds of agencies across the country. This is a great place to ask any questions you may have and get details on how to sign up. \nCopy and paste this link into your browser to sign up for a Zoom demo today! \nhttps://insuranceroleplay.zoom.us/meeting/register/tJEtde2hrzwuGNwHxvy6qcCkJIOqX7AJCG49
URL:https://rpoacal.external.pixelpopmarketing.com/event/rpoa-101-demo-26/
ORGANIZER;CN="RPOA":MAILTO:amanda@insuranceroleplay.com
END:VEVENT
BEGIN:VEVENT
DTSTART;TZID=America/New_York:20210716T150000
DTEND;TZID=America/New_York:20210716T153000
DTSTAMP:20260421T222030
CREATED:20210623T000855Z
LAST-MODIFIED:20210623T000855Z
UID:452-1626447600-1626449400@rpoacal.external.pixelpopmarketing.com
SUMMARY:RPOA Onboarding Session
DESCRIPTION:Welcome to the RPOA Family! \nHere’s what you can expect:\n– A brief intro to the company and how the program works\n– A virtual walk through of the platform and our online library\n– Best practices for faster results
URL:https://rpoacal.external.pixelpopmarketing.com/event/rpoa-onboarding-session-49/
ORGANIZER;CN="RPOA":MAILTO:amanda@insuranceroleplay.com
END:VEVENT
BEGIN:VEVENT
DTSTART;TZID=America/New_York:20210719T130000
DTEND;TZID=America/New_York:20210719T133000
DTSTAMP:20260421T222030
CREATED:20210708T195101Z
LAST-MODIFIED:20210708T195101Z
UID:504-1626699600-1626701400@rpoacal.external.pixelpopmarketing.com
SUMMARY:RPOA 101 Demo
DESCRIPTION:We’ll quickly walk through everything that RPOA includes and show you how it has been able to have such an impact in not only our own agencies\, but in hundreds of agencies across the country. This is a great place to ask any questions you may have and get details on how to sign up. \nCopy and paste this link into your browser to sign up for a Zoom demo today! \nhttps://insuranceroleplay.zoom.us/meeting/register/tJEtde2hrzwuGNwHxvy6qcCkJIOqX7AJCG49
URL:https://rpoacal.external.pixelpopmarketing.com/event/rpoa-101-demo-27/
ORGANIZER;CN="RPOA":MAILTO:amanda@insuranceroleplay.com
END:VEVENT
BEGIN:VEVENT
DTSTART;TZID=America/New_York:20210719T150000
DTEND;TZID=America/New_York:20210719T153000
DTSTAMP:20260421T222030
CREATED:20210708T192919Z
LAST-MODIFIED:20210708T192919Z
UID:484-1626706800-1626708600@rpoacal.external.pixelpopmarketing.com
SUMMARY:RPOA Onboarding Session
DESCRIPTION:Welcome to the RPOA Family! \nHere’s what you can expect:\n– A brief intro to the company and how the program works\n– A virtual walk through of the platform and our online library\n– Best practices for faster results
URL:https://rpoacal.external.pixelpopmarketing.com/event/rpoa-onboarding-session-50/
ORGANIZER;CN="RPOA":MAILTO:amanda@insuranceroleplay.com
END:VEVENT
BEGIN:VEVENT
DTSTART;TZID=America/New_York:20210720T120000
DTEND;TZID=America/New_York:20210720T123000
DTSTAMP:20260421T222030
CREATED:20210708T193547Z
LAST-MODIFIED:20210708T193547Z
UID:488-1626782400-1626784200@rpoacal.external.pixelpopmarketing.com
SUMMARY:RPOA Onboarding Session
DESCRIPTION:Welcome to the RPOA Family! \nHere’s what you can expect:\n– A brief intro to the company and how the program works\n– A virtual walk through of the platform and our online library\n– Best practices for faster results
URL:https://rpoacal.external.pixelpopmarketing.com/event/rpoa-onboarding-session-57/
ORGANIZER;CN="RPOA":MAILTO:amanda@insuranceroleplay.com
END:VEVENT
BEGIN:VEVENT
DTSTART;TZID=America/New_York:20210720T150000
DTEND;TZID=America/New_York:20210720T153000
DTSTAMP:20260421T222030
CREATED:20210622T233906Z
LAST-MODIFIED:20210719T213955Z
UID:435-1626793200-1626795000@rpoacal.external.pixelpopmarketing.com
SUMMARY:Live Role Play Webinar-When to ASK for the business in the conversation
DESCRIPTION:Let’s face it\, we all would love to close more business and be able to feel comfortable asking for the sale. The key to closing more sales is knowing when to ask for the business. So often\, we jump the gun and present the price way before it’s time or when it is time\, go soft on asking for the business. In this episode\, we will give you tips on when to ask for the business and also teach you how to effectively ask! You won’t want to miss it!
URL:https://rpoacal.external.pixelpopmarketing.com/event/live-role-play-webinar-tbd-17/
ORGANIZER;CN="RPOA":MAILTO:amanda@insuranceroleplay.com
END:VEVENT
BEGIN:VEVENT
DTSTART;TZID=America/New_York:20210720T163000
DTEND;TZID=America/New_York:20210720T173000
DTSTAMP:20260421T222030
CREATED:20210623T000211Z
LAST-MODIFIED:20210623T000211Z
UID:443-1626798600-1626802200@rpoacal.external.pixelpopmarketing.com
SUMMARY:Live Q & A Zoom Session for Agency Owners
DESCRIPTION:RPOA gets emails and calls every day asking about the setup of our team\, which leads we work\, incentives\, promos\, hiring\, onboarding\, training\, coaching\, vendors\, the list goes on.  We absolutely love fielding these\, and are now going to be doing so in a live setting for agency owners where you can come on every week and ask whatever is on your mind! \nThese sessions will be every Tuesday after our regular show from 4:30-5:30 EST\, and will be open to all owners and managers. There will be no structured format to these virtual get togethers. Jeremy and Kristin will simply be on and ready to field any questions you may have.  This is YOUR time\, so whether you decide to come every week\, a couple of times a month\, or just when you have something you want to ask\, it’s all up to you! \n***Please email amanda@insuranceroleplay.com if you still need this private link
URL:https://rpoacal.external.pixelpopmarketing.com/event/live-q-a-zoom-session-for-agency-owners-21/
ORGANIZER;CN="RPOA":MAILTO:amanda@insuranceroleplay.com
END:VEVENT
BEGIN:VEVENT
DTSTART;TZID=America/New_York:20210721T120000
DTEND;TZID=America/New_York:20210721T123000
DTSTAMP:20260421T222030
CREATED:20210708T193837Z
LAST-MODIFIED:20210708T193837Z
UID:490-1626868800-1626870600@rpoacal.external.pixelpopmarketing.com
SUMMARY:RPOA Onboarding Session
DESCRIPTION:Welcome to the RPOA Family! \nHere’s what you can expect:\n– A brief intro to the company and how the program works\n– A virtual walk through of the platform and our online library\n– Best practices for faster results
URL:https://rpoacal.external.pixelpopmarketing.com/event/rpoa-onboarding-session-58/
ORGANIZER;CN="RPOA":MAILTO:amanda@insuranceroleplay.com
END:VEVENT
BEGIN:VEVENT
DTSTART;TZID=America/New_York:20210721T130000
DTEND;TZID=America/New_York:20210721T133000
DTSTAMP:20260421T222030
CREATED:20210708T195201Z
LAST-MODIFIED:20210708T195201Z
UID:506-1626872400-1626874200@rpoacal.external.pixelpopmarketing.com
SUMMARY:RPOA 101 Demo
DESCRIPTION:We’ll quickly walk through everything that RPOA includes and show you how it has been able to have such an impact in not only our own agencies\, but in hundreds of agencies across the country. This is a great place to ask any questions you may have and get details on how to sign up. \nCopy and paste this link into your browser to sign up for a Zoom demo today! \nhttps://insuranceroleplay.zoom.us/meeting/register/tJEtde2hrzwuGNwHxvy6qcCkJIOqX7AJCG49
URL:https://rpoacal.external.pixelpopmarketing.com/event/rpoa-101-demo-28/
ORGANIZER;CN="RPOA":MAILTO:amanda@insuranceroleplay.com
END:VEVENT
BEGIN:VEVENT
DTSTART;TZID=America/New_York:20210722T120000
DTEND;TZID=America/New_York:20210722T123000
DTSTAMP:20260421T222030
CREATED:20210708T193937Z
LAST-MODIFIED:20210708T193937Z
UID:492-1626955200-1626957000@rpoacal.external.pixelpopmarketing.com
SUMMARY:RPOA Onboarding Session
DESCRIPTION:Welcome to the RPOA Family! \nHere’s what you can expect:\n– A brief intro to the company and how the program works\n– A virtual walk through of the platform and our online library\n– Best practices for faster results
URL:https://rpoacal.external.pixelpopmarketing.com/event/rpoa-onboarding-session-59/
ORGANIZER;CN="RPOA":MAILTO:amanda@insuranceroleplay.com
END:VEVENT
BEGIN:VEVENT
DTSTART;TZID=America/New_York:20210722T130000
DTEND;TZID=America/New_York:20210722T133000
DTSTAMP:20260421T222030
CREATED:20210708T195413Z
LAST-MODIFIED:20210708T195519Z
UID:510-1626958800-1626960600@rpoacal.external.pixelpopmarketing.com
SUMMARY:RPOA 101 Demo
DESCRIPTION:We’ll quickly walk through everything that RPOA includes and show you how it has been able to have such an impact in not only our own agencies\, but in hundreds of agencies across the country. This is a great place to ask any questions you may have and get details on how to sign up. \nCopy and paste this link into your browser to sign up for a Zoom demo today! \nhttps://insuranceroleplay.zoom.us/meeting/register/tJEtde2hrzwuGNwHxvy6qcCkJIOqX7AJCG49
URL:https://rpoacal.external.pixelpopmarketing.com/event/rpoa-101-demo-30/
ORGANIZER;CN="RPOA":MAILTO:amanda@insuranceroleplay.com
END:VEVENT
BEGIN:VEVENT
DTSTART;TZID=America/New_York:20210723T130000
DTEND;TZID=America/New_York:20210723T133000
DTSTAMP:20260421T222030
CREATED:20210708T200555Z
LAST-MODIFIED:20210708T200555Z
UID:514-1627045200-1627047000@rpoacal.external.pixelpopmarketing.com
SUMMARY:RPOA 101 Demo
DESCRIPTION:We’ll quickly walk through everything that RPOA includes and show you how it has been able to have such an impact in not only our own agencies\, but in hundreds of agencies across the country. This is a great place to ask any questions you may have and get details on how to sign up. \nCopy and paste this link into your browser to sign up for a Zoom demo today! \nhttps://insuranceroleplay.zoom.us/meeting/register/tJEtde2hrzwuGNwHxvy6qcCkJIOqX7AJCG49
URL:https://rpoacal.external.pixelpopmarketing.com/event/rpoa-101-demo-32/
ORGANIZER;CN="RPOA":MAILTO:amanda@insuranceroleplay.com
END:VEVENT
BEGIN:VEVENT
DTSTART;TZID=America/New_York:20210723T150000
DTEND;TZID=America/New_York:20210723T153000
DTSTAMP:20260421T222030
CREATED:20210708T193327Z
LAST-MODIFIED:20210708T193642Z
UID:486-1627052400-1627054200@rpoacal.external.pixelpopmarketing.com
SUMMARY:RPOA Onboarding Session
DESCRIPTION:Welcome to the RPOA Family! \nHere’s what you can expect:\n– A brief intro to the company and how the program works\n– A virtual walk through of the platform and our online library\n– Best practices for faster results
URL:https://rpoacal.external.pixelpopmarketing.com/event/rpoa-onboarding-session-56/
ORGANIZER;CN="RPOA":MAILTO:amanda@insuranceroleplay.com
END:VEVENT
END:VCALENDAR