BEGIN:VCALENDAR
VERSION:2.0
PRODID:-//RPOA Events Calendar - ECPv6.1.3//NONSGML v1.0//EN
CALSCALE:GREGORIAN
METHOD:PUBLISH
X-ORIGINAL-URL:https://rpoacal.external.pixelpopmarketing.com
X-WR-CALDESC:Events for RPOA Events Calendar
REFRESH-INTERVAL;VALUE=DURATION:PT1H
X-Robots-Tag:noindex
X-PUBLISHED-TTL:PT1H
BEGIN:VTIMEZONE
TZID:America/New_York
BEGIN:DAYLIGHT
TZOFFSETFROM:-0500
TZOFFSETTO:-0400
TZNAME:EDT
DTSTART:20230312T070000
END:DAYLIGHT
BEGIN:STANDARD
TZOFFSETFROM:-0400
TZOFFSETTO:-0500
TZNAME:EST
DTSTART:20231105T060000
END:STANDARD
END:VTIMEZONE
BEGIN:VEVENT
DTSTART;TZID=America/New_York:20230622T130000
DTEND;TZID=America/New_York:20230622T133000
DTSTAMP:20260420T042847
CREATED:20230328T155314Z
LAST-MODIFIED:20230403T183658Z
UID:2856-1687438800-1687440600@rpoacal.external.pixelpopmarketing.com
SUMMARY:Team Member Onboarding Session
DESCRIPTION:Welcome to the RPOA Family! This onboarding is specifically for team members. \nHere’s what you can expect:\n– A brief intro to the company and how the program works\n– A virtual walk through of the platform and our online library\n– Best practices for faster results\n– Answer any questions you might have about RPOA \n***INTERACTIVE MEETING-PLEASE COME WITH YOUR VIDEO AND AUDIO ON***
URL:https://rpoacal.external.pixelpopmarketing.com/event/team-member-onboarding-session-duplicate-1-140/
CATEGORIES:Team Member Onboarding
ORGANIZER;CN="RPOA":MAILTO:amanda@insuranceroleplay.com
END:VEVENT
BEGIN:VEVENT
DTSTART;TZID=America/New_York:20230623T130000
DTEND;TZID=America/New_York:20230623T133000
DTSTAMP:20260420T042847
CREATED:20230328T155338Z
LAST-MODIFIED:20230403T183658Z
UID:2858-1687525200-1687527000@rpoacal.external.pixelpopmarketing.com
SUMMARY:Team Member Onboarding Session
DESCRIPTION:Welcome to the RPOA Family! This onboarding is specifically for team members. \nHere’s what you can expect:\n– A brief intro to the company and how the program works\n– A virtual walk through of the platform and our online library\n– Best practices for faster results\n– Answer any questions you might have about RPOA \n***INTERACTIVE MEETING-PLEASE COME WITH YOUR VIDEO AND AUDIO ON***
URL:https://rpoacal.external.pixelpopmarketing.com/event/team-member-onboarding-session-duplicate-1-141/
CATEGORIES:Team Member Onboarding
ORGANIZER;CN="RPOA":MAILTO:amanda@insuranceroleplay.com
END:VEVENT
BEGIN:VEVENT
DTSTART;TZID=America/New_York:20230628T130000
DTEND;TZID=America/New_York:20230628T133000
DTSTAMP:20260420T042847
CREATED:20230328T155400Z
LAST-MODIFIED:20230403T183658Z
UID:2860-1687957200-1687959000@rpoacal.external.pixelpopmarketing.com
SUMMARY:Team Member Onboarding Session
DESCRIPTION:Welcome to the RPOA Family! This onboarding is specifically for team members. \nHere’s what you can expect:\n– A brief intro to the company and how the program works\n– A virtual walk through of the platform and our online library\n– Best practices for faster results\n– Answer any questions you might have about RPOA \n***INTERACTIVE MEETING-PLEASE COME WITH YOUR VIDEO AND AUDIO ON***
URL:https://rpoacal.external.pixelpopmarketing.com/event/team-member-onboarding-session-duplicate-1-142/
CATEGORIES:Team Member Onboarding
ORGANIZER;CN="RPOA":MAILTO:amanda@insuranceroleplay.com
END:VEVENT
BEGIN:VEVENT
DTSTART;TZID=America/New_York:20230629T130000
DTEND;TZID=America/New_York:20230629T133000
DTSTAMP:20260420T042847
CREATED:20230328T155419Z
LAST-MODIFIED:20230403T183658Z
UID:2862-1688043600-1688045400@rpoacal.external.pixelpopmarketing.com
SUMMARY:Team Member Onboarding Session
DESCRIPTION:Welcome to the RPOA Family! This onboarding is specifically for team members. \nHere’s what you can expect:\n– A brief intro to the company and how the program works\n– A virtual walk through of the platform and our online library\n– Best practices for faster results\n– Answer any questions you might have about RPOA \n***INTERACTIVE MEETING-PLEASE COME WITH YOUR VIDEO AND AUDIO ON***
URL:https://rpoacal.external.pixelpopmarketing.com/event/team-member-onboarding-session-duplicate-1-143/
CATEGORIES:Team Member Onboarding
ORGANIZER;CN="RPOA":MAILTO:amanda@insuranceroleplay.com
END:VEVENT
BEGIN:VEVENT
DTSTART;TZID=America/New_York:20230630T130000
DTEND;TZID=America/New_York:20230630T133000
DTSTAMP:20260420T042847
CREATED:20230328T155440Z
LAST-MODIFIED:20230403T183547Z
UID:2864-1688130000-1688131800@rpoacal.external.pixelpopmarketing.com
SUMMARY:Team Member Onboarding Session
DESCRIPTION:Welcome to the RPOA Family! This onboarding is specifically for team members. \nHere’s what you can expect:\n– A brief intro to the company and how the program works\n– A virtual walk through of the platform and our online library\n– Best practices for faster results\n– Answer any questions you might have about RPOA \n***INTERACTIVE MEETING-PLEASE COME WITH YOUR VIDEO AND AUDIO ON***
URL:https://rpoacal.external.pixelpopmarketing.com/event/team-member-onboarding-session-duplicate-1-144/
CATEGORIES:Team Member Onboarding
ORGANIZER;CN="RPOA":MAILTO:amanda@insuranceroleplay.com
END:VEVENT
BEGIN:VEVENT
DTSTART;TZID=America/New_York:20230705T130000
DTEND;TZID=America/New_York:20230705T133000
DTSTAMP:20260420T042847
CREATED:20230428T171649Z
LAST-MODIFIED:20230428T171649Z
UID:2951-1688562000-1688563800@rpoacal.external.pixelpopmarketing.com
SUMMARY:Team Member Onboarding Session
DESCRIPTION:Welcome to the RPOA Family! This onboarding is specifically for team members. \nHere’s what you can expect:\n– A brief intro to the company and how the program works\n– A virtual walk through of the platform and our online library\n– Best practices for faster results\n– Answer any questions you might have about RPOA \n***INTERACTIVE MEETING-PLEASE COME WITH YOUR VIDEO AND AUDIO ON***
URL:https://rpoacal.external.pixelpopmarketing.com/event/team-member-onboarding-session-duplicate-1-145/
CATEGORIES:Team Member Onboarding
ORGANIZER;CN="RPOA":MAILTO:amanda@insuranceroleplay.com
END:VEVENT
BEGIN:VEVENT
DTSTART;TZID=America/New_York:20230706T130000
DTEND;TZID=America/New_York:20230706T133000
DTSTAMP:20260420T042847
CREATED:20230428T171717Z
LAST-MODIFIED:20230428T171717Z
UID:2953-1688648400-1688650200@rpoacal.external.pixelpopmarketing.com
SUMMARY:Team Member Onboarding Session
DESCRIPTION:Welcome to the RPOA Family! This onboarding is specifically for team members. \nHere’s what you can expect:\n– A brief intro to the company and how the program works\n– A virtual walk through of the platform and our online library\n– Best practices for faster results\n– Answer any questions you might have about RPOA \n***INTERACTIVE MEETING-PLEASE COME WITH YOUR VIDEO AND AUDIO ON***
URL:https://rpoacal.external.pixelpopmarketing.com/event/team-member-onboarding-session-duplicate-1-146/
CATEGORIES:Team Member Onboarding
ORGANIZER;CN="RPOA":MAILTO:amanda@insuranceroleplay.com
END:VEVENT
BEGIN:VEVENT
DTSTART;TZID=America/New_York:20230707T130000
DTEND;TZID=America/New_York:20230707T133000
DTSTAMP:20260420T042847
CREATED:20230428T171739Z
LAST-MODIFIED:20230428T171739Z
UID:2955-1688734800-1688736600@rpoacal.external.pixelpopmarketing.com
SUMMARY:Team Member Onboarding Session
DESCRIPTION:Welcome to the RPOA Family! This onboarding is specifically for team members. \nHere’s what you can expect:\n– A brief intro to the company and how the program works\n– A virtual walk through of the platform and our online library\n– Best practices for faster results\n– Answer any questions you might have about RPOA \n***INTERACTIVE MEETING-PLEASE COME WITH YOUR VIDEO AND AUDIO ON***
URL:https://rpoacal.external.pixelpopmarketing.com/event/team-member-onboarding-session-duplicate-1-147/
CATEGORIES:Team Member Onboarding
ORGANIZER;CN="RPOA":MAILTO:amanda@insuranceroleplay.com
END:VEVENT
BEGIN:VEVENT
DTSTART;TZID=America/New_York:20230712T130000
DTEND;TZID=America/New_York:20230712T133000
DTSTAMP:20260420T042847
CREATED:20230428T172033Z
LAST-MODIFIED:20230428T172033Z
UID:2957-1689166800-1689168600@rpoacal.external.pixelpopmarketing.com
SUMMARY:Team Member Onboarding Session
DESCRIPTION:Welcome to the RPOA Family! This onboarding is specifically for team members. \nHere’s what you can expect:\n– A brief intro to the company and how the program works\n– A virtual walk through of the platform and our online library\n– Best practices for faster results\n– Answer any questions you might have about RPOA \n***INTERACTIVE MEETING-PLEASE COME WITH YOUR VIDEO AND AUDIO ON***
URL:https://rpoacal.external.pixelpopmarketing.com/event/team-member-onboarding-session-duplicate-1-148/
CATEGORIES:Team Member Onboarding
ORGANIZER;CN="RPOA":MAILTO:amanda@insuranceroleplay.com
END:VEVENT
BEGIN:VEVENT
DTSTART;TZID=America/New_York:20230713T130000
DTEND;TZID=America/New_York:20230713T133000
DTSTAMP:20260420T042847
CREATED:20230428T172055Z
LAST-MODIFIED:20230428T172055Z
UID:2959-1689253200-1689255000@rpoacal.external.pixelpopmarketing.com
SUMMARY:Team Member Onboarding Session
DESCRIPTION:Welcome to the RPOA Family! This onboarding is specifically for team members. \nHere’s what you can expect:\n– A brief intro to the company and how the program works\n– A virtual walk through of the platform and our online library\n– Best practices for faster results\n– Answer any questions you might have about RPOA \n***INTERACTIVE MEETING-PLEASE COME WITH YOUR VIDEO AND AUDIO ON***
URL:https://rpoacal.external.pixelpopmarketing.com/event/team-member-onboarding-session-duplicate-1-149/
CATEGORIES:Team Member Onboarding
ORGANIZER;CN="RPOA":MAILTO:amanda@insuranceroleplay.com
END:VEVENT
BEGIN:VEVENT
DTSTART;TZID=America/New_York:20230714T130000
DTEND;TZID=America/New_York:20230714T133000
DTSTAMP:20260420T042847
CREATED:20230428T172118Z
LAST-MODIFIED:20230428T172118Z
UID:2961-1689339600-1689341400@rpoacal.external.pixelpopmarketing.com
SUMMARY:Team Member Onboarding Session
DESCRIPTION:Welcome to the RPOA Family! This onboarding is specifically for team members. \nHere’s what you can expect:\n– A brief intro to the company and how the program works\n– A virtual walk through of the platform and our online library\n– Best practices for faster results\n– Answer any questions you might have about RPOA \n***INTERACTIVE MEETING-PLEASE COME WITH YOUR VIDEO AND AUDIO ON***
URL:https://rpoacal.external.pixelpopmarketing.com/event/team-member-onboarding-session-duplicate-1-150/
CATEGORIES:Team Member Onboarding
ORGANIZER;CN="RPOA":MAILTO:amanda@insuranceroleplay.com
END:VEVENT
BEGIN:VEVENT
DTSTART;TZID=America/New_York:20230719T130000
DTEND;TZID=America/New_York:20230719T133000
DTSTAMP:20260420T042847
CREATED:20230428T172144Z
LAST-MODIFIED:20230428T172144Z
UID:2963-1689771600-1689773400@rpoacal.external.pixelpopmarketing.com
SUMMARY:Team Member Onboarding Session
DESCRIPTION:Welcome to the RPOA Family! This onboarding is specifically for team members. \nHere’s what you can expect:\n– A brief intro to the company and how the program works\n– A virtual walk through of the platform and our online library\n– Best practices for faster results\n– Answer any questions you might have about RPOA \n***INTERACTIVE MEETING-PLEASE COME WITH YOUR VIDEO AND AUDIO ON***
URL:https://rpoacal.external.pixelpopmarketing.com/event/team-member-onboarding-session-duplicate-1-151/
CATEGORIES:Team Member Onboarding
ORGANIZER;CN="RPOA":MAILTO:amanda@insuranceroleplay.com
END:VEVENT
BEGIN:VEVENT
DTSTART;TZID=America/New_York:20230720T130000
DTEND;TZID=America/New_York:20230720T133000
DTSTAMP:20260420T042847
CREATED:20230428T172206Z
LAST-MODIFIED:20230428T172206Z
UID:2965-1689858000-1689859800@rpoacal.external.pixelpopmarketing.com
SUMMARY:Team Member Onboarding Session
DESCRIPTION:Welcome to the RPOA Family! This onboarding is specifically for team members. \nHere’s what you can expect:\n– A brief intro to the company and how the program works\n– A virtual walk through of the platform and our online library\n– Best practices for faster results\n– Answer any questions you might have about RPOA \n***INTERACTIVE MEETING-PLEASE COME WITH YOUR VIDEO AND AUDIO ON***
URL:https://rpoacal.external.pixelpopmarketing.com/event/team-member-onboarding-session-duplicate-1-152/
CATEGORIES:Team Member Onboarding
ORGANIZER;CN="RPOA":MAILTO:amanda@insuranceroleplay.com
END:VEVENT
BEGIN:VEVENT
DTSTART;TZID=America/New_York:20230721T130000
DTEND;TZID=America/New_York:20230721T133000
DTSTAMP:20260420T042847
CREATED:20230428T172230Z
LAST-MODIFIED:20230428T172230Z
UID:2967-1689944400-1689946200@rpoacal.external.pixelpopmarketing.com
SUMMARY:Team Member Onboarding Session
DESCRIPTION:Welcome to the RPOA Family! This onboarding is specifically for team members. \nHere’s what you can expect:\n– A brief intro to the company and how the program works\n– A virtual walk through of the platform and our online library\n– Best practices for faster results\n– Answer any questions you might have about RPOA \n***INTERACTIVE MEETING-PLEASE COME WITH YOUR VIDEO AND AUDIO ON***
URL:https://rpoacal.external.pixelpopmarketing.com/event/team-member-onboarding-session-duplicate-1-153/
CATEGORIES:Team Member Onboarding
ORGANIZER;CN="RPOA":MAILTO:amanda@insuranceroleplay.com
END:VEVENT
BEGIN:VEVENT
DTSTART;TZID=America/New_York:20230726T130000
DTEND;TZID=America/New_York:20230726T133000
DTSTAMP:20260420T042847
CREATED:20230428T172258Z
LAST-MODIFIED:20230428T172258Z
UID:2969-1690376400-1690378200@rpoacal.external.pixelpopmarketing.com
SUMMARY:Team Member Onboarding Session
DESCRIPTION:Welcome to the RPOA Family! This onboarding is specifically for team members. \nHere’s what you can expect:\n– A brief intro to the company and how the program works\n– A virtual walk through of the platform and our online library\n– Best practices for faster results\n– Answer any questions you might have about RPOA \n***INTERACTIVE MEETING-PLEASE COME WITH YOUR VIDEO AND AUDIO ON***
URL:https://rpoacal.external.pixelpopmarketing.com/event/team-member-onboarding-session-duplicate-1-154/
CATEGORIES:Team Member Onboarding
ORGANIZER;CN="RPOA":MAILTO:amanda@insuranceroleplay.com
END:VEVENT
BEGIN:VEVENT
DTSTART;TZID=America/New_York:20230727T130000
DTEND;TZID=America/New_York:20230727T133000
DTSTAMP:20260420T042847
CREATED:20230428T172319Z
LAST-MODIFIED:20230428T172319Z
UID:2971-1690462800-1690464600@rpoacal.external.pixelpopmarketing.com
SUMMARY:Team Member Onboarding Session
DESCRIPTION:Welcome to the RPOA Family! This onboarding is specifically for team members. \nHere’s what you can expect:\n– A brief intro to the company and how the program works\n– A virtual walk through of the platform and our online library\n– Best practices for faster results\n– Answer any questions you might have about RPOA \n***INTERACTIVE MEETING-PLEASE COME WITH YOUR VIDEO AND AUDIO ON***
URL:https://rpoacal.external.pixelpopmarketing.com/event/team-member-onboarding-session-duplicate-1-155/
CATEGORIES:Team Member Onboarding
ORGANIZER;CN="RPOA":MAILTO:amanda@insuranceroleplay.com
END:VEVENT
BEGIN:VEVENT
DTSTART;TZID=America/New_York:20230728T130000
DTEND;TZID=America/New_York:20230728T133000
DTSTAMP:20260420T042847
CREATED:20230428T172340Z
LAST-MODIFIED:20230428T172340Z
UID:2973-1690549200-1690551000@rpoacal.external.pixelpopmarketing.com
SUMMARY:Team Member Onboarding Session
DESCRIPTION:Welcome to the RPOA Family! This onboarding is specifically for team members. \nHere’s what you can expect:\n– A brief intro to the company and how the program works\n– A virtual walk through of the platform and our online library\n– Best practices for faster results\n– Answer any questions you might have about RPOA \n***INTERACTIVE MEETING-PLEASE COME WITH YOUR VIDEO AND AUDIO ON***
URL:https://rpoacal.external.pixelpopmarketing.com/event/team-member-onboarding-session-duplicate-1-156/
CATEGORIES:Team Member Onboarding
ORGANIZER;CN="RPOA":MAILTO:amanda@insuranceroleplay.com
END:VEVENT
BEGIN:VEVENT
DTSTART;TZID=America/New_York:20230802T130000
DTEND;TZID=America/New_York:20230802T133000
DTSTAMP:20260420T042847
CREATED:20230526T161305Z
LAST-MODIFIED:20230526T161305Z
UID:3056-1690981200-1690983000@rpoacal.external.pixelpopmarketing.com
SUMMARY:Team Member Onboarding Session
DESCRIPTION:Welcome to the RPOA Family! This onboarding is specifically for team members. \nHere’s what you can expect:\n– A brief intro to the company and how the program works\n– A virtual walk through of the platform and our online library\n– Best practices for faster results\n– Answer any questions you might have about RPOA \n***INTERACTIVE MEETING-PLEASE COME WITH YOUR VIDEO AND AUDIO ON***
URL:https://rpoacal.external.pixelpopmarketing.com/event/team-member-onboarding-session-duplicate-1-130/
CATEGORIES:Team Member Onboarding
ORGANIZER;CN="RPOA":MAILTO:amanda@insuranceroleplay.com
END:VEVENT
BEGIN:VEVENT
DTSTART;TZID=America/New_York:20230803T130000
DTEND;TZID=America/New_York:20230803T133000
DTSTAMP:20260420T042847
CREATED:20230526T161331Z
LAST-MODIFIED:20230526T161331Z
UID:3058-1691067600-1691069400@rpoacal.external.pixelpopmarketing.com
SUMMARY:Team Member Onboarding Session
DESCRIPTION:Welcome to the RPOA Family! This onboarding is specifically for team members. \nHere’s what you can expect:\n– A brief intro to the company and how the program works\n– A virtual walk through of the platform and our online library\n– Best practices for faster results\n– Answer any questions you might have about RPOA \n***INTERACTIVE MEETING-PLEASE COME WITH YOUR VIDEO AND AUDIO ON***
URL:https://rpoacal.external.pixelpopmarketing.com/event/team-member-onboarding-session-duplicate-1-131/
CATEGORIES:Team Member Onboarding
ORGANIZER;CN="RPOA":MAILTO:amanda@insuranceroleplay.com
END:VEVENT
BEGIN:VEVENT
DTSTART;TZID=America/New_York:20230804T130000
DTEND;TZID=America/New_York:20230804T133000
DTSTAMP:20260420T042847
CREATED:20230526T161356Z
LAST-MODIFIED:20230526T161356Z
UID:3060-1691154000-1691155800@rpoacal.external.pixelpopmarketing.com
SUMMARY:Team Member Onboarding Session
DESCRIPTION:Welcome to the RPOA Family! This onboarding is specifically for team members. \nHere’s what you can expect:\n– A brief intro to the company and how the program works\n– A virtual walk through of the platform and our online library\n– Best practices for faster results\n– Answer any questions you might have about RPOA \n***INTERACTIVE MEETING-PLEASE COME WITH YOUR VIDEO AND AUDIO ON***
URL:https://rpoacal.external.pixelpopmarketing.com/event/team-member-onboarding-session-duplicate-1-157/
CATEGORIES:Team Member Onboarding
ORGANIZER;CN="RPOA":MAILTO:amanda@insuranceroleplay.com
END:VEVENT
BEGIN:VEVENT
DTSTART;TZID=America/New_York:20230809T130000
DTEND;TZID=America/New_York:20230809T133000
DTSTAMP:20260420T042847
CREATED:20230526T161424Z
LAST-MODIFIED:20230526T161424Z
UID:3062-1691586000-1691587800@rpoacal.external.pixelpopmarketing.com
SUMMARY:Team Member Onboarding Session
DESCRIPTION:Welcome to the RPOA Family! This onboarding is specifically for team members. \nHere’s what you can expect:\n– A brief intro to the company and how the program works\n– A virtual walk through of the platform and our online library\n– Best practices for faster results\n– Answer any questions you might have about RPOA \n***INTERACTIVE MEETING-PLEASE COME WITH YOUR VIDEO AND AUDIO ON***
URL:https://rpoacal.external.pixelpopmarketing.com/event/team-member-onboarding-session-duplicate-1-158/
CATEGORIES:Team Member Onboarding
ORGANIZER;CN="RPOA":MAILTO:amanda@insuranceroleplay.com
END:VEVENT
BEGIN:VEVENT
DTSTART;TZID=America/New_York:20230810T130000
DTEND;TZID=America/New_York:20230810T133000
DTSTAMP:20260420T042847
CREATED:20230526T161452Z
LAST-MODIFIED:20230526T161452Z
UID:3064-1691672400-1691674200@rpoacal.external.pixelpopmarketing.com
SUMMARY:Team Member Onboarding Session
DESCRIPTION:Welcome to the RPOA Family! This onboarding is specifically for team members. \nHere’s what you can expect:\n– A brief intro to the company and how the program works\n– A virtual walk through of the platform and our online library\n– Best practices for faster results\n– Answer any questions you might have about RPOA \n***INTERACTIVE MEETING-PLEASE COME WITH YOUR VIDEO AND AUDIO ON***
URL:https://rpoacal.external.pixelpopmarketing.com/event/team-member-onboarding-session-duplicate-1-159/
CATEGORIES:Team Member Onboarding
ORGANIZER;CN="RPOA":MAILTO:amanda@insuranceroleplay.com
END:VEVENT
BEGIN:VEVENT
DTSTART;TZID=America/New_York:20230811T130000
DTEND;TZID=America/New_York:20230811T133000
DTSTAMP:20260420T042847
CREATED:20230526T161513Z
LAST-MODIFIED:20230526T161513Z
UID:3066-1691758800-1691760600@rpoacal.external.pixelpopmarketing.com
SUMMARY:Team Member Onboarding Session
DESCRIPTION:Welcome to the RPOA Family! This onboarding is specifically for team members. \nHere’s what you can expect:\n– A brief intro to the company and how the program works\n– A virtual walk through of the platform and our online library\n– Best practices for faster results\n– Answer any questions you might have about RPOA \n***INTERACTIVE MEETING-PLEASE COME WITH YOUR VIDEO AND AUDIO ON***
URL:https://rpoacal.external.pixelpopmarketing.com/event/team-member-onboarding-session-duplicate-1-160/
CATEGORIES:Team Member Onboarding
ORGANIZER;CN="RPOA":MAILTO:amanda@insuranceroleplay.com
END:VEVENT
BEGIN:VEVENT
DTSTART;TZID=America/New_York:20230816T130000
DTEND;TZID=America/New_York:20230816T133000
DTSTAMP:20260420T042847
CREATED:20230526T161536Z
LAST-MODIFIED:20230526T161536Z
UID:3068-1692190800-1692192600@rpoacal.external.pixelpopmarketing.com
SUMMARY:Team Member Onboarding Session
DESCRIPTION:Welcome to the RPOA Family! This onboarding is specifically for team members. \nHere’s what you can expect:\n– A brief intro to the company and how the program works\n– A virtual walk through of the platform and our online library\n– Best practices for faster results\n– Answer any questions you might have about RPOA \n***INTERACTIVE MEETING-PLEASE COME WITH YOUR VIDEO AND AUDIO ON***
URL:https://rpoacal.external.pixelpopmarketing.com/event/team-member-onboarding-session-duplicate-1-161/
CATEGORIES:Team Member Onboarding
ORGANIZER;CN="RPOA":MAILTO:amanda@insuranceroleplay.com
END:VEVENT
BEGIN:VEVENT
DTSTART;TZID=America/New_York:20230817T130000
DTEND;TZID=America/New_York:20230817T133000
DTSTAMP:20260420T042847
CREATED:20230526T161557Z
LAST-MODIFIED:20230526T161557Z
UID:3070-1692277200-1692279000@rpoacal.external.pixelpopmarketing.com
SUMMARY:Team Member Onboarding Session
DESCRIPTION:Welcome to the RPOA Family! This onboarding is specifically for team members. \nHere’s what you can expect:\n– A brief intro to the company and how the program works\n– A virtual walk through of the platform and our online library\n– Best practices for faster results\n– Answer any questions you might have about RPOA \n***INTERACTIVE MEETING-PLEASE COME WITH YOUR VIDEO AND AUDIO ON***
URL:https://rpoacal.external.pixelpopmarketing.com/event/team-member-onboarding-session-duplicate-1-162/
CATEGORIES:Team Member Onboarding
ORGANIZER;CN="RPOA":MAILTO:amanda@insuranceroleplay.com
END:VEVENT
BEGIN:VEVENT
DTSTART;TZID=America/New_York:20230818T130000
DTEND;TZID=America/New_York:20230818T133000
DTSTAMP:20260420T042847
CREATED:20230526T161620Z
LAST-MODIFIED:20230526T161620Z
UID:3072-1692363600-1692365400@rpoacal.external.pixelpopmarketing.com
SUMMARY:Team Member Onboarding Session
DESCRIPTION:Welcome to the RPOA Family! This onboarding is specifically for team members. \nHere’s what you can expect:\n– A brief intro to the company and how the program works\n– A virtual walk through of the platform and our online library\n– Best practices for faster results\n– Answer any questions you might have about RPOA \n***INTERACTIVE MEETING-PLEASE COME WITH YOUR VIDEO AND AUDIO ON***
URL:https://rpoacal.external.pixelpopmarketing.com/event/team-member-onboarding-session-duplicate-1-163/
CATEGORIES:Team Member Onboarding
ORGANIZER;CN="RPOA":MAILTO:amanda@insuranceroleplay.com
END:VEVENT
BEGIN:VEVENT
DTSTART;TZID=America/New_York:20230823T130000
DTEND;TZID=America/New_York:20230823T133000
DTSTAMP:20260420T042847
CREATED:20230526T161648Z
LAST-MODIFIED:20230526T161648Z
UID:3074-1692795600-1692797400@rpoacal.external.pixelpopmarketing.com
SUMMARY:Team Member Onboarding Session
DESCRIPTION:Welcome to the RPOA Family! This onboarding is specifically for team members. \nHere’s what you can expect:\n– A brief intro to the company and how the program works\n– A virtual walk through of the platform and our online library\n– Best practices for faster results\n– Answer any questions you might have about RPOA \n***INTERACTIVE MEETING-PLEASE COME WITH YOUR VIDEO AND AUDIO ON***
URL:https://rpoacal.external.pixelpopmarketing.com/event/team-member-onboarding-session-duplicate-1-164/
CATEGORIES:Team Member Onboarding
ORGANIZER;CN="RPOA":MAILTO:amanda@insuranceroleplay.com
END:VEVENT
BEGIN:VEVENT
DTSTART;TZID=America/New_York:20230824T130000
DTEND;TZID=America/New_York:20230824T133000
DTSTAMP:20260420T042847
CREATED:20230526T161711Z
LAST-MODIFIED:20230526T161711Z
UID:3076-1692882000-1692883800@rpoacal.external.pixelpopmarketing.com
SUMMARY:Team Member Onboarding Session
DESCRIPTION:Welcome to the RPOA Family! This onboarding is specifically for team members. \nHere’s what you can expect:\n– A brief intro to the company and how the program works\n– A virtual walk through of the platform and our online library\n– Best practices for faster results\n– Answer any questions you might have about RPOA \n***INTERACTIVE MEETING-PLEASE COME WITH YOUR VIDEO AND AUDIO ON***
URL:https://rpoacal.external.pixelpopmarketing.com/event/team-member-onboarding-session-duplicate-1-165/
CATEGORIES:Team Member Onboarding
ORGANIZER;CN="RPOA":MAILTO:amanda@insuranceroleplay.com
END:VEVENT
BEGIN:VEVENT
DTSTART;TZID=America/New_York:20230825T130000
DTEND;TZID=America/New_York:20230825T133000
DTSTAMP:20260420T042847
CREATED:20230526T161732Z
LAST-MODIFIED:20230526T161732Z
UID:3078-1692968400-1692970200@rpoacal.external.pixelpopmarketing.com
SUMMARY:Team Member Onboarding Session
DESCRIPTION:Welcome to the RPOA Family! This onboarding is specifically for team members. \nHere’s what you can expect:\n– A brief intro to the company and how the program works\n– A virtual walk through of the platform and our online library\n– Best practices for faster results\n– Answer any questions you might have about RPOA \n***INTERACTIVE MEETING-PLEASE COME WITH YOUR VIDEO AND AUDIO ON***
URL:https://rpoacal.external.pixelpopmarketing.com/event/team-member-onboarding-session-duplicate-1-166/
CATEGORIES:Team Member Onboarding
ORGANIZER;CN="RPOA":MAILTO:amanda@insuranceroleplay.com
END:VEVENT
BEGIN:VEVENT
DTSTART;TZID=America/New_York:20230830T130000
DTEND;TZID=America/New_York:20230830T133000
DTSTAMP:20260420T042847
CREATED:20230526T161754Z
LAST-MODIFIED:20230526T161754Z
UID:3080-1693400400-1693402200@rpoacal.external.pixelpopmarketing.com
SUMMARY:Team Member Onboarding Session
DESCRIPTION:Welcome to the RPOA Family! This onboarding is specifically for team members. \nHere’s what you can expect:\n– A brief intro to the company and how the program works\n– A virtual walk through of the platform and our online library\n– Best practices for faster results\n– Answer any questions you might have about RPOA \n***INTERACTIVE MEETING-PLEASE COME WITH YOUR VIDEO AND AUDIO ON***
URL:https://rpoacal.external.pixelpopmarketing.com/event/team-member-onboarding-session-duplicate-1-167/
CATEGORIES:Team Member Onboarding
ORGANIZER;CN="RPOA":MAILTO:amanda@insuranceroleplay.com
END:VEVENT
END:VCALENDAR