BEGIN:VCALENDAR
VERSION:2.0
PRODID:-//RPOA Events Calendar - ECPv6.1.3//NONSGML v1.0//EN
CALSCALE:GREGORIAN
METHOD:PUBLISH
X-WR-CALNAME:RPOA Events Calendar
X-ORIGINAL-URL:https://rpoacal.external.pixelpopmarketing.com
X-WR-CALDESC:Events for RPOA Events Calendar
REFRESH-INTERVAL;VALUE=DURATION:PT1H
X-Robots-Tag:noindex
X-PUBLISHED-TTL:PT1H
BEGIN:VTIMEZONE
TZID:America/New_York
BEGIN:DAYLIGHT
TZOFFSETFROM:-0500
TZOFFSETTO:-0400
TZNAME:EDT
DTSTART:20230312T070000
END:DAYLIGHT
BEGIN:STANDARD
TZOFFSETFROM:-0400
TZOFFSETTO:-0500
TZNAME:EST
DTSTART:20231105T060000
END:STANDARD
END:VTIMEZONE
BEGIN:VEVENT
DTSTART;TZID=America/New_York:20230802T130000
DTEND;TZID=America/New_York:20230802T133000
DTSTAMP:20260420T025732
CREATED:20230526T161305Z
LAST-MODIFIED:20230526T161305Z
UID:3056-1690981200-1690983000@rpoacal.external.pixelpopmarketing.com
SUMMARY:Team Member Onboarding Session
DESCRIPTION:Welcome to the RPOA Family! This onboarding is specifically for team members. \nHere’s what you can expect:\n– A brief intro to the company and how the program works\n– A virtual walk through of the platform and our online library\n– Best practices for faster results\n– Answer any questions you might have about RPOA \n***INTERACTIVE MEETING-PLEASE COME WITH YOUR VIDEO AND AUDIO ON***
URL:https://rpoacal.external.pixelpopmarketing.com/event/team-member-onboarding-session-duplicate-1-130/
CATEGORIES:Team Member Onboarding
ORGANIZER;CN="RPOA":MAILTO:amanda@insuranceroleplay.com
END:VEVENT
BEGIN:VEVENT
DTSTART;TZID=America/New_York:20230803T130000
DTEND;TZID=America/New_York:20230803T133000
DTSTAMP:20260420T025732
CREATED:20230526T161331Z
LAST-MODIFIED:20230526T161331Z
UID:3058-1691067600-1691069400@rpoacal.external.pixelpopmarketing.com
SUMMARY:Team Member Onboarding Session
DESCRIPTION:Welcome to the RPOA Family! This onboarding is specifically for team members. \nHere’s what you can expect:\n– A brief intro to the company and how the program works\n– A virtual walk through of the platform and our online library\n– Best practices for faster results\n– Answer any questions you might have about RPOA \n***INTERACTIVE MEETING-PLEASE COME WITH YOUR VIDEO AND AUDIO ON***
URL:https://rpoacal.external.pixelpopmarketing.com/event/team-member-onboarding-session-duplicate-1-131/
CATEGORIES:Team Member Onboarding
ORGANIZER;CN="RPOA":MAILTO:amanda@insuranceroleplay.com
END:VEVENT
BEGIN:VEVENT
DTSTART;TZID=America/New_York:20230804T130000
DTEND;TZID=America/New_York:20230804T133000
DTSTAMP:20260420T025732
CREATED:20230526T161356Z
LAST-MODIFIED:20230526T161356Z
UID:3060-1691154000-1691155800@rpoacal.external.pixelpopmarketing.com
SUMMARY:Team Member Onboarding Session
DESCRIPTION:Welcome to the RPOA Family! This onboarding is specifically for team members. \nHere’s what you can expect:\n– A brief intro to the company and how the program works\n– A virtual walk through of the platform and our online library\n– Best practices for faster results\n– Answer any questions you might have about RPOA \n***INTERACTIVE MEETING-PLEASE COME WITH YOUR VIDEO AND AUDIO ON***
URL:https://rpoacal.external.pixelpopmarketing.com/event/team-member-onboarding-session-duplicate-1-157/
CATEGORIES:Team Member Onboarding
ORGANIZER;CN="RPOA":MAILTO:amanda@insuranceroleplay.com
END:VEVENT
BEGIN:VEVENT
DTSTART;TZID=America/New_York:20230809T130000
DTEND;TZID=America/New_York:20230809T133000
DTSTAMP:20260420T025732
CREATED:20230526T161424Z
LAST-MODIFIED:20230526T161424Z
UID:3062-1691586000-1691587800@rpoacal.external.pixelpopmarketing.com
SUMMARY:Team Member Onboarding Session
DESCRIPTION:Welcome to the RPOA Family! This onboarding is specifically for team members. \nHere’s what you can expect:\n– A brief intro to the company and how the program works\n– A virtual walk through of the platform and our online library\n– Best practices for faster results\n– Answer any questions you might have about RPOA \n***INTERACTIVE MEETING-PLEASE COME WITH YOUR VIDEO AND AUDIO ON***
URL:https://rpoacal.external.pixelpopmarketing.com/event/team-member-onboarding-session-duplicate-1-158/
CATEGORIES:Team Member Onboarding
ORGANIZER;CN="RPOA":MAILTO:amanda@insuranceroleplay.com
END:VEVENT
BEGIN:VEVENT
DTSTART;TZID=America/New_York:20230810T130000
DTEND;TZID=America/New_York:20230810T133000
DTSTAMP:20260420T025733
CREATED:20230526T161452Z
LAST-MODIFIED:20230526T161452Z
UID:3064-1691672400-1691674200@rpoacal.external.pixelpopmarketing.com
SUMMARY:Team Member Onboarding Session
DESCRIPTION:Welcome to the RPOA Family! This onboarding is specifically for team members. \nHere’s what you can expect:\n– A brief intro to the company and how the program works\n– A virtual walk through of the platform and our online library\n– Best practices for faster results\n– Answer any questions you might have about RPOA \n***INTERACTIVE MEETING-PLEASE COME WITH YOUR VIDEO AND AUDIO ON***
URL:https://rpoacal.external.pixelpopmarketing.com/event/team-member-onboarding-session-duplicate-1-159/
CATEGORIES:Team Member Onboarding
ORGANIZER;CN="RPOA":MAILTO:amanda@insuranceroleplay.com
END:VEVENT
BEGIN:VEVENT
DTSTART;TZID=America/New_York:20230811T130000
DTEND;TZID=America/New_York:20230811T133000
DTSTAMP:20260420T025733
CREATED:20230526T161513Z
LAST-MODIFIED:20230526T161513Z
UID:3066-1691758800-1691760600@rpoacal.external.pixelpopmarketing.com
SUMMARY:Team Member Onboarding Session
DESCRIPTION:Welcome to the RPOA Family! This onboarding is specifically for team members. \nHere’s what you can expect:\n– A brief intro to the company and how the program works\n– A virtual walk through of the platform and our online library\n– Best practices for faster results\n– Answer any questions you might have about RPOA \n***INTERACTIVE MEETING-PLEASE COME WITH YOUR VIDEO AND AUDIO ON***
URL:https://rpoacal.external.pixelpopmarketing.com/event/team-member-onboarding-session-duplicate-1-160/
CATEGORIES:Team Member Onboarding
ORGANIZER;CN="RPOA":MAILTO:amanda@insuranceroleplay.com
END:VEVENT
BEGIN:VEVENT
DTSTART;TZID=America/New_York:20230816T130000
DTEND;TZID=America/New_York:20230816T133000
DTSTAMP:20260420T025733
CREATED:20230526T161536Z
LAST-MODIFIED:20230526T161536Z
UID:3068-1692190800-1692192600@rpoacal.external.pixelpopmarketing.com
SUMMARY:Team Member Onboarding Session
DESCRIPTION:Welcome to the RPOA Family! This onboarding is specifically for team members. \nHere’s what you can expect:\n– A brief intro to the company and how the program works\n– A virtual walk through of the platform and our online library\n– Best practices for faster results\n– Answer any questions you might have about RPOA \n***INTERACTIVE MEETING-PLEASE COME WITH YOUR VIDEO AND AUDIO ON***
URL:https://rpoacal.external.pixelpopmarketing.com/event/team-member-onboarding-session-duplicate-1-161/
CATEGORIES:Team Member Onboarding
ORGANIZER;CN="RPOA":MAILTO:amanda@insuranceroleplay.com
END:VEVENT
BEGIN:VEVENT
DTSTART;TZID=America/New_York:20230817T130000
DTEND;TZID=America/New_York:20230817T133000
DTSTAMP:20260420T025733
CREATED:20230526T161557Z
LAST-MODIFIED:20230526T161557Z
UID:3070-1692277200-1692279000@rpoacal.external.pixelpopmarketing.com
SUMMARY:Team Member Onboarding Session
DESCRIPTION:Welcome to the RPOA Family! This onboarding is specifically for team members. \nHere’s what you can expect:\n– A brief intro to the company and how the program works\n– A virtual walk through of the platform and our online library\n– Best practices for faster results\n– Answer any questions you might have about RPOA \n***INTERACTIVE MEETING-PLEASE COME WITH YOUR VIDEO AND AUDIO ON***
URL:https://rpoacal.external.pixelpopmarketing.com/event/team-member-onboarding-session-duplicate-1-162/
CATEGORIES:Team Member Onboarding
ORGANIZER;CN="RPOA":MAILTO:amanda@insuranceroleplay.com
END:VEVENT
BEGIN:VEVENT
DTSTART;TZID=America/New_York:20230818T130000
DTEND;TZID=America/New_York:20230818T133000
DTSTAMP:20260420T025733
CREATED:20230526T161620Z
LAST-MODIFIED:20230526T161620Z
UID:3072-1692363600-1692365400@rpoacal.external.pixelpopmarketing.com
SUMMARY:Team Member Onboarding Session
DESCRIPTION:Welcome to the RPOA Family! This onboarding is specifically for team members. \nHere’s what you can expect:\n– A brief intro to the company and how the program works\n– A virtual walk through of the platform and our online library\n– Best practices for faster results\n– Answer any questions you might have about RPOA \n***INTERACTIVE MEETING-PLEASE COME WITH YOUR VIDEO AND AUDIO ON***
URL:https://rpoacal.external.pixelpopmarketing.com/event/team-member-onboarding-session-duplicate-1-163/
CATEGORIES:Team Member Onboarding
ORGANIZER;CN="RPOA":MAILTO:amanda@insuranceroleplay.com
END:VEVENT
BEGIN:VEVENT
DTSTART;TZID=America/New_York:20230823T130000
DTEND;TZID=America/New_York:20230823T133000
DTSTAMP:20260420T025733
CREATED:20230526T161648Z
LAST-MODIFIED:20230526T161648Z
UID:3074-1692795600-1692797400@rpoacal.external.pixelpopmarketing.com
SUMMARY:Team Member Onboarding Session
DESCRIPTION:Welcome to the RPOA Family! This onboarding is specifically for team members. \nHere’s what you can expect:\n– A brief intro to the company and how the program works\n– A virtual walk through of the platform and our online library\n– Best practices for faster results\n– Answer any questions you might have about RPOA \n***INTERACTIVE MEETING-PLEASE COME WITH YOUR VIDEO AND AUDIO ON***
URL:https://rpoacal.external.pixelpopmarketing.com/event/team-member-onboarding-session-duplicate-1-164/
CATEGORIES:Team Member Onboarding
ORGANIZER;CN="RPOA":MAILTO:amanda@insuranceroleplay.com
END:VEVENT
BEGIN:VEVENT
DTSTART;TZID=America/New_York:20230824T130000
DTEND;TZID=America/New_York:20230824T133000
DTSTAMP:20260420T025733
CREATED:20230526T161711Z
LAST-MODIFIED:20230526T161711Z
UID:3076-1692882000-1692883800@rpoacal.external.pixelpopmarketing.com
SUMMARY:Team Member Onboarding Session
DESCRIPTION:Welcome to the RPOA Family! This onboarding is specifically for team members. \nHere’s what you can expect:\n– A brief intro to the company and how the program works\n– A virtual walk through of the platform and our online library\n– Best practices for faster results\n– Answer any questions you might have about RPOA \n***INTERACTIVE MEETING-PLEASE COME WITH YOUR VIDEO AND AUDIO ON***
URL:https://rpoacal.external.pixelpopmarketing.com/event/team-member-onboarding-session-duplicate-1-165/
CATEGORIES:Team Member Onboarding
ORGANIZER;CN="RPOA":MAILTO:amanda@insuranceroleplay.com
END:VEVENT
BEGIN:VEVENT
DTSTART;TZID=America/New_York:20230825T130000
DTEND;TZID=America/New_York:20230825T133000
DTSTAMP:20260420T025733
CREATED:20230526T161732Z
LAST-MODIFIED:20230526T161732Z
UID:3078-1692968400-1692970200@rpoacal.external.pixelpopmarketing.com
SUMMARY:Team Member Onboarding Session
DESCRIPTION:Welcome to the RPOA Family! This onboarding is specifically for team members. \nHere’s what you can expect:\n– A brief intro to the company and how the program works\n– A virtual walk through of the platform and our online library\n– Best practices for faster results\n– Answer any questions you might have about RPOA \n***INTERACTIVE MEETING-PLEASE COME WITH YOUR VIDEO AND AUDIO ON***
URL:https://rpoacal.external.pixelpopmarketing.com/event/team-member-onboarding-session-duplicate-1-166/
CATEGORIES:Team Member Onboarding
ORGANIZER;CN="RPOA":MAILTO:amanda@insuranceroleplay.com
END:VEVENT
BEGIN:VEVENT
DTSTART;TZID=America/New_York:20230830T130000
DTEND;TZID=America/New_York:20230830T133000
DTSTAMP:20260420T025733
CREATED:20230526T161754Z
LAST-MODIFIED:20230526T161754Z
UID:3080-1693400400-1693402200@rpoacal.external.pixelpopmarketing.com
SUMMARY:Team Member Onboarding Session
DESCRIPTION:Welcome to the RPOA Family! This onboarding is specifically for team members. \nHere’s what you can expect:\n– A brief intro to the company and how the program works\n– A virtual walk through of the platform and our online library\n– Best practices for faster results\n– Answer any questions you might have about RPOA \n***INTERACTIVE MEETING-PLEASE COME WITH YOUR VIDEO AND AUDIO ON***
URL:https://rpoacal.external.pixelpopmarketing.com/event/team-member-onboarding-session-duplicate-1-167/
CATEGORIES:Team Member Onboarding
ORGANIZER;CN="RPOA":MAILTO:amanda@insuranceroleplay.com
END:VEVENT
BEGIN:VEVENT
DTSTART;TZID=America/New_York:20230831T130000
DTEND;TZID=America/New_York:20230831T133000
DTSTAMP:20260420T025733
CREATED:20230526T161819Z
LAST-MODIFIED:20230526T161819Z
UID:3082-1693486800-1693488600@rpoacal.external.pixelpopmarketing.com
SUMMARY:Team Member Onboarding Session
DESCRIPTION:Welcome to the RPOA Family! This onboarding is specifically for team members. \nHere’s what you can expect:\n– A brief intro to the company and how the program works\n– A virtual walk through of the platform and our online library\n– Best practices for faster results\n– Answer any questions you might have about RPOA \n***INTERACTIVE MEETING-PLEASE COME WITH YOUR VIDEO AND AUDIO ON***
URL:https://rpoacal.external.pixelpopmarketing.com/event/team-member-onboarding-session-duplicate-1-168/
CATEGORIES:Team Member Onboarding
ORGANIZER;CN="RPOA":MAILTO:amanda@insuranceroleplay.com
END:VEVENT
BEGIN:VEVENT
DTSTART;TZID=America/New_York:20230901T130000
DTEND;TZID=America/New_York:20230901T133000
DTSTAMP:20260420T025733
CREATED:20230630T170753Z
LAST-MODIFIED:20230630T170753Z
UID:3164-1693573200-1693575000@rpoacal.external.pixelpopmarketing.com
SUMMARY:Team Member Onboarding Session
DESCRIPTION:Welcome to the RPOA Family! This onboarding is specifically for team members. \nHere’s what you can expect:\n– A brief intro to the company and how the program works\n– A virtual walk through of the platform and our online library\n– Best practices for faster results\n– Answer any questions you might have about RPOA \n***INTERACTIVE MEETING-PLEASE COME WITH YOUR VIDEO AND AUDIO ON***
URL:https://rpoacal.external.pixelpopmarketing.com/event/team-member-onboarding-session-duplicate-1-169/
CATEGORIES:Team Member Onboarding
ORGANIZER;CN="RPOA":MAILTO:amanda@insuranceroleplay.com
END:VEVENT
BEGIN:VEVENT
DTSTART;TZID=America/New_York:20230906T130000
DTEND;TZID=America/New_York:20230906T133000
DTSTAMP:20260420T025733
CREATED:20230630T175635Z
LAST-MODIFIED:20230630T175635Z
UID:3166-1694005200-1694007000@rpoacal.external.pixelpopmarketing.com
SUMMARY:Team Member Onboarding Session
DESCRIPTION:Welcome to the RPOA Family! This onboarding is specifically for team members. \nHere’s what you can expect:\n– A brief intro to the company and how the program works\n– A virtual walk through of the platform and our online library\n– Best practices for faster results\n– Answer any questions you might have about RPOA \n***INTERACTIVE MEETING-PLEASE COME WITH YOUR VIDEO AND AUDIO ON***
URL:https://rpoacal.external.pixelpopmarketing.com/event/team-member-onboarding-session-duplicate-1-170/
CATEGORIES:Team Member Onboarding
ORGANIZER;CN="RPOA":MAILTO:amanda@insuranceroleplay.com
END:VEVENT
BEGIN:VEVENT
DTSTART;TZID=America/New_York:20230907T130000
DTEND;TZID=America/New_York:20230907T133000
DTSTAMP:20260420T025733
CREATED:20230630T175706Z
LAST-MODIFIED:20230630T175706Z
UID:3168-1694091600-1694093400@rpoacal.external.pixelpopmarketing.com
SUMMARY:Team Member Onboarding Session
DESCRIPTION:Welcome to the RPOA Family! This onboarding is specifically for team members. \nHere’s what you can expect:\n– A brief intro to the company and how the program works\n– A virtual walk through of the platform and our online library\n– Best practices for faster results\n– Answer any questions you might have about RPOA \n***INTERACTIVE MEETING-PLEASE COME WITH YOUR VIDEO AND AUDIO ON***
URL:https://rpoacal.external.pixelpopmarketing.com/event/team-member-onboarding-session-duplicate-1-171/
CATEGORIES:Team Member Onboarding
ORGANIZER;CN="RPOA":MAILTO:amanda@insuranceroleplay.com
END:VEVENT
BEGIN:VEVENT
DTSTART;TZID=America/New_York:20230908T130000
DTEND;TZID=America/New_York:20230908T133000
DTSTAMP:20260420T025733
CREATED:20230630T175735Z
LAST-MODIFIED:20230630T175735Z
UID:3170-1694178000-1694179800@rpoacal.external.pixelpopmarketing.com
SUMMARY:Team Member Onboarding Session
DESCRIPTION:Welcome to the RPOA Family! This onboarding is specifically for team members. \nHere’s what you can expect:\n– A brief intro to the company and how the program works\n– A virtual walk through of the platform and our online library\n– Best practices for faster results\n– Answer any questions you might have about RPOA \n***INTERACTIVE MEETING-PLEASE COME WITH YOUR VIDEO AND AUDIO ON***
URL:https://rpoacal.external.pixelpopmarketing.com/event/team-member-onboarding-session-duplicate-1-172/
CATEGORIES:Team Member Onboarding
ORGANIZER;CN="RPOA":MAILTO:amanda@insuranceroleplay.com
END:VEVENT
BEGIN:VEVENT
DTSTART;TZID=America/New_York:20230913T130000
DTEND;TZID=America/New_York:20230913T133000
DTSTAMP:20260420T025733
CREATED:20230630T175817Z
LAST-MODIFIED:20230630T175817Z
UID:3172-1694610000-1694611800@rpoacal.external.pixelpopmarketing.com
SUMMARY:Team Member Onboarding Session
DESCRIPTION:Welcome to the RPOA Family! This onboarding is specifically for team members. \nHere’s what you can expect:\n– A brief intro to the company and how the program works\n– A virtual walk through of the platform and our online library\n– Best practices for faster results\n– Answer any questions you might have about RPOA \n***INTERACTIVE MEETING-PLEASE COME WITH YOUR VIDEO AND AUDIO ON***
URL:https://rpoacal.external.pixelpopmarketing.com/event/team-member-onboarding-session-duplicate-1-173/
CATEGORIES:Team Member Onboarding
ORGANIZER;CN="RPOA":MAILTO:amanda@insuranceroleplay.com
END:VEVENT
BEGIN:VEVENT
DTSTART;TZID=America/New_York:20230914T130000
DTEND;TZID=America/New_York:20230914T133000
DTSTAMP:20260420T025733
CREATED:20230630T175840Z
LAST-MODIFIED:20230630T175840Z
UID:3174-1694696400-1694698200@rpoacal.external.pixelpopmarketing.com
SUMMARY:Team Member Onboarding Session
DESCRIPTION:Welcome to the RPOA Family! This onboarding is specifically for team members. \nHere’s what you can expect:\n– A brief intro to the company and how the program works\n– A virtual walk through of the platform and our online library\n– Best practices for faster results\n– Answer any questions you might have about RPOA \n***INTERACTIVE MEETING-PLEASE COME WITH YOUR VIDEO AND AUDIO ON***
URL:https://rpoacal.external.pixelpopmarketing.com/event/team-member-onboarding-session-duplicate-1-174/
CATEGORIES:Team Member Onboarding
ORGANIZER;CN="RPOA":MAILTO:amanda@insuranceroleplay.com
END:VEVENT
BEGIN:VEVENT
DTSTART;TZID=America/New_York:20230915T130000
DTEND;TZID=America/New_York:20230915T133000
DTSTAMP:20260420T025733
CREATED:20230630T175904Z
LAST-MODIFIED:20230630T175904Z
UID:3176-1694782800-1694784600@rpoacal.external.pixelpopmarketing.com
SUMMARY:Team Member Onboarding Session
DESCRIPTION:Welcome to the RPOA Family! This onboarding is specifically for team members. \nHere’s what you can expect:\n– A brief intro to the company and how the program works\n– A virtual walk through of the platform and our online library\n– Best practices for faster results\n– Answer any questions you might have about RPOA \n***INTERACTIVE MEETING-PLEASE COME WITH YOUR VIDEO AND AUDIO ON***
URL:https://rpoacal.external.pixelpopmarketing.com/event/team-member-onboarding-session-duplicate-1-175/
CATEGORIES:Team Member Onboarding
ORGANIZER;CN="RPOA":MAILTO:amanda@insuranceroleplay.com
END:VEVENT
BEGIN:VEVENT
DTSTART;TZID=America/New_York:20230920T130000
DTEND;TZID=America/New_York:20230920T133000
DTSTAMP:20260420T025733
CREATED:20230630T175934Z
LAST-MODIFIED:20230630T175934Z
UID:3178-1695214800-1695216600@rpoacal.external.pixelpopmarketing.com
SUMMARY:Team Member Onboarding Session
DESCRIPTION:Welcome to the RPOA Family! This onboarding is specifically for team members. \nHere’s what you can expect:\n– A brief intro to the company and how the program works\n– A virtual walk through of the platform and our online library\n– Best practices for faster results\n– Answer any questions you might have about RPOA \n***INTERACTIVE MEETING-PLEASE COME WITH YOUR VIDEO AND AUDIO ON***
URL:https://rpoacal.external.pixelpopmarketing.com/event/team-member-onboarding-session-duplicate-1-176/
CATEGORIES:Team Member Onboarding
ORGANIZER;CN="RPOA":MAILTO:amanda@insuranceroleplay.com
END:VEVENT
BEGIN:VEVENT
DTSTART;TZID=America/New_York:20230921T130000
DTEND;TZID=America/New_York:20230921T133000
DTSTAMP:20260420T025733
CREATED:20230630T175957Z
LAST-MODIFIED:20230630T175957Z
UID:3180-1695301200-1695303000@rpoacal.external.pixelpopmarketing.com
SUMMARY:Team Member Onboarding Session
DESCRIPTION:Welcome to the RPOA Family! This onboarding is specifically for team members. \nHere’s what you can expect:\n– A brief intro to the company and how the program works\n– A virtual walk through of the platform and our online library\n– Best practices for faster results\n– Answer any questions you might have about RPOA \n***INTERACTIVE MEETING-PLEASE COME WITH YOUR VIDEO AND AUDIO ON***
URL:https://rpoacal.external.pixelpopmarketing.com/event/team-member-onboarding-session-duplicate-1-177/
CATEGORIES:Team Member Onboarding
ORGANIZER;CN="RPOA":MAILTO:amanda@insuranceroleplay.com
END:VEVENT
BEGIN:VEVENT
DTSTART;TZID=America/New_York:20230922T130000
DTEND;TZID=America/New_York:20230922T133000
DTSTAMP:20260420T025733
CREATED:20230630T180025Z
LAST-MODIFIED:20230630T180025Z
UID:3182-1695387600-1695389400@rpoacal.external.pixelpopmarketing.com
SUMMARY:Team Member Onboarding Session
DESCRIPTION:Welcome to the RPOA Family! This onboarding is specifically for team members. \nHere’s what you can expect:\n– A brief intro to the company and how the program works\n– A virtual walk through of the platform and our online library\n– Best practices for faster results\n– Answer any questions you might have about RPOA \n***INTERACTIVE MEETING-PLEASE COME WITH YOUR VIDEO AND AUDIO ON***
URL:https://rpoacal.external.pixelpopmarketing.com/event/team-member-onboarding-session-duplicate-1-178/
CATEGORIES:Team Member Onboarding
ORGANIZER;CN="RPOA":MAILTO:amanda@insuranceroleplay.com
END:VEVENT
BEGIN:VEVENT
DTSTART;TZID=America/New_York:20230928T130000
DTEND;TZID=America/New_York:20230928T133000
DTSTAMP:20260420T025733
CREATED:20230630T180053Z
LAST-MODIFIED:20230630T180053Z
UID:3184-1695906000-1695907800@rpoacal.external.pixelpopmarketing.com
SUMMARY:Team Member Onboarding Session
DESCRIPTION:Welcome to the RPOA Family! This onboarding is specifically for team members. \nHere’s what you can expect:\n– A brief intro to the company and how the program works\n– A virtual walk through of the platform and our online library\n– Best practices for faster results\n– Answer any questions you might have about RPOA \n***INTERACTIVE MEETING-PLEASE COME WITH YOUR VIDEO AND AUDIO ON***
URL:https://rpoacal.external.pixelpopmarketing.com/event/team-member-onboarding-session-duplicate-1-179/
CATEGORIES:Team Member Onboarding
ORGANIZER;CN="RPOA":MAILTO:amanda@insuranceroleplay.com
END:VEVENT
BEGIN:VEVENT
DTSTART;TZID=America/New_York:20230929T130000
DTEND;TZID=America/New_York:20230929T133000
DTSTAMP:20260420T025733
CREATED:20230630T180118Z
LAST-MODIFIED:20230630T180118Z
UID:3186-1695992400-1695994200@rpoacal.external.pixelpopmarketing.com
SUMMARY:Team Member Onboarding Session
DESCRIPTION:Welcome to the RPOA Family! This onboarding is specifically for team members. \nHere’s what you can expect:\n– A brief intro to the company and how the program works\n– A virtual walk through of the platform and our online library\n– Best practices for faster results\n– Answer any questions you might have about RPOA \n***INTERACTIVE MEETING-PLEASE COME WITH YOUR VIDEO AND AUDIO ON***
URL:https://rpoacal.external.pixelpopmarketing.com/event/team-member-onboarding-session-duplicate-1-180/
CATEGORIES:Team Member Onboarding
ORGANIZER;CN="RPOA":MAILTO:amanda@insuranceroleplay.com
END:VEVENT
BEGIN:VEVENT
DTSTART;TZID=America/New_York:20231004T130000
DTEND;TZID=America/New_York:20231004T133000
DTSTAMP:20260420T025733
CREATED:20230724T164659Z
LAST-MODIFIED:20230724T164659Z
UID:3273-1696424400-1696426200@rpoacal.external.pixelpopmarketing.com
SUMMARY:Team Member Onboarding Session
DESCRIPTION:Welcome to the RPOA Family! This onboarding is specifically for team members. \nHere’s what you can expect:\n– A brief intro to the company and how the program works\n– A virtual walk through of the platform and our online library\n– Best practices for faster results\n– Answer any questions you might have about RPOA \n***INTERACTIVE MEETING-PLEASE COME WITH YOUR VIDEO AND AUDIO ON***
URL:https://rpoacal.external.pixelpopmarketing.com/event/team-member-onboarding-session-duplicate-1-181/
CATEGORIES:Team Member Onboarding
ORGANIZER;CN="RPOA":MAILTO:amanda@insuranceroleplay.com
END:VEVENT
BEGIN:VEVENT
DTSTART;TZID=America/New_York:20231005T130000
DTEND;TZID=America/New_York:20231005T133000
DTSTAMP:20260420T025733
CREATED:20230724T164731Z
LAST-MODIFIED:20230724T164731Z
UID:3275-1696510800-1696512600@rpoacal.external.pixelpopmarketing.com
SUMMARY:Team Member Onboarding Session
DESCRIPTION:Welcome to the RPOA Family! This onboarding is specifically for team members. \nHere’s what you can expect:\n– A brief intro to the company and how the program works\n– A virtual walk through of the platform and our online library\n– Best practices for faster results\n– Answer any questions you might have about RPOA \n***INTERACTIVE MEETING-PLEASE COME WITH YOUR VIDEO AND AUDIO ON***
URL:https://rpoacal.external.pixelpopmarketing.com/event/team-member-onboarding-session-duplicate-1-182/
CATEGORIES:Team Member Onboarding
ORGANIZER;CN="RPOA":MAILTO:amanda@insuranceroleplay.com
END:VEVENT
BEGIN:VEVENT
DTSTART;TZID=America/New_York:20231006T130000
DTEND;TZID=America/New_York:20231006T133000
DTSTAMP:20260420T025733
CREATED:20230724T164759Z
LAST-MODIFIED:20230724T164759Z
UID:3277-1696597200-1696599000@rpoacal.external.pixelpopmarketing.com
SUMMARY:Team Member Onboarding Session
DESCRIPTION:Welcome to the RPOA Family! This onboarding is specifically for team members. \nHere’s what you can expect:\n– A brief intro to the company and how the program works\n– A virtual walk through of the platform and our online library\n– Best practices for faster results\n– Answer any questions you might have about RPOA \n***INTERACTIVE MEETING-PLEASE COME WITH YOUR VIDEO AND AUDIO ON***
URL:https://rpoacal.external.pixelpopmarketing.com/event/team-member-onboarding-session-duplicate-1-183/
CATEGORIES:Team Member Onboarding
ORGANIZER;CN="RPOA":MAILTO:amanda@insuranceroleplay.com
END:VEVENT
BEGIN:VEVENT
DTSTART;TZID=America/New_York:20231011T130000
DTEND;TZID=America/New_York:20231011T133000
DTSTAMP:20260420T025733
CREATED:20230724T164826Z
LAST-MODIFIED:20230724T164826Z
UID:3279-1697029200-1697031000@rpoacal.external.pixelpopmarketing.com
SUMMARY:Team Member Onboarding Session
DESCRIPTION:Welcome to the RPOA Family! This onboarding is specifically for team members. \nHere’s what you can expect:\n– A brief intro to the company and how the program works\n– A virtual walk through of the platform and our online library\n– Best practices for faster results\n– Answer any questions you might have about RPOA \n***INTERACTIVE MEETING-PLEASE COME WITH YOUR VIDEO AND AUDIO ON***
URL:https://rpoacal.external.pixelpopmarketing.com/event/team-member-onboarding-session-duplicate-1-184/
CATEGORIES:Team Member Onboarding
ORGANIZER;CN="RPOA":MAILTO:amanda@insuranceroleplay.com
END:VEVENT
END:VCALENDAR