BEGIN:VCALENDAR
VERSION:2.0
PRODID:-//RPOA Events Calendar - ECPv6.1.3//NONSGML v1.0//EN
CALSCALE:GREGORIAN
METHOD:PUBLISH
X-WR-CALNAME:RPOA Events Calendar
X-ORIGINAL-URL:https://rpoacal.external.pixelpopmarketing.com
X-WR-CALDESC:Events for RPOA Events Calendar
REFRESH-INTERVAL;VALUE=DURATION:PT1H
X-Robots-Tag:noindex
X-PUBLISHED-TTL:PT1H
BEGIN:VTIMEZONE
TZID:America/New_York
BEGIN:DAYLIGHT
TZOFFSETFROM:-0500
TZOFFSETTO:-0400
TZNAME:EDT
DTSTART:20230312T070000
END:DAYLIGHT
BEGIN:STANDARD
TZOFFSETFROM:-0400
TZOFFSETTO:-0500
TZNAME:EST
DTSTART:20231105T060000
END:STANDARD
END:VTIMEZONE
BEGIN:VEVENT
DTSTART;TZID=America/New_York:20230802T130000
DTEND;TZID=America/New_York:20230802T133000
DTSTAMP:20260421T054023
CREATED:20230526T161305Z
LAST-MODIFIED:20230526T161305Z
UID:3056-1690981200-1690983000@rpoacal.external.pixelpopmarketing.com
SUMMARY:Team Member Onboarding Session
DESCRIPTION:Welcome to the RPOA Family! This onboarding is specifically for team members. \nHere’s what you can expect:\n– A brief intro to the company and how the program works\n– A virtual walk through of the platform and our online library\n– Best practices for faster results\n– Answer any questions you might have about RPOA \n***INTERACTIVE MEETING-PLEASE COME WITH YOUR VIDEO AND AUDIO ON***
URL:https://rpoacal.external.pixelpopmarketing.com/event/team-member-onboarding-session-duplicate-1-130/
CATEGORIES:Team Member Onboarding
ORGANIZER;CN="RPOA":MAILTO:amanda@insuranceroleplay.com
END:VEVENT
BEGIN:VEVENT
DTSTART;TZID=America/New_York:20230803T130000
DTEND;TZID=America/New_York:20230803T133000
DTSTAMP:20260421T054023
CREATED:20230526T161331Z
LAST-MODIFIED:20230526T161331Z
UID:3058-1691067600-1691069400@rpoacal.external.pixelpopmarketing.com
SUMMARY:Team Member Onboarding Session
DESCRIPTION:Welcome to the RPOA Family! This onboarding is specifically for team members. \nHere’s what you can expect:\n– A brief intro to the company and how the program works\n– A virtual walk through of the platform and our online library\n– Best practices for faster results\n– Answer any questions you might have about RPOA \n***INTERACTIVE MEETING-PLEASE COME WITH YOUR VIDEO AND AUDIO ON***
URL:https://rpoacal.external.pixelpopmarketing.com/event/team-member-onboarding-session-duplicate-1-131/
CATEGORIES:Team Member Onboarding
ORGANIZER;CN="RPOA":MAILTO:amanda@insuranceroleplay.com
END:VEVENT
BEGIN:VEVENT
DTSTART;TZID=America/New_York:20230804T130000
DTEND;TZID=America/New_York:20230804T133000
DTSTAMP:20260421T054023
CREATED:20230526T161356Z
LAST-MODIFIED:20230526T161356Z
UID:3060-1691154000-1691155800@rpoacal.external.pixelpopmarketing.com
SUMMARY:Team Member Onboarding Session
DESCRIPTION:Welcome to the RPOA Family! This onboarding is specifically for team members. \nHere’s what you can expect:\n– A brief intro to the company and how the program works\n– A virtual walk through of the platform and our online library\n– Best practices for faster results\n– Answer any questions you might have about RPOA \n***INTERACTIVE MEETING-PLEASE COME WITH YOUR VIDEO AND AUDIO ON***
URL:https://rpoacal.external.pixelpopmarketing.com/event/team-member-onboarding-session-duplicate-1-157/
CATEGORIES:Team Member Onboarding
ORGANIZER;CN="RPOA":MAILTO:amanda@insuranceroleplay.com
END:VEVENT
BEGIN:VEVENT
DTSTART;TZID=America/New_York:20230809T130000
DTEND;TZID=America/New_York:20230809T133000
DTSTAMP:20260421T054023
CREATED:20230526T161424Z
LAST-MODIFIED:20230526T161424Z
UID:3062-1691586000-1691587800@rpoacal.external.pixelpopmarketing.com
SUMMARY:Team Member Onboarding Session
DESCRIPTION:Welcome to the RPOA Family! This onboarding is specifically for team members. \nHere’s what you can expect:\n– A brief intro to the company and how the program works\n– A virtual walk through of the platform and our online library\n– Best practices for faster results\n– Answer any questions you might have about RPOA \n***INTERACTIVE MEETING-PLEASE COME WITH YOUR VIDEO AND AUDIO ON***
URL:https://rpoacal.external.pixelpopmarketing.com/event/team-member-onboarding-session-duplicate-1-158/
CATEGORIES:Team Member Onboarding
ORGANIZER;CN="RPOA":MAILTO:amanda@insuranceroleplay.com
END:VEVENT
BEGIN:VEVENT
DTSTART;TZID=America/New_York:20230810T130000
DTEND;TZID=America/New_York:20230810T133000
DTSTAMP:20260421T054023
CREATED:20230526T161452Z
LAST-MODIFIED:20230526T161452Z
UID:3064-1691672400-1691674200@rpoacal.external.pixelpopmarketing.com
SUMMARY:Team Member Onboarding Session
DESCRIPTION:Welcome to the RPOA Family! This onboarding is specifically for team members. \nHere’s what you can expect:\n– A brief intro to the company and how the program works\n– A virtual walk through of the platform and our online library\n– Best practices for faster results\n– Answer any questions you might have about RPOA \n***INTERACTIVE MEETING-PLEASE COME WITH YOUR VIDEO AND AUDIO ON***
URL:https://rpoacal.external.pixelpopmarketing.com/event/team-member-onboarding-session-duplicate-1-159/
CATEGORIES:Team Member Onboarding
ORGANIZER;CN="RPOA":MAILTO:amanda@insuranceroleplay.com
END:VEVENT
BEGIN:VEVENT
DTSTART;TZID=America/New_York:20230811T130000
DTEND;TZID=America/New_York:20230811T133000
DTSTAMP:20260421T054023
CREATED:20230526T161513Z
LAST-MODIFIED:20230526T161513Z
UID:3066-1691758800-1691760600@rpoacal.external.pixelpopmarketing.com
SUMMARY:Team Member Onboarding Session
DESCRIPTION:Welcome to the RPOA Family! This onboarding is specifically for team members. \nHere’s what you can expect:\n– A brief intro to the company and how the program works\n– A virtual walk through of the platform and our online library\n– Best practices for faster results\n– Answer any questions you might have about RPOA \n***INTERACTIVE MEETING-PLEASE COME WITH YOUR VIDEO AND AUDIO ON***
URL:https://rpoacal.external.pixelpopmarketing.com/event/team-member-onboarding-session-duplicate-1-160/
CATEGORIES:Team Member Onboarding
ORGANIZER;CN="RPOA":MAILTO:amanda@insuranceroleplay.com
END:VEVENT
BEGIN:VEVENT
DTSTART;TZID=America/New_York:20230816T130000
DTEND;TZID=America/New_York:20230816T133000
DTSTAMP:20260421T054023
CREATED:20230526T161536Z
LAST-MODIFIED:20230526T161536Z
UID:3068-1692190800-1692192600@rpoacal.external.pixelpopmarketing.com
SUMMARY:Team Member Onboarding Session
DESCRIPTION:Welcome to the RPOA Family! This onboarding is specifically for team members. \nHere’s what you can expect:\n– A brief intro to the company and how the program works\n– A virtual walk through of the platform and our online library\n– Best practices for faster results\n– Answer any questions you might have about RPOA \n***INTERACTIVE MEETING-PLEASE COME WITH YOUR VIDEO AND AUDIO ON***
URL:https://rpoacal.external.pixelpopmarketing.com/event/team-member-onboarding-session-duplicate-1-161/
CATEGORIES:Team Member Onboarding
ORGANIZER;CN="RPOA":MAILTO:amanda@insuranceroleplay.com
END:VEVENT
BEGIN:VEVENT
DTSTART;TZID=America/New_York:20230817T130000
DTEND;TZID=America/New_York:20230817T133000
DTSTAMP:20260421T054023
CREATED:20230526T161557Z
LAST-MODIFIED:20230526T161557Z
UID:3070-1692277200-1692279000@rpoacal.external.pixelpopmarketing.com
SUMMARY:Team Member Onboarding Session
DESCRIPTION:Welcome to the RPOA Family! This onboarding is specifically for team members. \nHere’s what you can expect:\n– A brief intro to the company and how the program works\n– A virtual walk through of the platform and our online library\n– Best practices for faster results\n– Answer any questions you might have about RPOA \n***INTERACTIVE MEETING-PLEASE COME WITH YOUR VIDEO AND AUDIO ON***
URL:https://rpoacal.external.pixelpopmarketing.com/event/team-member-onboarding-session-duplicate-1-162/
CATEGORIES:Team Member Onboarding
ORGANIZER;CN="RPOA":MAILTO:amanda@insuranceroleplay.com
END:VEVENT
BEGIN:VEVENT
DTSTART;TZID=America/New_York:20230818T130000
DTEND;TZID=America/New_York:20230818T133000
DTSTAMP:20260421T054023
CREATED:20230526T161620Z
LAST-MODIFIED:20230526T161620Z
UID:3072-1692363600-1692365400@rpoacal.external.pixelpopmarketing.com
SUMMARY:Team Member Onboarding Session
DESCRIPTION:Welcome to the RPOA Family! This onboarding is specifically for team members. \nHere’s what you can expect:\n– A brief intro to the company and how the program works\n– A virtual walk through of the platform and our online library\n– Best practices for faster results\n– Answer any questions you might have about RPOA \n***INTERACTIVE MEETING-PLEASE COME WITH YOUR VIDEO AND AUDIO ON***
URL:https://rpoacal.external.pixelpopmarketing.com/event/team-member-onboarding-session-duplicate-1-163/
CATEGORIES:Team Member Onboarding
ORGANIZER;CN="RPOA":MAILTO:amanda@insuranceroleplay.com
END:VEVENT
BEGIN:VEVENT
DTSTART;TZID=America/New_York:20230823T130000
DTEND;TZID=America/New_York:20230823T133000
DTSTAMP:20260421T054023
CREATED:20230526T161648Z
LAST-MODIFIED:20230526T161648Z
UID:3074-1692795600-1692797400@rpoacal.external.pixelpopmarketing.com
SUMMARY:Team Member Onboarding Session
DESCRIPTION:Welcome to the RPOA Family! This onboarding is specifically for team members. \nHere’s what you can expect:\n– A brief intro to the company and how the program works\n– A virtual walk through of the platform and our online library\n– Best practices for faster results\n– Answer any questions you might have about RPOA \n***INTERACTIVE MEETING-PLEASE COME WITH YOUR VIDEO AND AUDIO ON***
URL:https://rpoacal.external.pixelpopmarketing.com/event/team-member-onboarding-session-duplicate-1-164/
CATEGORIES:Team Member Onboarding
ORGANIZER;CN="RPOA":MAILTO:amanda@insuranceroleplay.com
END:VEVENT
BEGIN:VEVENT
DTSTART;TZID=America/New_York:20230824T130000
DTEND;TZID=America/New_York:20230824T133000
DTSTAMP:20260421T054023
CREATED:20230526T161711Z
LAST-MODIFIED:20230526T161711Z
UID:3076-1692882000-1692883800@rpoacal.external.pixelpopmarketing.com
SUMMARY:Team Member Onboarding Session
DESCRIPTION:Welcome to the RPOA Family! This onboarding is specifically for team members. \nHere’s what you can expect:\n– A brief intro to the company and how the program works\n– A virtual walk through of the platform and our online library\n– Best practices for faster results\n– Answer any questions you might have about RPOA \n***INTERACTIVE MEETING-PLEASE COME WITH YOUR VIDEO AND AUDIO ON***
URL:https://rpoacal.external.pixelpopmarketing.com/event/team-member-onboarding-session-duplicate-1-165/
CATEGORIES:Team Member Onboarding
ORGANIZER;CN="RPOA":MAILTO:amanda@insuranceroleplay.com
END:VEVENT
BEGIN:VEVENT
DTSTART;TZID=America/New_York:20230825T130000
DTEND;TZID=America/New_York:20230825T133000
DTSTAMP:20260421T054023
CREATED:20230526T161732Z
LAST-MODIFIED:20230526T161732Z
UID:3078-1692968400-1692970200@rpoacal.external.pixelpopmarketing.com
SUMMARY:Team Member Onboarding Session
DESCRIPTION:Welcome to the RPOA Family! This onboarding is specifically for team members. \nHere’s what you can expect:\n– A brief intro to the company and how the program works\n– A virtual walk through of the platform and our online library\n– Best practices for faster results\n– Answer any questions you might have about RPOA \n***INTERACTIVE MEETING-PLEASE COME WITH YOUR VIDEO AND AUDIO ON***
URL:https://rpoacal.external.pixelpopmarketing.com/event/team-member-onboarding-session-duplicate-1-166/
CATEGORIES:Team Member Onboarding
ORGANIZER;CN="RPOA":MAILTO:amanda@insuranceroleplay.com
END:VEVENT
BEGIN:VEVENT
DTSTART;TZID=America/New_York:20230830T130000
DTEND;TZID=America/New_York:20230830T133000
DTSTAMP:20260421T054023
CREATED:20230526T161754Z
LAST-MODIFIED:20230526T161754Z
UID:3080-1693400400-1693402200@rpoacal.external.pixelpopmarketing.com
SUMMARY:Team Member Onboarding Session
DESCRIPTION:Welcome to the RPOA Family! This onboarding is specifically for team members. \nHere’s what you can expect:\n– A brief intro to the company and how the program works\n– A virtual walk through of the platform and our online library\n– Best practices for faster results\n– Answer any questions you might have about RPOA \n***INTERACTIVE MEETING-PLEASE COME WITH YOUR VIDEO AND AUDIO ON***
URL:https://rpoacal.external.pixelpopmarketing.com/event/team-member-onboarding-session-duplicate-1-167/
CATEGORIES:Team Member Onboarding
ORGANIZER;CN="RPOA":MAILTO:amanda@insuranceroleplay.com
END:VEVENT
BEGIN:VEVENT
DTSTART;TZID=America/New_York:20230831T130000
DTEND;TZID=America/New_York:20230831T133000
DTSTAMP:20260421T054023
CREATED:20230526T161819Z
LAST-MODIFIED:20230526T161819Z
UID:3082-1693486800-1693488600@rpoacal.external.pixelpopmarketing.com
SUMMARY:Team Member Onboarding Session
DESCRIPTION:Welcome to the RPOA Family! This onboarding is specifically for team members. \nHere’s what you can expect:\n– A brief intro to the company and how the program works\n– A virtual walk through of the platform and our online library\n– Best practices for faster results\n– Answer any questions you might have about RPOA \n***INTERACTIVE MEETING-PLEASE COME WITH YOUR VIDEO AND AUDIO ON***
URL:https://rpoacal.external.pixelpopmarketing.com/event/team-member-onboarding-session-duplicate-1-168/
CATEGORIES:Team Member Onboarding
ORGANIZER;CN="RPOA":MAILTO:amanda@insuranceroleplay.com
END:VEVENT
END:VCALENDAR