BEGIN:VCALENDAR
VERSION:2.0
PRODID:-//RPOA Events Calendar - ECPv6.1.3//NONSGML v1.0//EN
CALSCALE:GREGORIAN
METHOD:PUBLISH
X-ORIGINAL-URL:https://rpoacal.external.pixelpopmarketing.com
X-WR-CALDESC:Events for RPOA Events Calendar
REFRESH-INTERVAL;VALUE=DURATION:PT1H
X-Robots-Tag:noindex
X-PUBLISHED-TTL:PT1H
BEGIN:VTIMEZONE
TZID:America/New_York
BEGIN:DAYLIGHT
TZOFFSETFROM:-0500
TZOFFSETTO:-0400
TZNAME:EDT
DTSTART:20230312T070000
END:DAYLIGHT
BEGIN:STANDARD
TZOFFSETFROM:-0400
TZOFFSETTO:-0500
TZNAME:EST
DTSTART:20231105T060000
END:STANDARD
END:VTIMEZONE
BEGIN:VEVENT
DTSTART;TZID=America/New_York:20230503T130000
DTEND;TZID=America/New_York:20230503T133000
DTSTAMP:20260419T205357
CREATED:20230227T170610Z
LAST-MODIFIED:20230403T183659Z
UID:2736-1683118800-1683120600@rpoacal.external.pixelpopmarketing.com
SUMMARY:Team Member Onboarding Session
DESCRIPTION:Welcome to the RPOA Family! This onboarding is specifically for team members. \nHere’s what you can expect:\n– A brief intro to the company and how the program works\n– A virtual walk through of the platform and our online library\n– Best practices for faster results\n– Answer any questions you might have about RPOA \n***INTERACTIVE MEETING-PLEASE COME WITH YOUR VIDEO AND AUDIO ON***
URL:https://rpoacal.external.pixelpopmarketing.com/event/team-member-onboarding-session-duplicate-1-118/
CATEGORIES:Team Member Onboarding
ORGANIZER;CN="RPOA":MAILTO:amanda@insuranceroleplay.com
END:VEVENT
BEGIN:VEVENT
DTSTART;TZID=America/New_York:20230504T130000
DTEND;TZID=America/New_York:20230504T133000
DTSTAMP:20260419T205357
CREATED:20230227T170651Z
LAST-MODIFIED:20230403T183659Z
UID:2738-1683205200-1683207000@rpoacal.external.pixelpopmarketing.com
SUMMARY:Team Member Onboarding Session
DESCRIPTION:Welcome to the RPOA Family! This onboarding is specifically for team members. \nHere’s what you can expect:\n– A brief intro to the company and how the program works\n– A virtual walk through of the platform and our online library\n– Best practices for faster results\n– Answer any questions you might have about RPOA \n***INTERACTIVE MEETING-PLEASE COME WITH YOUR VIDEO AND AUDIO ON***
URL:https://rpoacal.external.pixelpopmarketing.com/event/team-member-onboarding-session-duplicate-1-119/
CATEGORIES:Team Member Onboarding
ORGANIZER;CN="RPOA":MAILTO:amanda@insuranceroleplay.com
END:VEVENT
BEGIN:VEVENT
DTSTART;TZID=America/New_York:20230505T130000
DTEND;TZID=America/New_York:20230505T133000
DTSTAMP:20260419T205357
CREATED:20230227T170729Z
LAST-MODIFIED:20230403T183659Z
UID:2740-1683291600-1683293400@rpoacal.external.pixelpopmarketing.com
SUMMARY:Team Member Onboarding Session
DESCRIPTION:Welcome to the RPOA Family! This onboarding is specifically for team members. \nHere’s what you can expect:\n– A brief intro to the company and how the program works\n– A virtual walk through of the platform and our online library\n– Best practices for faster results\n– Answer any questions you might have about RPOA \n***INTERACTIVE MEETING-PLEASE COME WITH YOUR VIDEO AND AUDIO ON***
URL:https://rpoacal.external.pixelpopmarketing.com/event/team-member-onboarding-session-duplicate-1-120/
CATEGORIES:Team Member Onboarding
ORGANIZER;CN="RPOA":MAILTO:amanda@insuranceroleplay.com
END:VEVENT
BEGIN:VEVENT
DTSTART;TZID=America/New_York:20230510T130000
DTEND;TZID=America/New_York:20230510T133000
DTSTAMP:20260419T205357
CREATED:20230227T170800Z
LAST-MODIFIED:20230403T183659Z
UID:2742-1683723600-1683725400@rpoacal.external.pixelpopmarketing.com
SUMMARY:Team Member Onboarding Session
DESCRIPTION:Welcome to the RPOA Family! This onboarding is specifically for team members. \nHere’s what you can expect:\n– A brief intro to the company and how the program works\n– A virtual walk through of the platform and our online library\n– Best practices for faster results\n– Answer any questions you might have about RPOA \n***INTERACTIVE MEETING-PLEASE COME WITH YOUR VIDEO AND AUDIO ON***
URL:https://rpoacal.external.pixelpopmarketing.com/event/team-member-onboarding-session-duplicate-1-121/
CATEGORIES:Team Member Onboarding
ORGANIZER;CN="RPOA":MAILTO:amanda@insuranceroleplay.com
END:VEVENT
BEGIN:VEVENT
DTSTART;TZID=America/New_York:20230511T130000
DTEND;TZID=America/New_York:20230511T133000
DTSTAMP:20260419T205357
CREATED:20230227T170823Z
LAST-MODIFIED:20230403T183659Z
UID:2744-1683810000-1683811800@rpoacal.external.pixelpopmarketing.com
SUMMARY:Team Member Onboarding Session
DESCRIPTION:Welcome to the RPOA Family! This onboarding is specifically for team members. \nHere’s what you can expect:\n– A brief intro to the company and how the program works\n– A virtual walk through of the platform and our online library\n– Best practices for faster results\n– Answer any questions you might have about RPOA \n***INTERACTIVE MEETING-PLEASE COME WITH YOUR VIDEO AND AUDIO ON***
URL:https://rpoacal.external.pixelpopmarketing.com/event/team-member-onboarding-session-duplicate-1-122/
CATEGORIES:Team Member Onboarding
ORGANIZER;CN="RPOA":MAILTO:amanda@insuranceroleplay.com
END:VEVENT
BEGIN:VEVENT
DTSTART;TZID=America/New_York:20230512T130000
DTEND;TZID=America/New_York:20230512T133000
DTSTAMP:20260419T205357
CREATED:20230227T170845Z
LAST-MODIFIED:20230403T183659Z
UID:2746-1683896400-1683898200@rpoacal.external.pixelpopmarketing.com
SUMMARY:Team Member Onboarding Session
DESCRIPTION:Welcome to the RPOA Family! This onboarding is specifically for team members. \nHere’s what you can expect:\n– A brief intro to the company and how the program works\n– A virtual walk through of the platform and our online library\n– Best practices for faster results\n– Answer any questions you might have about RPOA \n***INTERACTIVE MEETING-PLEASE COME WITH YOUR VIDEO AND AUDIO ON***
URL:https://rpoacal.external.pixelpopmarketing.com/event/team-member-onboarding-session-duplicate-1-123/
CATEGORIES:Team Member Onboarding
ORGANIZER;CN="RPOA":MAILTO:amanda@insuranceroleplay.com
END:VEVENT
BEGIN:VEVENT
DTSTART;TZID=America/New_York:20230517T130000
DTEND;TZID=America/New_York:20230517T133000
DTSTAMP:20260419T205357
CREATED:20230227T171002Z
LAST-MODIFIED:20230403T183659Z
UID:2748-1684328400-1684330200@rpoacal.external.pixelpopmarketing.com
SUMMARY:Team Member Onboarding Session
DESCRIPTION:Welcome to the RPOA Family! This onboarding is specifically for team members. \nHere’s what you can expect:\n– A brief intro to the company and how the program works\n– A virtual walk through of the platform and our online library\n– Best practices for faster results\n– Answer any questions you might have about RPOA \n***INTERACTIVE MEETING-PLEASE COME WITH YOUR VIDEO AND AUDIO ON***
URL:https://rpoacal.external.pixelpopmarketing.com/event/team-member-onboarding-session-duplicate-1-124/
CATEGORIES:Team Member Onboarding
ORGANIZER;CN="RPOA":MAILTO:amanda@insuranceroleplay.com
END:VEVENT
BEGIN:VEVENT
DTSTART;TZID=America/New_York:20230518T130000
DTEND;TZID=America/New_York:20230518T133000
DTSTAMP:20260419T205357
CREATED:20230227T171030Z
LAST-MODIFIED:20230403T183659Z
UID:2750-1684414800-1684416600@rpoacal.external.pixelpopmarketing.com
SUMMARY:Team Member Onboarding Session
DESCRIPTION:Welcome to the RPOA Family! This onboarding is specifically for team members. \nHere’s what you can expect:\n– A brief intro to the company and how the program works\n– A virtual walk through of the platform and our online library\n– Best practices for faster results\n– Answer any questions you might have about RPOA \n***INTERACTIVE MEETING-PLEASE COME WITH YOUR VIDEO AND AUDIO ON***
URL:https://rpoacal.external.pixelpopmarketing.com/event/team-member-onboarding-session-duplicate-1-125/
CATEGORIES:Team Member Onboarding
ORGANIZER;CN="RPOA":MAILTO:amanda@insuranceroleplay.com
END:VEVENT
BEGIN:VEVENT
DTSTART;TZID=America/New_York:20230519T130000
DTEND;TZID=America/New_York:20230519T133000
DTSTAMP:20260419T205357
CREATED:20230227T171053Z
LAST-MODIFIED:20230403T183659Z
UID:2752-1684501200-1684503000@rpoacal.external.pixelpopmarketing.com
SUMMARY:Team Member Onboarding Session
DESCRIPTION:Welcome to the RPOA Family! This onboarding is specifically for team members. \nHere’s what you can expect:\n– A brief intro to the company and how the program works\n– A virtual walk through of the platform and our online library\n– Best practices for faster results\n– Answer any questions you might have about RPOA \n***INTERACTIVE MEETING-PLEASE COME WITH YOUR VIDEO AND AUDIO ON***
URL:https://rpoacal.external.pixelpopmarketing.com/event/team-member-onboarding-session-duplicate-1-126/
CATEGORIES:Team Member Onboarding
ORGANIZER;CN="RPOA":MAILTO:amanda@insuranceroleplay.com
END:VEVENT
BEGIN:VEVENT
DTSTART;TZID=America/New_York:20230524T130000
DTEND;TZID=America/New_York:20230524T133000
DTSTAMP:20260419T205357
CREATED:20230227T171115Z
LAST-MODIFIED:20230403T183659Z
UID:2754-1684933200-1684935000@rpoacal.external.pixelpopmarketing.com
SUMMARY:Team Member Onboarding Session
DESCRIPTION:Welcome to the RPOA Family! This onboarding is specifically for team members. \nHere’s what you can expect:\n– A brief intro to the company and how the program works\n– A virtual walk through of the platform and our online library\n– Best practices for faster results\n– Answer any questions you might have about RPOA \n***INTERACTIVE MEETING-PLEASE COME WITH YOUR VIDEO AND AUDIO ON***
URL:https://rpoacal.external.pixelpopmarketing.com/event/team-member-onboarding-session-duplicate-1-127/
CATEGORIES:Team Member Onboarding
ORGANIZER;CN="RPOA":MAILTO:amanda@insuranceroleplay.com
END:VEVENT
BEGIN:VEVENT
DTSTART;TZID=America/New_York:20230525T130000
DTEND;TZID=America/New_York:20230525T133000
DTSTAMP:20260419T205357
CREATED:20230227T171137Z
LAST-MODIFIED:20230403T183659Z
UID:2756-1685019600-1685021400@rpoacal.external.pixelpopmarketing.com
SUMMARY:Team Member Onboarding Session
DESCRIPTION:Welcome to the RPOA Family! This onboarding is specifically for team members. \nHere’s what you can expect:\n– A brief intro to the company and how the program works\n– A virtual walk through of the platform and our online library\n– Best practices for faster results\n– Answer any questions you might have about RPOA \n***INTERACTIVE MEETING-PLEASE COME WITH YOUR VIDEO AND AUDIO ON***
URL:https://rpoacal.external.pixelpopmarketing.com/event/team-member-onboarding-session-duplicate-1-128/
CATEGORIES:Team Member Onboarding
ORGANIZER;CN="RPOA":MAILTO:amanda@insuranceroleplay.com
END:VEVENT
BEGIN:VEVENT
DTSTART;TZID=America/New_York:20230526T130000
DTEND;TZID=America/New_York:20230526T133000
DTSTAMP:20260419T205357
CREATED:20230227T171200Z
LAST-MODIFIED:20230403T183659Z
UID:2758-1685106000-1685107800@rpoacal.external.pixelpopmarketing.com
SUMMARY:Team Member Onboarding Session
DESCRIPTION:Welcome to the RPOA Family! This onboarding is specifically for team members. \nHere’s what you can expect:\n– A brief intro to the company and how the program works\n– A virtual walk through of the platform and our online library\n– Best practices for faster results\n– Answer any questions you might have about RPOA \n***INTERACTIVE MEETING-PLEASE COME WITH YOUR VIDEO AND AUDIO ON***
URL:https://rpoacal.external.pixelpopmarketing.com/event/team-member-onboarding-session-duplicate-1-129/
CATEGORIES:Team Member Onboarding
ORGANIZER;CN="RPOA":MAILTO:amanda@insuranceroleplay.com
END:VEVENT
END:VCALENDAR