BEGIN:VCALENDAR
VERSION:2.0
PRODID:-//RPOA Events Calendar - ECPv6.1.3//NONSGML v1.0//EN
CALSCALE:GREGORIAN
METHOD:PUBLISH
X-WR-CALNAME:RPOA Events Calendar
X-ORIGINAL-URL:https://rpoacal.external.pixelpopmarketing.com
X-WR-CALDESC:Events for RPOA Events Calendar
REFRESH-INTERVAL;VALUE=DURATION:PT1H
X-Robots-Tag:noindex
X-PUBLISHED-TTL:PT1H
BEGIN:VTIMEZONE
TZID:America/New_York
BEGIN:DAYLIGHT
TZOFFSETFROM:-0500
TZOFFSETTO:-0400
TZNAME:EDT
DTSTART:20230312T070000
END:DAYLIGHT
BEGIN:STANDARD
TZOFFSETFROM:-0400
TZOFFSETTO:-0500
TZNAME:EST
DTSTART:20231105T060000
END:STANDARD
END:VTIMEZONE
BEGIN:VEVENT
DTSTART;TZID=America/New_York:20230405T130000
DTEND;TZID=America/New_York:20230405T133000
DTSTAMP:20260419T221750
CREATED:20230130T193042Z
LAST-MODIFIED:20230403T192633Z
UID:2616-1680699600-1680701400@rpoacal.external.pixelpopmarketing.com
SUMMARY:Team Member Onboarding Session
DESCRIPTION:Welcome to the RPOA Family! This onboarding is specifically for team members. \nHere’s what you can expect:\n– A brief intro to the company and how the program works\n– A virtual walk through of the platform and our online library\n– Best practices for faster results\n– Answer any questions you might have about RPOA \n***INTERACTIVE MEETING-PLEASE COME WITH YOUR VIDEO AND AUDIO ON***
URL:https://rpoacal.external.pixelpopmarketing.com/event/team-member-onboarding-session-duplicate-1-85/
CATEGORIES:Team Member Onboarding
ORGANIZER;CN="RPOA":MAILTO:amanda@insuranceroleplay.com
END:VEVENT
BEGIN:VEVENT
DTSTART;TZID=America/New_York:20230406T130000
DTEND;TZID=America/New_York:20230406T133000
DTSTAMP:20260419T221750
CREATED:20230130T193107Z
LAST-MODIFIED:20230403T192623Z
UID:2618-1680786000-1680787800@rpoacal.external.pixelpopmarketing.com
SUMMARY:Team Member Onboarding Session
DESCRIPTION:Welcome to the RPOA Family! This onboarding is specifically for team members. \nHere’s what you can expect:\n– A brief intro to the company and how the program works\n– A virtual walk through of the platform and our online library\n– Best practices for faster results\n– Answer any questions you might have about RPOA \n***INTERACTIVE MEETING-PLEASE COME WITH YOUR VIDEO AND AUDIO ON***
URL:https://rpoacal.external.pixelpopmarketing.com/event/team-member-onboarding-session-duplicate-1-86/
CATEGORIES:Team Member Onboarding
ORGANIZER;CN="RPOA":MAILTO:amanda@insuranceroleplay.com
END:VEVENT
BEGIN:VEVENT
DTSTART;TZID=America/New_York:20230407T130000
DTEND;TZID=America/New_York:20230407T133000
DTSTAMP:20260419T221750
CREATED:20230130T193130Z
LAST-MODIFIED:20230403T192530Z
UID:2620-1680872400-1680874200@rpoacal.external.pixelpopmarketing.com
SUMMARY:Team Member Onboarding Session
DESCRIPTION:Welcome to the RPOA Family! This onboarding is specifically for team members. \nHere’s what you can expect:\n– A brief intro to the company and how the program works\n– A virtual walk through of the platform and our online library\n– Best practices for faster results\n– Answer any questions you might have about RPOA \n***INTERACTIVE MEETING-PLEASE COME WITH YOUR VIDEO AND AUDIO ON***
URL:https://rpoacal.external.pixelpopmarketing.com/event/team-member-onboarding-session-duplicate-1-108/
CATEGORIES:Team Member Onboarding
ORGANIZER;CN="RPOA":MAILTO:amanda@insuranceroleplay.com
END:VEVENT
BEGIN:VEVENT
DTSTART;TZID=America/New_York:20230412T130000
DTEND;TZID=America/New_York:20230412T133000
DTSTAMP:20260419T221750
CREATED:20230130T193152Z
LAST-MODIFIED:20230403T224557Z
UID:2622-1681304400-1681306200@rpoacal.external.pixelpopmarketing.com
SUMMARY:Team Member Onboarding Session
DESCRIPTION:Welcome to the RPOA Family! This onboarding is specifically for team members. \nHere’s what you can expect:\n– A brief intro to the company and how the program works\n– A virtual walk through of the platform and our online library\n– Best practices for faster results\n– Answer any questions you might have about RPOA \n***INTERACTIVE MEETING-PLEASE COME WITH YOUR VIDEO AND AUDIO ON***
URL:https://rpoacal.external.pixelpopmarketing.com/event/team-member-onboarding-session-duplicate-1-109/
CATEGORIES:Team Member Onboarding
ORGANIZER;CN="RPOA":MAILTO:amanda@insuranceroleplay.com
END:VEVENT
BEGIN:VEVENT
DTSTART;TZID=America/New_York:20230413T130000
DTEND;TZID=America/New_York:20230413T133000
DTSTAMP:20260419T221750
CREATED:20230130T193227Z
LAST-MODIFIED:20230403T224557Z
UID:2625-1681390800-1681392600@rpoacal.external.pixelpopmarketing.com
SUMMARY:Team Member Onboarding Session
DESCRIPTION:Welcome to the RPOA Family! This onboarding is specifically for team members. \nHere’s what you can expect:\n– A brief intro to the company and how the program works\n– A virtual walk through of the platform and our online library\n– Best practices for faster results\n– Answer any questions you might have about RPOA \n***INTERACTIVE MEETING-PLEASE COME WITH YOUR VIDEO AND AUDIO ON***
URL:https://rpoacal.external.pixelpopmarketing.com/event/team-member-onboarding-session-duplicate-1-110/
CATEGORIES:Team Member Onboarding
ORGANIZER;CN="RPOA":MAILTO:amanda@insuranceroleplay.com
END:VEVENT
BEGIN:VEVENT
DTSTART;TZID=America/New_York:20230414T130000
DTEND;TZID=America/New_York:20230414T133000
DTSTAMP:20260419T221750
CREATED:20230130T193247Z
LAST-MODIFIED:20230403T224557Z
UID:2627-1681477200-1681479000@rpoacal.external.pixelpopmarketing.com
SUMMARY:Team Member Onboarding Session
DESCRIPTION:Welcome to the RPOA Family! This onboarding is specifically for team members. \nHere’s what you can expect:\n– A brief intro to the company and how the program works\n– A virtual walk through of the platform and our online library\n– Best practices for faster results\n– Answer any questions you might have about RPOA \n***INTERACTIVE MEETING-PLEASE COME WITH YOUR VIDEO AND AUDIO ON***
URL:https://rpoacal.external.pixelpopmarketing.com/event/team-member-onboarding-session-duplicate-1-111/
CATEGORIES:Team Member Onboarding
ORGANIZER;CN="RPOA":MAILTO:amanda@insuranceroleplay.com
END:VEVENT
BEGIN:VEVENT
DTSTART;TZID=America/New_York:20230419T130000
DTEND;TZID=America/New_York:20230419T133000
DTSTAMP:20260419T221750
CREATED:20230130T193311Z
LAST-MODIFIED:20230403T224556Z
UID:2629-1681909200-1681911000@rpoacal.external.pixelpopmarketing.com
SUMMARY:Team Member Onboarding Session
DESCRIPTION:Welcome to the RPOA Family! This onboarding is specifically for team members. \nHere’s what you can expect:\n– A brief intro to the company and how the program works\n– A virtual walk through of the platform and our online library\n– Best practices for faster results\n– Answer any questions you might have about RPOA \n***INTERACTIVE MEETING-PLEASE COME WITH YOUR VIDEO AND AUDIO ON***
URL:https://rpoacal.external.pixelpopmarketing.com/event/team-member-onboarding-session-duplicate-1-112/
CATEGORIES:Team Member Onboarding
ORGANIZER;CN="RPOA":MAILTO:amanda@insuranceroleplay.com
END:VEVENT
BEGIN:VEVENT
DTSTART;TZID=America/New_York:20230420T130000
DTEND;TZID=America/New_York:20230420T133000
DTSTAMP:20260419T221750
CREATED:20230130T193333Z
LAST-MODIFIED:20230403T224556Z
UID:2631-1681995600-1681997400@rpoacal.external.pixelpopmarketing.com
SUMMARY:Team Member Onboarding Session
DESCRIPTION:Welcome to the RPOA Family! This onboarding is specifically for team members. \nHere’s what you can expect:\n– A brief intro to the company and how the program works\n– A virtual walk through of the platform and our online library\n– Best practices for faster results\n– Answer any questions you might have about RPOA \n***INTERACTIVE MEETING-PLEASE COME WITH YOUR VIDEO AND AUDIO ON***
URL:https://rpoacal.external.pixelpopmarketing.com/event/team-member-onboarding-session-duplicate-1-113/
CATEGORIES:Team Member Onboarding
ORGANIZER;CN="RPOA":MAILTO:amanda@insuranceroleplay.com
END:VEVENT
BEGIN:VEVENT
DTSTART;TZID=America/New_York:20230421T130000
DTEND;TZID=America/New_York:20230421T133000
DTSTAMP:20260419T221750
CREATED:20230130T193355Z
LAST-MODIFIED:20230403T224556Z
UID:2633-1682082000-1682083800@rpoacal.external.pixelpopmarketing.com
SUMMARY:Team Member Onboarding Session
DESCRIPTION:Welcome to the RPOA Family! This onboarding is specifically for team members. \nHere’s what you can expect:\n– A brief intro to the company and how the program works\n– A virtual walk through of the platform and our online library\n– Best practices for faster results\n– Answer any questions you might have about RPOA \n***INTERACTIVE MEETING-PLEASE COME WITH YOUR VIDEO AND AUDIO ON***
URL:https://rpoacal.external.pixelpopmarketing.com/event/team-member-onboarding-session-duplicate-1-114/
CATEGORIES:Team Member Onboarding
ORGANIZER;CN="RPOA":MAILTO:amanda@insuranceroleplay.com
END:VEVENT
BEGIN:VEVENT
DTSTART;TZID=America/New_York:20230426T130000
DTEND;TZID=America/New_York:20230426T133000
DTSTAMP:20260419T221750
CREATED:20230130T193417Z
LAST-MODIFIED:20230403T183659Z
UID:2635-1682514000-1682515800@rpoacal.external.pixelpopmarketing.com
SUMMARY:Team Member Onboarding Session
DESCRIPTION:Welcome to the RPOA Family! This onboarding is specifically for team members. \nHere’s what you can expect:\n– A brief intro to the company and how the program works\n– A virtual walk through of the platform and our online library\n– Best practices for faster results\n– Answer any questions you might have about RPOA \n***INTERACTIVE MEETING-PLEASE COME WITH YOUR VIDEO AND AUDIO ON***
URL:https://rpoacal.external.pixelpopmarketing.com/event/team-member-onboarding-session-duplicate-1-115/
CATEGORIES:Team Member Onboarding
ORGANIZER;CN="RPOA":MAILTO:amanda@insuranceroleplay.com
END:VEVENT
BEGIN:VEVENT
DTSTART;TZID=America/New_York:20230427T130000
DTEND;TZID=America/New_York:20230427T133000
DTSTAMP:20260419T221750
CREATED:20230130T193439Z
LAST-MODIFIED:20230403T183659Z
UID:2637-1682600400-1682602200@rpoacal.external.pixelpopmarketing.com
SUMMARY:Team Member Onboarding Session
DESCRIPTION:Welcome to the RPOA Family! This onboarding is specifically for team members. \nHere’s what you can expect:\n– A brief intro to the company and how the program works\n– A virtual walk through of the platform and our online library\n– Best practices for faster results\n– Answer any questions you might have about RPOA \n***INTERACTIVE MEETING-PLEASE COME WITH YOUR VIDEO AND AUDIO ON***
URL:https://rpoacal.external.pixelpopmarketing.com/event/team-member-onboarding-session-duplicate-1-116/
CATEGORIES:Team Member Onboarding
ORGANIZER;CN="RPOA":MAILTO:amanda@insuranceroleplay.com
END:VEVENT
BEGIN:VEVENT
DTSTART;TZID=America/New_York:20230428T130000
DTEND;TZID=America/New_York:20230428T133000
DTSTAMP:20260419T221750
CREATED:20230130T193459Z
LAST-MODIFIED:20230403T183659Z
UID:2639-1682686800-1682688600@rpoacal.external.pixelpopmarketing.com
SUMMARY:Team Member Onboarding Session
DESCRIPTION:Welcome to the RPOA Family! This onboarding is specifically for team members. \nHere’s what you can expect:\n– A brief intro to the company and how the program works\n– A virtual walk through of the platform and our online library\n– Best practices for faster results\n– Answer any questions you might have about RPOA \n***INTERACTIVE MEETING-PLEASE COME WITH YOUR VIDEO AND AUDIO ON***
URL:https://rpoacal.external.pixelpopmarketing.com/event/team-member-onboarding-session-duplicate-1-117/
CATEGORIES:Team Member Onboarding
ORGANIZER;CN="RPOA":MAILTO:amanda@insuranceroleplay.com
END:VEVENT
END:VCALENDAR