BEGIN:VCALENDAR
VERSION:2.0
PRODID:-//RPOA Events Calendar - ECPv6.1.3//NONSGML v1.0//EN
CALSCALE:GREGORIAN
METHOD:PUBLISH
X-WR-CALNAME:RPOA Events Calendar
X-ORIGINAL-URL:https://rpoacal.external.pixelpopmarketing.com
X-WR-CALDESC:Events for RPOA Events Calendar
REFRESH-INTERVAL;VALUE=DURATION:PT1H
X-Robots-Tag:noindex
X-PUBLISHED-TTL:PT1H
BEGIN:VTIMEZONE
TZID:America/New_York
BEGIN:DAYLIGHT
TZOFFSETFROM:-0500
TZOFFSETTO:-0400
TZNAME:EDT
DTSTART:20220313T070000
END:DAYLIGHT
BEGIN:STANDARD
TZOFFSETFROM:-0400
TZOFFSETTO:-0500
TZNAME:EST
DTSTART:20221106T060000
END:STANDARD
END:VTIMEZONE
BEGIN:VEVENT
DTSTART;TZID=America/New_York:20220412T120000
DTEND;TZID=America/New_York:20220412T123000
DTSTAMP:20260421T053915
CREATED:20220401T193006Z
LAST-MODIFIED:20220401T193006Z
UID:1409-1649764800-1649766600@rpoacal.external.pixelpopmarketing.com
SUMMARY:RPOA Onboarding Session
DESCRIPTION:Welcome to the RPOA Family! \nHere’s what you can expect:\n– A brief intro to the company and how the program works\n– A virtual walk through of the platform and our online library\n– Best practices for faster results
URL:https://rpoacal.external.pixelpopmarketing.com/event/rpoa-onboarding-session-duplicate-1-126/
ORGANIZER;CN="RPOA":MAILTO:amanda@insuranceroleplay.com
END:VEVENT
BEGIN:VEVENT
DTSTART;TZID=America/New_York:20220412T150000
DTEND;TZID=America/New_York:20220412T153000
DTSTAMP:20260421T053915
CREATED:20220310T234623Z
LAST-MODIFIED:20220411T200109Z
UID:1388-1649775600-1649777400@rpoacal.external.pixelpopmarketing.com
SUMMARY:Live Role Play Webinar-The Do’s and Don’ts of presenting price!!
DESCRIPTION:Presenting price is the grand finale of the sales process and one that most people fear because we aren’t sure the prospect is going to buy until they say “yes” to the price. This week we will learn what to do and what not to do when presenting price at the end of the coverage conversation. If you use what we talk about in this episode\, your confidence in presenting price will increase as well as your close ratio.
URL:https://rpoacal.external.pixelpopmarketing.com/event/live-role-play-webinar-producer-panel-to-be-voted-on-duplicate-1-4/
ORGANIZER;CN="RPOA":MAILTO:amanda@insuranceroleplay.com
END:VEVENT
BEGIN:VEVENT
DTSTART;TZID=America/New_York:20220412T163000
DTEND;TZID=America/New_York:20220412T173000
DTSTAMP:20260421T053915
CREATED:20220310T234845Z
LAST-MODIFIED:20220310T234845Z
UID:1392-1649781000-1649784600@rpoacal.external.pixelpopmarketing.com
SUMMARY:Live Q & A Zoom Session for Agency Owners & Sales Managers
DESCRIPTION:RPOA gets emails and calls every day asking about the setup of our team\, which leads we work\, incentives\, promos\, hiring\, onboarding\, training\, coaching\, vendors\, the list goes on.  We absolutely love fielding these\, and are now going to be doing so in a live setting for agency owners where you can come on every week and ask whatever is on your mind! \nThese sessions will be every Tuesday after our regular show from 4:30-5:30 EST\, and will be open to all owners and managers. There will be no structured format to these virtual get togethers. Jeremy and Kristin will simply be on and ready to field any questions you may have.  This is YOUR time\, so whether you decide to come every week\, a couple of times a month\, or just when you have something you want to ask\, it’s all up to you! \n***Please email amanda@insuranceroleplay.com if you still need this private link
URL:https://rpoacal.external.pixelpopmarketing.com/event/live-q-a-zoom-session-for-agency-owners-sales-managers-duplicate-1-13/
ORGANIZER;CN="RPOA":MAILTO:amanda@insuranceroleplay.com
END:VEVENT
END:VCALENDAR