BEGIN:VCALENDAR
VERSION:2.0
PRODID:-//RPOA Events Calendar - ECPv6.1.3//NONSGML v1.0//EN
CALSCALE:GREGORIAN
METHOD:PUBLISH
X-WR-CALNAME:RPOA Events Calendar
X-ORIGINAL-URL:https://rpoacal.external.pixelpopmarketing.com
X-WR-CALDESC:Events for RPOA Events Calendar
REFRESH-INTERVAL;VALUE=DURATION:PT1H
X-Robots-Tag:noindex
X-PUBLISHED-TTL:PT1H
BEGIN:VTIMEZONE
TZID:America/New_York
BEGIN:DAYLIGHT
TZOFFSETFROM:-0500
TZOFFSETTO:-0400
TZNAME:EDT
DTSTART:20220313T070000
END:DAYLIGHT
BEGIN:STANDARD
TZOFFSETFROM:-0400
TZOFFSETTO:-0500
TZNAME:EST
DTSTART:20221106T060000
END:STANDARD
END:VTIMEZONE
BEGIN:VEVENT
DTSTART;TZID=America/New_York:20220407T120000
DTEND;TZID=America/New_York:20220407T123000
DTSTAMP:20260421T070529
CREATED:20220401T193204Z
LAST-MODIFIED:20220401T193204Z
UID:1417-1649332800-1649334600@rpoacal.external.pixelpopmarketing.com
SUMMARY:RPOA Onboarding Session
DESCRIPTION:Welcome to the RPOA Family! \nHere’s what you can expect:\n– A brief intro to the company and how the program works\n– A virtual walk through of the platform and our online library\n– Best practices for faster results
URL:https://rpoacal.external.pixelpopmarketing.com/event/rpoa-onboarding-session-duplicate-1-139/
ORGANIZER;CN="RPOA":MAILTO:amanda@insuranceroleplay.com
END:VEVENT
BEGIN:VEVENT
DTSTART;TZID=America/New_York:20220407T120000
DTEND;TZID=America/New_York:20220407T170000
DTSTAMP:20260421T070529
CREATED:20220310T202626Z
LAST-MODIFIED:20220310T202626Z
UID:1373-1649332800-1649350800@rpoacal.external.pixelpopmarketing.com
SUMMARY:Inside Sales Mastery with RDCR-2 Day LIVE Workshop
DESCRIPTION:In this LIVE VIRTUAL WORKSHOP\, your will learn how to use our proven RDCR sales process while working with current customers. Your will learn the art of being able to transition everyday service calls into sales. Looking at every customer call as an opportunity to leave them better protected can be a game changer when it comes to your sales results! \n\n\n\n*Learn how to transition an everyday service call into a sales call\n*Memorize a proven process for explaining discounts and coverage clearly and concisely\n*Understand how to increase retention by giving the customer a world-class experience\n*Master a process that you can use every time to gain buy in and make cross-selling fun and effortless\n*Be excited to get on the phones and increase their sales and service\n\n12am-5pm EST/9am-2pm PST \nAttendees: Please check your email for pre-work and private Zoom link for this workshop. Thanks!
URL:https://rpoacal.external.pixelpopmarketing.com/event/inside-sales-mastery-with-rdcr-2-day-live-workshop-duplicate-1-duplicate-1/
ORGANIZER;CN="RPOA":MAILTO:amanda@insuranceroleplay.com
END:VEVENT
END:VCALENDAR