BEGIN:VCALENDAR
VERSION:2.0
PRODID:-//RPOA Events Calendar - ECPv6.1.3//NONSGML v1.0//EN
CALSCALE:GREGORIAN
METHOD:PUBLISH
X-ORIGINAL-URL:https://rpoacal.external.pixelpopmarketing.com
X-WR-CALDESC:Events for RPOA Events Calendar
REFRESH-INTERVAL;VALUE=DURATION:PT1H
X-Robots-Tag:noindex
X-PUBLISHED-TTL:PT1H
BEGIN:VTIMEZONE
TZID:America/New_York
BEGIN:DAYLIGHT
TZOFFSETFROM:-0500
TZOFFSETTO:-0400
TZNAME:EDT
DTSTART:20220313T070000
END:DAYLIGHT
BEGIN:STANDARD
TZOFFSETFROM:-0400
TZOFFSETTO:-0500
TZNAME:EST
DTSTART:20221106T060000
END:STANDARD
END:VTIMEZONE
BEGIN:VEVENT
DTSTART;TZID=America/New_York:20220329T120000
DTEND;TZID=America/New_York:20220329T123000
DTSTAMP:20260421T042031
CREATED:20220307T185400Z
LAST-MODIFIED:20220307T185400Z
UID:1352-1648555200-1648557000@rpoacal.external.pixelpopmarketing.com
SUMMARY:RPOA Onboarding Session
DESCRIPTION:Welcome to the RPOA Family! \nHere’s what you can expect:\n– A brief intro to the company and how the program works\n– A virtual walk through of the platform and our online library\n– Best practices for faster results
URL:https://rpoacal.external.pixelpopmarketing.com/event/rpoa-onboarding-session-duplicate-1-132/
ORGANIZER;CN="RPOA":MAILTO:amanda@insuranceroleplay.com
END:VEVENT
BEGIN:VEVENT
DTSTART;TZID=America/New_York:20220329T150000
DTEND;TZID=America/New_York:20220329T153000
DTSTAMP:20260421T042031
CREATED:20220304T175237Z
LAST-MODIFIED:20220328T214507Z
UID:1319-1648566000-1648567800@rpoacal.external.pixelpopmarketing.com
SUMMARY:Live Role Play Webinar-Daily habits that will turn your job into a career!!
DESCRIPTION:The reason why one sales producer succeeds in this business and why one doesn’t can often be found in their daily habits – the little things that they focus on doing every single day.  This week we are going to focus on some of the habits that we have seen payoff for top producers that we have worked with in our agency\, and also in other agencies that we have heard from over the years.  Join us on Tuesday to learn some very specific habits that you can implement and that are sure to take your sales to another level!!
URL:https://rpoacal.external.pixelpopmarketing.com/event/live-role-play-webinar-producer-panel-to-be-voted-on-duplicate-1-2/
ORGANIZER;CN="RPOA":MAILTO:amanda@insuranceroleplay.com
END:VEVENT
BEGIN:VEVENT
DTSTART;TZID=America/New_York:20220329T163000
DTEND;TZID=America/New_York:20220329T173000
DTSTAMP:20260421T042031
CREATED:20220304T175821Z
LAST-MODIFIED:20220304T175821Z
UID:1335-1648571400-1648575000@rpoacal.external.pixelpopmarketing.com
SUMMARY:Live Q & A Zoom Session for Agency Owners & Sales Managers
DESCRIPTION:RPOA gets emails and calls every day asking about the setup of our team\, which leads we work\, incentives\, promos\, hiring\, onboarding\, training\, coaching\, vendors\, the list goes on.  We absolutely love fielding these\, and are now going to be doing so in a live setting for agency owners where you can come on every week and ask whatever is on your mind! \nThese sessions will be every Tuesday after our regular show from 4:30-5:30 EST\, and will be open to all owners and managers. There will be no structured format to these virtual get togethers. Jeremy and Kristin will simply be on and ready to field any questions you may have.  This is YOUR time\, so whether you decide to come every week\, a couple of times a month\, or just when you have something you want to ask\, it’s all up to you! \n***Please email amanda@insuranceroleplay.com if you still need this private link
URL:https://rpoacal.external.pixelpopmarketing.com/event/live-q-a-zoom-session-for-agency-owners-sales-managers-duplicate-1-11/
ORGANIZER;CN="RPOA":MAILTO:amanda@insuranceroleplay.com
END:VEVENT
END:VCALENDAR