BEGIN:VCALENDAR
VERSION:2.0
PRODID:-//RPOA Events Calendar - ECPv6.1.3//NONSGML v1.0//EN
CALSCALE:GREGORIAN
METHOD:PUBLISH
X-WR-CALNAME:RPOA Events Calendar
X-ORIGINAL-URL:https://rpoacal.external.pixelpopmarketing.com
X-WR-CALDESC:Events for RPOA Events Calendar
REFRESH-INTERVAL;VALUE=DURATION:PT1H
X-Robots-Tag:noindex
X-PUBLISHED-TTL:PT1H
BEGIN:VTIMEZONE
TZID:America/New_York
BEGIN:DAYLIGHT
TZOFFSETFROM:-0500
TZOFFSETTO:-0400
TZNAME:EDT
DTSTART:20220313T070000
END:DAYLIGHT
BEGIN:STANDARD
TZOFFSETFROM:-0400
TZOFFSETTO:-0500
TZNAME:EST
DTSTART:20221106T060000
END:STANDARD
END:VTIMEZONE
BEGIN:VEVENT
DTSTART;TZID=America/New_York:20220302T120000
DTEND;TZID=America/New_York:20220302T123000
DTSTAMP:20260421T070528
CREATED:20220209T231801Z
LAST-MODIFIED:20220209T231801Z
UID:1304-1646222400-1646224200@rpoacal.external.pixelpopmarketing.com
SUMMARY:RPOA Onboarding Session
DESCRIPTION:Welcome to the RPOA Family! \nHere’s what you can expect:\n– A brief intro to the company and how the program works\n– A virtual walk through of the platform and our online library\n– Best practices for faster results
URL:https://rpoacal.external.pixelpopmarketing.com/event/rpoa-onboarding-session-duplicate-1-125/
ORGANIZER;CN="RPOA":MAILTO:amanda@insuranceroleplay.com
END:VEVENT
BEGIN:VEVENT
DTSTART;TZID=America/New_York:20220302T150000
DTEND;TZID=America/New_York:20220302T160000
DTSTAMP:20260421T070528
CREATED:20220209T180200Z
LAST-MODIFIED:20220209T180200Z
UID:1298-1646233200-1646236800@rpoacal.external.pixelpopmarketing.com
SUMMARY:Guest Speaker Series-Dean Mannix-High Performance - Taking Control of Your Motivation
DESCRIPTION:We all know sales is a mind game\, but very few of us have been taught how to play it! \nDean Mannix has been teaching high performance mindset for salespeople for over 25 years. \nHe offers a unique set of strategies for taking control mentally and emotionally in any situation. \nHis experience and personal struggles as a salesperson are a reminder that it’s not about how hard we get hit\, it really is all about our ability to bounce back up! \nYou’ll be provided with some amazing tools on how to stay on top\, no matter what’s happening and in particular… \n-Understanding how we construct our “sales reality” and the impact this has on motivation \n-Learn about destructive mental and emotional habits and how to remove them \n-Understand how to take control of your reality and mental state in an instant \nThis is an insanely energizing and uplifting session our team has been through and we REALLY want to share it with all of you.
URL:https://rpoacal.external.pixelpopmarketing.com/event/guest-speaker-series-dean-mannix-high-performance-taking-control-of-your-motivation/
END:VEVENT
END:VCALENDAR