BEGIN:VCALENDAR
VERSION:2.0
PRODID:-//RPOA Events Calendar - ECPv6.1.3//NONSGML v1.0//EN
CALSCALE:GREGORIAN
METHOD:PUBLISH
X-ORIGINAL-URL:https://rpoacal.external.pixelpopmarketing.com
X-WR-CALDESC:Events for RPOA Events Calendar
REFRESH-INTERVAL;VALUE=DURATION:PT1H
X-Robots-Tag:noindex
X-PUBLISHED-TTL:PT1H
BEGIN:VTIMEZONE
TZID:America/New_York
BEGIN:DAYLIGHT
TZOFFSETFROM:-0500
TZOFFSETTO:-0400
TZNAME:EDT
DTSTART:20220313T070000
END:DAYLIGHT
BEGIN:STANDARD
TZOFFSETFROM:-0400
TZOFFSETTO:-0500
TZNAME:EST
DTSTART:20221106T060000
END:STANDARD
END:VTIMEZONE
BEGIN:VEVENT
DTSTART;TZID=America/New_York:20220222T120000
DTEND;TZID=America/New_York:20220222T123000
DTSTAMP:20260421T082744
CREATED:20220208T020411Z
LAST-MODIFIED:20220208T020411Z
UID:1283-1645531200-1645533000@rpoacal.external.pixelpopmarketing.com
SUMMARY:RPOA Onboarding Session
DESCRIPTION:Welcome to the RPOA Family! \nHere’s what you can expect:\n– A brief intro to the company and how the program works\n– A virtual walk through of the platform and our online library\n– Best practices for faster results
URL:https://rpoacal.external.pixelpopmarketing.com/event/rpoa-onboarding-session-duplicate-1-120/
ORGANIZER;CN="RPOA":MAILTO:amanda@insuranceroleplay.com
END:VEVENT
BEGIN:VEVENT
DTSTART;TZID=America/New_York:20220222T150000
DTEND;TZID=America/New_York:20220222T153000
DTSTAMP:20260421T082744
CREATED:20220202T003136Z
LAST-MODIFIED:20220221T194117Z
UID:1242-1645542000-1645543800@rpoacal.external.pixelpopmarketing.com
SUMMARY:Live Role Play Webinar-Making monoline calls that get results!!
DESCRIPTION:One of the most popular “lists” that we all like to work\, monolines are a great way to increase our sales\, our retention\, and our customer satisfaction! This week we will talk about how to open these calls with a proven strategy that leaves the customer better informed and ready to buy!  Join us this Tuesday and learn how to be more effective at turning our monoline customers into multi-line customers!
URL:https://rpoacal.external.pixelpopmarketing.com/event/live-role-play-webinar-the-3-yes-close-duplicate-1-duplicate-1/
ORGANIZER;CN="RPOA":MAILTO:amanda@insuranceroleplay.com
END:VEVENT
BEGIN:VEVENT
DTSTART;TZID=America/New_York:20220222T163000
DTEND;TZID=America/New_York:20220222T173000
DTSTAMP:20260421T082744
CREATED:20220202T002925Z
LAST-MODIFIED:20220202T002925Z
UID:1237-1645547400-1645551000@rpoacal.external.pixelpopmarketing.com
SUMMARY:Live Q & A Zoom Session for Agency Owners & Sales Managers
DESCRIPTION:RPOA gets emails and calls every day asking about the setup of our team\, which leads we work\, incentives\, promos\, hiring\, onboarding\, training\, coaching\, vendors\, the list goes on.  We absolutely love fielding these\, and are now going to be doing so in a live setting for agency owners where you can come on every week and ask whatever is on your mind! \nThese sessions will be every Tuesday after our regular show from 4:30-5:30 EST\, and will be open to all owners and managers. There will be no structured format to these virtual get togethers. Jeremy and Kristin will simply be on and ready to field any questions you may have.  This is YOUR time\, so whether you decide to come every week\, a couple of times a month\, or just when you have something you want to ask\, it’s all up to you! \n***Please email amanda@insuranceroleplay.com if you still need this private link
URL:https://rpoacal.external.pixelpopmarketing.com/event/live-q-a-zoom-session-for-agency-owners-sales-managers-duplicate-1-7/
ORGANIZER;CN="RPOA":MAILTO:amanda@insuranceroleplay.com
END:VEVENT
END:VCALENDAR