BEGIN:VCALENDAR
VERSION:2.0
PRODID:-//RPOA Events Calendar - ECPv6.1.3//NONSGML v1.0//EN
CALSCALE:GREGORIAN
METHOD:PUBLISH
X-ORIGINAL-URL:https://rpoacal.external.pixelpopmarketing.com
X-WR-CALDESC:Events for RPOA Events Calendar
REFRESH-INTERVAL;VALUE=DURATION:PT1H
X-Robots-Tag:noindex
X-PUBLISHED-TTL:PT1H
BEGIN:VTIMEZONE
TZID:America/New_York
BEGIN:DAYLIGHT
TZOFFSETFROM:-0500
TZOFFSETTO:-0400
TZNAME:EDT
DTSTART:20220313T070000
END:DAYLIGHT
BEGIN:STANDARD
TZOFFSETFROM:-0400
TZOFFSETTO:-0500
TZNAME:EST
DTSTART:20221106T060000
END:STANDARD
END:VTIMEZONE
BEGIN:VEVENT
DTSTART;TZID=America/New_York:20220210T110000
DTEND;TZID=America/New_York:20220210T120000
DTSTAMP:20260421T082745
CREATED:20220204T010403Z
LAST-MODIFIED:20220204T014235Z
UID:1277-1644490800-1644494400@rpoacal.external.pixelpopmarketing.com
SUMMARY:Everquote BIND 2022
DESCRIPTION:BIND 2022 kicks off at 11:00 AM Eastern (10:00 AM Central / 8:00 AM Pacific) with Role Play at the Olson Agency and their special presentation “From Hello to Bind\,” which takes us step-by-step through an entire sales call with a lead\, focusing on talk paths that you can use to take the conversation from “Hello” to a bound policy.
URL:https://rpoacal.external.pixelpopmarketing.com/event/everquote-bind-2022/
END:VEVENT
BEGIN:VEVENT
DTSTART;TZID=America/New_York:20220210T120000
DTEND;TZID=America/New_York:20220210T123000
DTSTAMP:20260421T082745
CREATED:20220204T005525Z
LAST-MODIFIED:20220204T005525Z
UID:1268-1644494400-1644496200@rpoacal.external.pixelpopmarketing.com
SUMMARY:RPOA Onboarding Session
DESCRIPTION:Welcome to the RPOA Family! \nHere’s what you can expect:\n– A brief intro to the company and how the program works\n– A virtual walk through of the platform and our online library\n– Best practices for faster results
URL:https://rpoacal.external.pixelpopmarketing.com/event/rpoa-onboarding-session-duplicate-1-118/
ORGANIZER;CN="RPOA":MAILTO:amanda@insuranceroleplay.com
END:VEVENT
END:VCALENDAR