BEGIN:VCALENDAR
VERSION:2.0
PRODID:-//RPOA Events Calendar - ECPv6.1.3//NONSGML v1.0//EN
CALSCALE:GREGORIAN
METHOD:PUBLISH
X-WR-CALNAME:RPOA Events Calendar
X-ORIGINAL-URL:https://rpoacal.external.pixelpopmarketing.com
X-WR-CALDESC:Events for RPOA Events Calendar
REFRESH-INTERVAL;VALUE=DURATION:PT1H
X-Robots-Tag:noindex
X-PUBLISHED-TTL:PT1H
BEGIN:VTIMEZONE
TZID:America/New_York
BEGIN:DAYLIGHT
TZOFFSETFROM:-0500
TZOFFSETTO:-0400
TZNAME:EDT
DTSTART:20210314T070000
END:DAYLIGHT
BEGIN:STANDARD
TZOFFSETFROM:-0400
TZOFFSETTO:-0500
TZNAME:EST
DTSTART:20211107T060000
END:STANDARD
END:VTIMEZONE
BEGIN:VEVENT
DTSTART;TZID=America/New_York:20211103T120000
DTEND;TZID=America/New_York:20211103T123000
DTSTAMP:20260421T130257
CREATED:20211031T005536Z
LAST-MODIFIED:20211031T005536Z
UID:913-1635940800-1635942600@rpoacal.external.pixelpopmarketing.com
SUMMARY:RPOA Onboarding Session
DESCRIPTION:Welcome to the RPOA Family! \nHere’s what you can expect:\n– A brief intro to the company and how the program works\n– A virtual walk through of the platform and our online library\n– Best practices for faster results
URL:https://rpoacal.external.pixelpopmarketing.com/event/rpoa-onboarding-session-duplicate-1-49/
ORGANIZER;CN="RPOA":MAILTO:amanda@insuranceroleplay.com
END:VEVENT
BEGIN:VEVENT
DTSTART;TZID=America/New_York:20211103T120000
DTEND;TZID=America/New_York:20211103T123000
DTSTAMP:20260421T130257
CREATED:20211031T034050Z
LAST-MODIFIED:20211031T034050Z
UID:981-1635940800-1635942600@rpoacal.external.pixelpopmarketing.com
SUMMARY:RPOA 101 Demo
DESCRIPTION:We’ll quickly walk through everything that RPOA includes and show you how it has been able to have such an impact in not only our own agencies\, but in hundreds of agencies across the country. This is a great place to ask any questions you may have and get details on how to sign up. \nCopy and paste this link into your browser to sign up for a Zoom demo today! \nhttps://insuranceroleplay.zoom.us/meeting/register/tJAod-Corz8sGdWaNrmWyt47tvMZ7teSNRIu
URL:https://rpoacal.external.pixelpopmarketing.com/event/rpoa-101-demo-duplicate-1-29/
ORGANIZER;CN="RPOA":MAILTO:amanda@insuranceroleplay.com
END:VEVENT
BEGIN:VEVENT
DTSTART;TZID=America/New_York:20211103T150000
DTEND;TZID=America/New_York:20211103T160000
DTSTAMP:20260421T130257
CREATED:20211011T155631Z
LAST-MODIFIED:20211011T155631Z
UID:869-1635951600-1635955200@rpoacal.external.pixelpopmarketing.com
SUMMARY:Guest Speaker Joe Hart-President & CEO of Dale Carnegie talks leadership
DESCRIPTION:We’re so excited to announce that we have the President and CEO of Dale Carnegie Training presenting to our group this month. Joe Hart will talk about Leadership Strategies to Keep Your Culture Strong and Team Engaged. This webinar will be open to Agency Owners and Managers. Joe will help us uncover our potential leadership blind spots\, build a culture of trust and transparency and develop resilience through tough times. Don’t miss this opportunity to hear from a leader in a company that has stayed relevant for over 100 years! Click the meeting link below to register!
URL:https://rpoacal.external.pixelpopmarketing.com/event/guest-speaker-joe-hart-president-ceo-of-dale-carnegie-talks-leadership/
ORGANIZER;CN="RPOA":MAILTO:amanda@insuranceroleplay.com
END:VEVENT
END:VCALENDAR