BEGIN:VCALENDAR
VERSION:2.0
PRODID:-//RPOA Events Calendar - ECPv6.1.3//NONSGML v1.0//EN
CALSCALE:GREGORIAN
METHOD:PUBLISH
X-ORIGINAL-URL:https://rpoacal.external.pixelpopmarketing.com
X-WR-CALDESC:Events for RPOA Events Calendar
REFRESH-INTERVAL;VALUE=DURATION:PT1H
X-Robots-Tag:noindex
X-PUBLISHED-TTL:PT1H
BEGIN:VTIMEZONE
TZID:America/New_York
BEGIN:DAYLIGHT
TZOFFSETFROM:-0500
TZOFFSETTO:-0400
TZNAME:EDT
DTSTART:20210314T070000
END:DAYLIGHT
BEGIN:STANDARD
TZOFFSETFROM:-0400
TZOFFSETTO:-0500
TZNAME:EST
DTSTART:20211107T060000
END:STANDARD
END:VTIMEZONE
BEGIN:VEVENT
DTSTART;TZID=America/New_York:20210826T120000
DTEND;TZID=America/New_York:20210826T123000
DTSTAMP:20260421T174900
CREATED:20210812T165721Z
LAST-MODIFIED:20210812T165721Z
UID:656-1629979200-1629981000@rpoacal.external.pixelpopmarketing.com
SUMMARY:RPOA Onboarding Session
DESCRIPTION:Welcome to the RPOA Family! \nHere’s what you can expect:\n– A brief intro to the company and how the program works\n– A virtual walk through of the platform and our online library\n– Best practices for faster results
URL:https://rpoacal.external.pixelpopmarketing.com/event/rpoa-onboarding-session-duplicate-1-14/
ORGANIZER;CN="RPOA":MAILTO:amanda@insuranceroleplay.com
END:VEVENT
BEGIN:VEVENT
DTSTART;TZID=America/New_York:20210826T130000
DTEND;TZID=America/New_York:20210826T133000
DTSTAMP:20260421T174900
CREATED:20210812T165857Z
LAST-MODIFIED:20210812T165857Z
UID:658-1629982800-1629984600@rpoacal.external.pixelpopmarketing.com
SUMMARY:RPOA 101 Demo
DESCRIPTION:We’ll quickly walk through everything that RPOA includes and show you how it has been able to have such an impact in not only our own agencies\, but in hundreds of agencies across the country. This is a great place to ask any questions you may have and get details on how to sign up. \nCopy and paste this link into your browser to sign up for a Zoom demo today! \nhttps://insuranceroleplay.zoom.us/meeting/register/tJEtde2hrzwuGNwHxvy6qcCkJIOqX7AJCG49
URL:https://rpoacal.external.pixelpopmarketing.com/event/rpoa-101-demo-duplicate-1/
ORGANIZER;CN="RPOA":MAILTO:amanda@insuranceroleplay.com
END:VEVENT
BEGIN:VEVENT
DTSTART;TZID=America/New_York:20210826T150000
DTEND;TZID=America/New_York:20210826T160000
DTSTAMP:20260421T174900
CREATED:20210809T203825Z
LAST-MODIFIED:20210825T175522Z
UID:634-1629990000-1629993600@rpoacal.external.pixelpopmarketing.com
SUMMARY:Guest Speaker Series-Dan Mannix-Overcoming Life Objections
DESCRIPTION:We are excited to welcome back one of our most popular guest speakers yet\, Dean Mannix! \nDean will be returning to focus on overcoming life objections – perfect timing as we move into Life Insurance Awareness Month! Dean is the #1 International Best-Selling Author of Protect and Provide as well as CEO and co-founder of SalesITV. \nDean mixes a unique blend of sales experience\, psychology and motivational theory to help organizations grow sales. He is known by his clients for pushing leaders and teams to strategically and relentlessly chase new business and grow existing clients. \nYou will not want to miss our special guest Dean Mannix if you are looking to get results in not only life leads but overall effectiveness!!
URL:https://rpoacal.external.pixelpopmarketing.com/event/guest-speaker-series-dan-mannix-overcoming-life-objections/
ORGANIZER;CN="RPOA":MAILTO:amanda@insuranceroleplay.com
END:VEVENT
END:VCALENDAR