BEGIN:VCALENDAR
VERSION:2.0
PRODID:-//RPOA Events Calendar - ECPv6.1.3//NONSGML v1.0//EN
CALSCALE:GREGORIAN
METHOD:PUBLISH
X-WR-CALNAME:RPOA Events Calendar
X-ORIGINAL-URL:https://rpoacal.external.pixelpopmarketing.com
X-WR-CALDESC:Events for RPOA Events Calendar
REFRESH-INTERVAL;VALUE=DURATION:PT1H
X-Robots-Tag:noindex
X-PUBLISHED-TTL:PT1H
BEGIN:VTIMEZONE
TZID:America/New_York
BEGIN:DAYLIGHT
TZOFFSETFROM:-0500
TZOFFSETTO:-0400
TZNAME:EDT
DTSTART:20210314T070000
END:DAYLIGHT
BEGIN:STANDARD
TZOFFSETFROM:-0400
TZOFFSETTO:-0500
TZNAME:EST
DTSTART:20211107T060000
END:STANDARD
END:VTIMEZONE
BEGIN:VEVENT
DTSTART;TZID=America/New_York:20210429T150000
DTEND;TZID=America/New_York:20210429T163000
DTSTAMP:20260421T235014
CREATED:20210413T181923Z
LAST-MODIFIED:20210421T002128Z
UID:256-1619708400-1619713800@rpoacal.external.pixelpopmarketing.com
SUMMARY:"How to Train RDCR" BONUS Session
DESCRIPTION:Join us for this bonus session as part of the management class. So many people ask\, “how can I get my team to memorize RDCR?” In this 1 1/2 hour session Kristin will give her tips and tricks to get excited to learn and memorize RDCR and the Flow of the Auto Quote. \n**Please reach out to Amanda at amanda@insuranceroleplay.com for the private link to this session.
URL:https://rpoacal.external.pixelpopmarketing.com/event/how-to-train-rdcr-bonus-session/
ORGANIZER;CN="RPOA":MAILTO:amanda@insuranceroleplay.com
END:VEVENT
END:VCALENDAR