BEGIN:VCALENDAR
VERSION:2.0
PRODID:-//RPOA Events Calendar - ECPv6.1.3//NONSGML v1.0//EN
CALSCALE:GREGORIAN
METHOD:PUBLISH
X-WR-CALNAME:RPOA Events Calendar
X-ORIGINAL-URL:https://rpoacal.external.pixelpopmarketing.com
X-WR-CALDESC:Events for RPOA Events Calendar
REFRESH-INTERVAL;VALUE=DURATION:PT1H
X-Robots-Tag:noindex
X-PUBLISHED-TTL:PT1H
BEGIN:VTIMEZONE
TZID:America/New_York
BEGIN:DAYLIGHT
TZOFFSETFROM:-0500
TZOFFSETTO:-0400
TZNAME:EDT
DTSTART:20210314T070000
END:DAYLIGHT
BEGIN:STANDARD
TZOFFSETFROM:-0400
TZOFFSETTO:-0500
TZNAME:EST
DTSTART:20211107T060000
END:STANDARD
END:VTIMEZONE
BEGIN:VEVENT
DTSTART;TZID=America/New_York:20210325T150000
DTEND;TZID=America/New_York:20210325T160000
DTSTAMP:20260422T035219
CREATED:20210310T205110Z
LAST-MODIFIED:20210310T215516Z
UID:189-1616684400-1616688000@rpoacal.external.pixelpopmarketing.com
SUMMARY:March Guest Speaker Series-Dean Mannix talks "The 'HOW TO' of life leads"
DESCRIPTION:Dean Mannix is recognized as one of Australia’s leading sales performance coaches with 30 years of legal\, finance\, sales and management experience. He advises\, coaches and trains senior executives from many of the world’s leading corporations. In this month’s Guest Speaker Series\, we are going to focus on Life Insurance\, which Dean specializes in training. Don’t forget to mark this day in your calendars and join us Thursday\, March 25th!
URL:https://rpoacal.external.pixelpopmarketing.com/event/march-guest-speaker-series-dean-mannix-talks-the-how-to-of-life-leads/
ORGANIZER;CN="RPOA":MAILTO:amanda@insuranceroleplay.com
END:VEVENT
END:VCALENDAR